{"text_format":"1","workbook":"xlsx","n_sheets":24,"sheets":["SUMMARY","COMMENTS","DATUM","DATUM DESC","ALIGNMENT","CONTROL","BENCHMARK","PROPERTY MONUMENTS","Sheet3","Sheet4","Sheet5","NEW","UTILITY","PROPERTY RESEARCH","RW","SCDS 5A","SCDS 5B","SCDS 5C","SCDS 5D","Blank_Data","SCDS 5A Blank","SCDS 5B Blank","SCDS 5C Blank","SCDS 5D Blank"],"not_rendered":{"charts":0,"images":1,"macros":1,"external_links":0,"defined_names":14,"comments":0,"pivot_tables":0},"unopened":[],"bounds":{"document_bytes":16777216,"sheet_cells":100000,"rows_first":2000,"rows_last":500,"rows_between":2000,"halvings":0,"cell_chars":16384,"cell_head_chars":4096},"cells_cut":0,"cells_raw":0,"read":"whole","date_system":"1900"}

{"sheet":"SUMMARY","index":0,"n_rows":28,"n_cols":15,"rows_kept":28,"cut":false,"hidden":false,"merged":[[22,4,22,5],[18,4,18,5],[20,4,20,5],[21,4,21,5],[0,0,0,8],[11,2,11,8],[12,2,12,8],[2,2,2,8],[9,2,9,3],[4,2,4,8],[5,2,5,8],[6,2,6,8],[7,2,7,8],[9,7,9,8],[17,14,19,16],[17,11,19,13],[21,11,23,13],[1,10,3,12],[25,11,26,16],[28,1,28,8],[29,1,29,8],[30,1,30,8],[31,1,31,8],[32,1,32,8],[33,1,33,8],[34,1,34,8],[35,1,35,8],[36,1,36,8],[37,1,37,8],[38,1,38,8],[39,1,39,8],[40,1,40,8],[41,1,41,8],[42,1,42,8],[48,1,48,8],[49,1,49,8],[50,1,50,8],[51,1,51,8],[43,1,43,8],[44,1,44,8],[45,1,45,8],[46,1,46,8],[47,1,47,8]]}
[{"$f":"C5&\"  Survey Notes\"","v":"  Survey Notes"}]
[null,null,null,null,null,null,null,null,null,null,"GREEN CELLS REQUIRE DATA ENTRY"]
["SURVEY GROUP:"]
[]
["ROAD/ROUTE:"]
["PIN / PRJ ID:",null,null,null,null,null,null,null,null,null,"Road/Route & PIN/PRJ ID - 33 characters or less"]
["CHARGE CODE:"]
["COUNTY:"]
[]
["SURVEY STARTED :",null,null,null,null,null,"SURVEY ENDED :",null,null,null,"Spreadsheet Password \"survey\""]
[]
["PARTY CHIEF:"]
["CHECKED BY:"]
["=================================================================="]
[null,null,null,"Y/N",null,null,"TAB"]
["PROJECT COMMENTS",null,null,"NO",null,null,"Comments"]
["DATUM REPORT",null,null,"NO",null,null,"Datum"]
["ALIGNMENT REPORT",null,null,"YES",null,null,"Alignment",null,null,null,null,"1. CREATE \".csv\" FILE REPORTS FROM COGO  2. IMPORT THEM USING THESE BUTTONS. (Imports only one file*)",null,null,"*COMBINE MULTIPLE \".csv\" FILES (multiple alignments) INTO ONE FILE TO IMPORT INTO SPREADSHEET"]
["CONTROL LIST",null,null,"YES","(Primary & Location Survey Control)",null,"Control"]
["BENCHMARK LIST",null,null,"YES",null,null,"Benchmark"]
["PROPERTY PIN LIST",null,null,"YES","Property Pins with station & offsets",null,"Property"]
["NEW FILE",null,null,"NO",".new file",null,"New"]
["PROPERTY DATA",null,null,"NO",null,null,"Research"]
["UTILITIES",null,null,"NO",null,null,"Utility"]
["R/W STATEMENT",null,null,"NO",null,null,"RW"]
[]
[]
["DATE",null,null,null,"REVISION NOTE"]

{"sheet":"COMMENTS","index":1,"n_rows":15,"n_cols":1,"rows_kept":15,"cut":false,"hidden":false,"merged":[[50,0,50,1],[51,0,51,1],[52,0,52,1],[44,0,44,1],[45,0,45,1],[46,0,46,1],[47,0,47,1],[48,0,48,1],[40,0,40,1],[41,0,41,1],[42,0,42,1],[43,0,43,1],[49,0,49,1],[35,0,35,1],[36,0,36,1],[37,0,37,1],[38,0,38,1],[39,0,39,1],[30,0,30,1],[31,0,31,1],[32,0,32,1],[33,0,33,1],[34,0,34,1],[25,0,25,1],[26,0,26,1],[27,0,27,1],[28,0,28,1],[29,0,29,1],[20,0,20,1],[21,0,21,1],[22,0,22,1],[23,0,23,1],[24,0,24,1],[15,0,15,1],[16,0,16,1],[17,0,17,1],[18,0,18,1],[19,0,19,1],[0,0,0,1],[14,0,14,1],[1,0,1,1],[2,0,2,1],[3,0,3,1],[4,0,4,1],[5,0,5,1]]}
[{"$f":"B6&\"  Surveyor Comments\"","v":"  Surveyor Comments"}]
[{"$f":"SUMMARY!A3&\"       \"&SUMMARY!C3","v":"SURVEY GROUP:       "}]
[{"$f":"SUMMARY!A5&\"       \"&SUMMARY!C5","v":"ROAD/ROUTE:       "}]
[{"$f":"SUMMARY!A6&\"       \"&SUMMARY!C6","v":"PIN / PRJ ID:       "}]
[{"$f":"SUMMARY!A7&\"       \"&SUMMARY!C7","v":"CHARGE CODE:       "}]
[{"$f":"SUMMARY!A8&\"       \"&SUMMARY!C8","v":"COUNTY:       "}]
[]
["NUMBER OF ALIGNMENTS:"]
["NUMBER OF OUTFALL ALIGNMENTS:"]
["NUMBER OF STREAM ALIGNMENTS:"]
["TOTAL ALIGNMENT LENGTH (SUM):"]
["TOTAL ALIGNMENT LENGTH SURVEYED:"]
[]
[]
["SURVEYOR COMMENTS OR KNOWN ISSUES"]

{"sheet":"DATUM","index":2,"n_rows":71,"n_cols":6,"rows_kept":71,"cut":false,"hidden":false,"merged":[[70,0,79,1],[0,0,0,1],[8,5,10,7],[1,0,1,1],[2,0,2,1],[4,0,4,1],[3,0,3,1],[5,0,5,1]]}
[{"$f":"B5&\"  Survey Datum\"","v":"  Survey Datum"},null,null,"X",{"$f":"INDEX(B29:B41,MATCH(D1,A29:A41,0))","v":"This GRID Coordinate System developed for this project is based on NAD83(2011)  South Carolina State Plane Coordinate System. A Combined Scale Factor (CSF) for each Survey Control Point must be computed and applied to horizontal ground distances. Elevations for this project are based on NAVD88 for  with an Elevation of 0.00"}]
[{"$f":"SUMMARY!A3&\"       \"&SUMMARY!C3","v":"SURVEY GROUP:       "}]
[{"$f":"SUMMARY!A5&\"       \"&SUMMARY!C5","v":"ROAD/ROUTE:       "}]
[{"$f":"SUMMARY!A6&\"       \"&SUMMARY!C6","v":"PIN / PRJ ID:       "}]
[{"$f":"SUMMARY!A7&\"       \"&SUMMARY!C7","v":"CHARGE CODE:       "}]
[{"$f":"SUMMARY!A8&\"       \"&SUMMARY!C8","v":"COUNTY:       "}]
["MONTH / YEAR CONTROL SET:"]
[]
["SCSP GRID DATUM:","x",null,null,null,"PLACE AN \"X\" BESIDE THE CORRECT DATUM"]
["SCSP LOCALIZED DATUM:",null,null,"PLACE \"X\" BY APPROPRIATE DATUM DESCRIPTOR"]
["ASSUMED DATUM:"]
[]
["DATUM & ADJUSTMENT:","NAD83(2011)"]
["LOCALIZATION POINT:"]
["NORTHING:"]
["EASTING:"]
["ELEV:"]
["CSF:"]
[]
["VERT DATUM:","NAVD88"]
["BENCHMARK REFERENCE:"]
["ELEVATION:"]
[]
[]
[]
[]
[]
[]
[{"$f":"IF(B9=\"X\",\"X\",\"\")","v":"X"},{"$f":"B44&B13&B45&B20&B46&B21&B47&TEXT(B22,\"0.00\")","v":"This GRID Coordinate System developed for this project is based on NAD83(2011)  South Carolina State Plane Coordinate System. A Combined Scale Factor (CSF) for each Survey Control Point must be computed and applied to horizontal ground distances. Elevations for this project are based on NAVD88 for  with an Elevation of 0.00"}]
[]
[{"$f":"IF(B10=\"X\",\"X\",\"\")","v":""},{"$f":"B49&B13&B50&B14&B51&TEXT(B15,\"0.0000\")&B52&TEXT(B16,\"0.0000\")&B53&TEXT(B18,\"0.00000000\")&B54&B20&B55&B21&B56&TEXT(B22,\"0.00\")","v":"The LOCALIZED Coordinate System developed for this project is based on NAD83(2011) South Carolina State Plane Coordinate System used to establish the Localization Point. The Localization Point is Primary Survey Control point number  with a Northing of 0.0000 and an Easting of 0.0000. The Combined Scale Factor (CSF) (ground to grid) is 0.00000000. Elevations for this project are based on NAVD88 for   with an elevation of 0.00"}]
[]
[{"$f":"IF(B11=\"X\",\"X\",\"\")","v":""},{"$f":"B58&B14&B59&TEXT(B15,\"0.0000\")&B60&TEXT(B16,\"0.0000\")&B61&B20&B62&B21&B63&TEXT(B22,\"0.00\")","v":"This ASSUMED Coordinate System developed for this project is based on a Primary Survey Control point number  with a false Northing of 0.0000 and a false Easting of 0.0000. Elevations for this project are based on NAVD88 for   with an elevation of 0.00"}]
[]
[]
[]
[]
[]
[null,"This ASSUMED Coordinate System developed for this project is based on PRIMARY SURVEY CONTROL point number __ with a false Northing of 10,000.00 and a false Easting of 50,000.00. Elevations for this project are based on NAVD88 values for PROJECT BENCH MARK number __ with an elevation of 123.45’."]
[null,"-Or-"]
[null,"This ASSUMED Coordinate System developed for this project is based on PRIMARY SURVEY CONTORL point number __ with a false Northing of 10,000.00 and a false Easting of 50,000.00. Elevations for this project are based on ASSUMED values for PROJECT BENCH MARK number __ with an elevation of 123.45’."]
[]
[]
[null,"This GRID Coordinate System developed for this project is based on "]
[null,"  South Carolina State Plane Coordinate System. A Combined Scale Factor (CSF) for each Survey Control Point must be computed and applied to horizontal ground distances. Elevations for this project are based on "]
[null," for "]
[null," with an Elevation of "]
[]
[null,"The LOCALIZED Coordinate System developed for this project is based on "]
[null," South Carolina State Plane Coordinate System used to establish the Localization Point. The Localization Point is Primary Survey Control point number "]
[null," with a Northing of "]
[null," and an Easting of "]
[null,". The Combined Scale Factor (CSF) (ground to grid) is "]
[null,". Elevations for this project are based on "]
[null," for  "]
[null," with an elevation of "]
[]
[null,"This ASSUMED Coordinate System developed for this project is based on a Primary Survey Control point number "]
[null," with a false Northing of "]
[null," and a false Easting of "]
[null,". Elevations for this project are based on "]
[null," for "]
[null,"  with an elevation of "]
[]
[]
[]
[]
[]
[]
[]
[{"$f":"E1","v":"This GRID Coordinate System developed for this project is based on NAD83(2011)  South Carolina State Plane Coordinate System. A Combined Scale Factor (CSF) for each Survey Control Point must be computed and applied to horizontal ground distances. Elevations for this project are based on NAVD88 for  with an Elevation of 0.00"}]

{"sheet":"DATUM DESC","index":3,"n_rows":23,"n_cols":3,"rows_kept":23,"cut":false,"hidden":false,"merged":[]}
["X",{"$f":"INDEX(#REF!,MATCH(A1,#REF!,0))","v":{"$error":"#REF!"}},"3.05.06.01  Datum Descriptions"]
[]
[null,null,"The coordinate systems developed for each project will be described by a DATUM DESCRIPTION. The DATUM DESCRIPTION will be one of the following types:"]
[]
[null,null,"GRID State Plane Coordinate System"]
[null,null,"LOCALIZED State Plane Coordinate System"]
[null,null,"ASSUMED Coordinate System***"]
[]
[null,null,"GRID State Plane Coordinate System (GSPCS) Datum Descriptions will be used for projects that where the Survey Control coordinate values are true Grid Coordinates. A Combined Scale Factor will be applied when measuring horizontal ground distance between these points. A GSPCS Datum Description is as follows:"]
["PLACE \"X\" BY APPROPRIATE DATUM DESCRIPTOR"]
[null,null,"The GRID Coordinate System developed for this project is based on NAD83 (2011) South Carolina State Plane Coordinate System. A Combined Scale Factor (CSF) for each Survey Control Point must be computed and applied to horizontal ground distances. Elevations for this project are based on NAVD88 values for Bench Mark number __ with an elevation of 123.45’"]
[]
[null,null,"LOCALIZED State Plane Coordinate System (LSPCS) Datum Description will be used for projects where the Primary Survey Control coordinate values have been scaled from grid to reflect ground coordinates. A single point is selected as the Localization Point for the LSPCS project which represents a true Grid State Plane Coordinate. The remaining control points are to be scaled to the ground from the Localization Point using the Combined Scall Factor. Scale factors are not applied when measuring horizontal ground distances. The LSPCS Datum Description is as follows:"]
[]
[null,null,"The LOCALIZED Coordinate System developed for this project is based on the NAD83(2011) South Carolina State Plane Coordinate System used to establish the Localization Point. The Localization point is Primary Survey Control point number __ with a Northing of 123456.7890 and an Easting of 1234567.8901. The Combined Scale Factor (CSF) (ground to grid) is 0.123456789. Elevations for this project are based on NAVD88 for Bench Mark number __ with an elevation of 123.45’"]
[]
[null,null,"***ASSUMED Coordinate Systems should only be used when extending or adding to an existing project that is not tied to SCSPS. Prior approval must be obtained from the SCDOT Preconstruction Survey Office before an ASSUMED Coordinate System is used."]
[]
[null,null,"ASSUMED Coordinate System (ACS) Datum Description will be used for projects that are not based on South Carolina State Plane Coordinates and reads as follows:"]
[]
[null,null,"This ASSUMED Coordinate System developed for this project is based on Primary Survey Control point number __ with a false Northing of 10,000.00 and a false Easting of 50,000.00. Elevations for this project are based on NAVD88 for Bench Mark number __ with an elevation of 123.45’."]
[null,null,"-Or-"]
[null,null,"This ASSUMED Coordinate System developed for this project is based on Primary Survey Control point number __ with a false Northing of 10,000.00 and a false Easting of 50,000.00. Elevations for this project are based on ASSUMED for Bench Mark number __ with an elevation of 123.45’."]

{"sheet":"ALIGNMENT","index":4,"n_rows":7,"n_cols":1,"rows_kept":7,"cut":false,"hidden":false,"merged":[]}
[{"$f":"SUMMARY!C5&\"  Survey Alignments\"","v":"  Survey Alignments"}]
[]
[{"$f":"SUMMARY!A3&\"       \"&SUMMARY!C3","v":"SURVEY GROUP:       "}]
[{"$f":"SUMMARY!A5&\"       \"&SUMMARY!C5","v":"ROAD/ROUTE:       "}]
[{"$f":"SUMMARY!A6&\"       \"&SUMMARY!C6","v":"PIN / PRJ ID:       "}]
[{"$f":"SUMMARY!A7&\"       \"&SUMMARY!C7","v":"CHARGE CODE:       "}]
[{"$f":"SUMMARY!A8&\"        \"&SUMMARY!C8","v":"COUNTY:        "}]

{"sheet":"CONTROL","index":5,"n_rows":300,"n_cols":15,"rows_kept":300,"cut":false,"hidden":false,"merged":[[6,0,6,8],[0,0,0,8],[2,0,2,8],[3,0,3,8],[4,0,4,8],[5,0,5,8]]}
[{"$f":"SUMMARY!C5&\"  Survey Control List\"","v":"  Survey Control List"}]
[]
[{"$f":"SUMMARY!A3&\"       \"&SUMMARY!C3","v":"SURVEY GROUP:       "}]
[{"$f":"SUMMARY!A5&\"       \"&SUMMARY!C5","v":"ROAD/ROUTE:       "}]
[{"$f":"SUMMARY!A6&\"       \"&SUMMARY!C6","v":"PIN / PRJ ID:       "},null,null,null,null,null,null,null,null,null,"Calculate Avereage Geoid ",null,null,"CSF for reference only."]
[{"$f":"SUMMARY!A7&\"       \"&SUMMARY!C7","v":"CHARGE CODE:       "},null,null,null,null,null,null,null,null,null,"height in meters for project",null,null,"Verify with NGS datasheet."]
[{"$f":"SUMMARY!A8&\"        \"&SUMMARY!C8","v":"COUNTY:        "}]
[]
[]
[null,null,null,null,null,null,null,null,null,null,"Average Geoid (meters)","Grid Scale Factor","Ellipsoid Factor","Combined Scale Factor"]
[null,null,null,null,null,null,null,null,null,null,-30.04,{"$f":"0.999793656965+(0.0000000000000123274*(O11^2)+(4.21E-22*O11^3))","v":1.0003997120619943},{"$f":"20906000/(20906000+(K11/0.3048)+G11)","v":1.0000047142875286},{"$f":"L11*M11","v":1.0004044282338804},{"$f":"9582591.5259-SQRT((9786198.7935-(E11*0.3048))^2+((F11*0.3048)-609600)^2)","v":-222575.4275945127}]
[null,null,null,null,null,null,null,null,null,null,{"$f":"K11","v":-30.04},{"$f":"0.999793656965+(0.0000000000000123274*(O12^2)+(4.21E-22*O12^3))","v":1.0003997120619943},{"$f":"20906000/(20906000+(K12/0.3048)+G12)","v":1.0000047142875286},{"$f":"L12*M12","v":1.0004044282338804},{"$f":"9582591.5259-SQRT((9786198.7935-(E12*0.3048))^2+((F12*0.3048)-609600)^2)","v":-222575.4275945127}]
[null,null,null,null,null,null,null,null,null,null,{"$f":"K12","v":-30.04},1.0003997120619943,1.0000047142875286,1.0004044282338804,-222575.4275945127]
[null,null,null,null,null,null,null,null,null,null,{"$f":"K13","v":-30.04},1.0003997120619943,1.0000047142875286,1.0004044282338804,-222575.4275945127]
[null,null,null,null,null,null,null,null,null,null,-30.04,1.0003997120619943,1.0000047142875286,1.0004044282338804,-222575.4275945127]
[null,null,null,null,null,null,null,null,null,null,-30.04,1.0003997120619943,1.0000047142875286,1.0004044282338804,-222575.4275945127]
[null,null,null,null,null,null,null,null,null,null,-30.04,1.0003997120619943,1.0000047142875286,1.0004044282338804,-222575.4275945127]
[null,null,null,null,null,null,null,null,null,null,-30.04,1.0003997120619943,1.0000047142875286,1.0004044282338804,-222575.4275945127]
[null,null,null,null,null,null,null,null,null,null,-30.04,1.0003997120619943,1.0000047142875286,1.0004044282338804,-222575.4275945127]
[null,null,null,null,null,null,null,null,null,null,-30.04,1.0003997120619943,1.0000047142875286,1.0004044282338804,-222575.4275945127]
[null,null,null,null,null,null,null,null,null,null,-30.04,1.0003997120619943,1.0000047142875286,1.0004044282338804,-222575.4275945127]
[null,null,null,null,null,null,null,null,null,null,-30.04,1.0003997120619943,1.0000047142875286,1.0004044282338804,-222575.4275945127]
[null,null,null,null,null,null,null,null,null,null,-30.04,1.0003997120619943,1.0000047142875286,1.0004044282338804,-222575.4275945127]
[null,null,null,null,null,null,null,null,null,null,-30.04,1.0003997120619943,1.0000047142875286,1.0004044282338804,-222575.4275945127]
[null,null,null,null,null,null,null,null,null,null,-30.04,1.0003997120619943,1.0000047142875286,1.0004044282338804,-222575.4275945127]
[null,null,null,null,null,null,null,null,null,null,-30.04,1.0003997120619943,1.0000047142875286,1.0004044282338804,-222575.4275945127]
[null,null,null,null,null,null,null,null,null,null,-30.04,1.0003997120619943,1.0000047142875286,1.0004044282338804,-222575.4275945127]
[null,null,null,null,null,null,null,null,null,null,-30.04,1.0003997120619943,1.0000047142875286,1.0004044282338804,-222575.4275945127]
[null,null,null,null,null,null,null,null,null,null,-30.04,1.0003997120619943,1.0000047142875286,1.0004044282338804,-222575.4275945127]
[null,null,null,null,null,null,null,null,null,null,-30.04,1.0003997120619943,1.0000047142875286,1.0004044282338804,-222575.4275945127]
[null,null,null,null,null,null,null,null,null,null,-30.04,1.0003997120619943,1.0000047142875286,1.0004044282338804,-222575.4275945127]
[null,null,null,null,null,null,null,null,null,null,-30.04,1.0003997120619943,1.0000047142875286,1.0004044282338804,-222575.4275945127]
[null,null,null,null,null,null,null,null,null,null,-30.04,1.0003997120619943,1.0000047142875286,1.0004044282338804,-222575.4275945127]
[null,null,null,null,null,null,null,null,null,null,-30.04,1.0003997120619943,1.0000047142875286,1.0004044282338804,-222575.4275945127]
[null,null,null,null,null,null,null,null,null,null,-30.04,1.0003997120619943,1.0000047142875286,1.0004044282338804,-222575.4275945127]
[null,null,null,null,null,null,null,null,null,null,-30.04,1.0003997120619943,1.0000047142875286,1.0004044282338804,-222575.4275945127]
[null,null,null,null,null,null,null,null,null,null,-30.04,1.0003997120619943,1.0000047142875286,1.0004044282338804,-222575.4275945127]
[null,null,null,null,null,null,null,null,null,null,-30.04,1.0003997120619943,1.0000047142875286,1.0004044282338804,-222575.4275945127]
[null,null,null,null,null,null,null,null,null,null,-30.04,1.0003997120619943,1.0000047142875286,1.0004044282338804,-222575.4275945127]
[null,null,null,null,null,null,null,null,null,null,-30.04,1.0003997120619943,1.0000047142875286,1.0004044282338804,-222575.4275945127]
[null,null,null,null,null,null,null,null,null,null,-30.04,1.0003997120619943,1.0000047142875286,1.0004044282338804,-222575.4275945127]
[null,null,null,null,null,null,null,null,null,null,-30.04,1.0003997120619943,1.0000047142875286,1.0004044282338804,-222575.4275945127]
[null,null,null,null,null,null,null,null,null,null,-30.04,1.0003997120619943,1.0000047142875286,1.0004044282338804,-222575.4275945127]
[null,null,null,null,null,null,null,null,null,null,-30.04,1.0003997120619943,1.0000047142875286,1.0004044282338804,-222575.4275945127]
[null,null,null,null,null,null,null,null,null,null,-30.04,1.0003997120619943,1.0000047142875286,1.0004044282338804,-222575.4275945127]
[null,null,null,null,null,null,null,null,null,null,-30.04,1.0003997120619943,1.0000047142875286,1.0004044282338804,-222575.4275945127]
[null,null,null,null,null,null,null,null,null,null,-30.04,1.0003997120619943,1.0000047142875286,1.0004044282338804,-222575.4275945127]
[null,null,null,null,null,null,null,null,null,null,-30.04,1.0003997120619943,1.0000047142875286,1.0004044282338804,-222575.4275945127]
[null,null,null,null,null,null,null,null,null,null,-30.04,1.0003997120619943,1.0000047142875286,1.0004044282338804,-222575.4275945127]
[null,null,null,null,null,null,null,null,null,null,-30.04,1.0003997120619943,1.0000047142875286,1.0004044282338804,-222575.4275945127]
[null,null,null,null,null,null,null,null,null,null,-30.04,1.0003997120619943,1.0000047142875286,1.0004044282338804,-222575.4275945127]
[null,null,null,null,null,null,null,null,null,null,-30.04,1.0003997120619943,1.0000047142875286,1.0004044282338804,-222575.4275945127]
[null,null,null,null,null,null,null,null,null,null,-30.04,1.0003997120619943,1.0000047142875286,1.0004044282338804,-222575.4275945127]
[null,null,null,null,null,null,null,null,null,null,-30.04,1.0003997120619943,1.0000047142875286,1.0004044282338804,-222575.4275945127]
[null,null,null,null,null,null,null,null,null,null,-30.04,1.0003997120619943,1.0000047142875286,1.0004044282338804,-222575.4275945127]
[null,null,null,null,null,null,null,null,null,null,-30.04,1.0003997120619943,1.0000047142875286,1.0004044282338804,-222575.4275945127]
[null,null,null,null,null,null,null,null,null,null,-30.04,1.0003997120619943,1.0000047142875286,1.0004044282338804,-222575.4275945127]
[null,null,null,null,null,null,null,null,null,null,-30.04,1.0003997120619943,1.0000047142875286,1.0004044282338804,-222575.4275945127]
[null,null,null,null,null,null,null,null,null,null,-30.04,1.0003997120619943,1.0000047142875286,1.0004044282338804,-222575.4275945127]
[null,null,null,null,null,null,null,null,null,null,-30.04,1.0003997120619943,1.0000047142875286,1.0004044282338804,-222575.4275945127]
[null,null,null,null,null,null,null,null,null,null,-30.04,1.0003997120619943,1.0000047142875286,1.0004044282338804,-222575.4275945127]
[null,null,null,null,null,null,null,null,null,null,-30.04,1.0003997120619943,1.0000047142875286,1.0004044282338804,-222575.4275945127]
[null,null,null,null,null,null,null,null,null,null,-30.04,1.0003997120619943,1.0000047142875286,1.0004044282338804,-222575.4275945127]
[null,null,null,null,null,null,null,null,null,null,-30.04,1.0003997120619943,1.0000047142875286,1.0004044282338804,-222575.4275945127]
[null,null,null,null,null,null,null,null,null,null,-30.04,1.0003997120619943,1.0000047142875286,1.0004044282338804,-222575.4275945127]
[null,null,null,null,null,null,null,null,null,null,-30.04,1.0003997120619943,1.0000047142875286,1.0004044282338804,-222575.4275945127]
[null,null,null,null,null,null,null,null,null,null,-30.04,1.0003997120619943,1.0000047142875286,1.0004044282338804,-222575.4275945127]
[null,null,null,null,null,null,null,null,null,null,-30.04,1.0003997120619943,1.0000047142875286,1.0004044282338804,-222575.4275945127]
[null,null,null,null,null,null,null,null,null,null,-30.04,1.0003997120619943,1.0000047142875286,1.0004044282338804,-222575.4275945127]
[null,null,null,null,null,null,null,null,null,null,-30.04,1.0003997120619943,1.0000047142875286,1.0004044282338804,-222575.4275945127]
[null,null,null,null,null,null,null,null,null,null,-30.04,1.0003997120619943,1.0000047142875286,1.0004044282338804,-222575.4275945127]
[null,null,null,null,null,null,null,null,null,null,-30.04,1.0003997120619943,1.0000047142875286,1.0004044282338804,-222575.4275945127]
[null,null,null,null,null,null,null,null,null,null,-30.04,1.0003997120619943,1.0000047142875286,1.0004044282338804,-222575.4275945127]
[null,null,null,null,null,null,null,null,null,null,-30.04,1.0003997120619943,1.0000047142875286,1.0004044282338804,-222575.4275945127]
[null,null,null,null,null,null,null,null,null,null,-30.04,1.0003997120619943,1.0000047142875286,1.0004044282338804,-222575.4275945127]
[null,null,null,null,null,null,null,null,null,null,-30.04,{"$f":"0.999793656965+(0.0000000000000123274*(O76^2)+(4.21E-22*O76^3))","v":1.0003997120619943},{"$f":"20906000/(20906000+(K76/0.3048)+G76)","v":1.0000047142875286},{"$f":"L76*M76","v":1.0004044282338804},{"$f":"9582591.5259-SQRT((9786198.7935-(E76*0.3048))^2+((F76*0.3048)-609600)^2)","v":-222575.4275945127}]
[null,null,null,null,null,null,null,null,null,null,-30.04,1.0003997120619943,1.0000047142875286,1.0004044282338804,-222575.4275945127]
[null,null,null,null,null,null,null,null,null,null,{"$f":"K77","v":-30.04},1.0003997120619943,1.0000047142875286,1.0004044282338804,-222575.4275945127]
[null,null,null,null,null,null,null,null,null,null,-30.04,1.0003997120619943,1.0000047142875286,1.0004044282338804,-222575.4275945127]
[null,null,null,null,null,null,null,null,null,null,-30.04,1.0003997120619943,1.0000047142875286,1.0004044282338804,-222575.4275945127]
[null,null,null,null,null,null,null,null,null,null,-30.04,1.0003997120619943,1.0000047142875286,1.0004044282338804,-222575.4275945127]
[null,null,null,null,null,null,null,null,null,null,-30.04,1.0003997120619943,1.0000047142875286,1.0004044282338804,-222575.4275945127]
[null,null,null,null,null,null,null,null,null,null,-30.04,1.0003997120619943,1.0000047142875286,1.0004044282338804,-222575.4275945127]
[null,null,null,null,null,null,null,null,null,null,-30.04,1.0003997120619943,1.0000047142875286,1.0004044282338804,-222575.4275945127]
[null,null,null,null,null,null,null,null,null,null,-30.04,1.0003997120619943,1.0000047142875286,1.0004044282338804,-222575.4275945127]
[null,null,null,null,null,null,null,null,null,null,-30.04,1.0003997120619943,1.0000047142875286,1.0004044282338804,-222575.4275945127]
[null,null,null,null,null,null,null,null,null,null,-30.04,1.0003997120619943,1.0000047142875286,1.0004044282338804,-222575.4275945127]
[null,null,null,null,null,null,null,null,null,null,-30.04,1.0003997120619943,1.0000047142875286,1.0004044282338804,-222575.4275945127]
[null,null,null,null,null,null,null,null,null,null,-30.04,1.0003997120619943,1.0000047142875286,1.0004044282338804,-222575.4275945127]
[null,null,null,null,null,null,null,null,null,null,-30.04,1.0003997120619943,1.0000047142875286,1.0004044282338804,-222575.4275945127]
[null,null,null,null,null,null,null,null,null,null,-30.04,1.0003997120619943,1.0000047142875286,1.0004044282338804,-222575.4275945127]
[null,null,null,null,null,null,null,null,null,null,-30.04,1.0003997120619943,1.0000047142875286,1.0004044282338804,-222575.4275945127]
[null,null,null,null,null,null,null,null,null,null,-30.04,1.0003997120619943,1.0000047142875286,1.0004044282338804,-222575.4275945127]
[null,null,null,null,null,null,null,null,null,null,-30.04,1.0003997120619943,1.0000047142875286,1.0004044282338804,-222575.4275945127]
[null,null,null,null,null,null,null,null,null,null,-30.04,1.0003997120619943,1.0000047142875286,1.0004044282338804,-222575.4275945127]
[null,null,null,null,null,null,null,null,null,null,-30.04,1.0003997120619943,1.0000047142875286,1.0004044282338804,-222575.4275945127]
[null,null,null,null,null,null,null,null,null,null,-30.04,1.0003997120619943,1.0000047142875286,1.0004044282338804,-222575.4275945127]
[null,null,null,null,null,null,null,null,null,null,-30.04,1.0003997120619943,1.0000047142875286,1.0004044282338804,-222575.4275945127]
[null,null,null,null,null,null,null,null,null,null,-30.04,1.0003997120619943,1.0000047142875286,1.0004044282338804,-222575.4275945127]
[null,null,null,null,null,null,null,null,null,null,-30.04,1.0003997120619943,1.0000047142875286,1.0004044282338804,-222575.4275945127]
[null,null,null,null,null,null,null,null,null,null,-30.04,1.0003997120619943,1.0000047142875286,1.0004044282338804,-222575.4275945127]
[null,null,null,null,null,null,null,null,null,null,-30.04,1.0003997120619943,1.0000047142875286,1.0004044282338804,-222575.4275945127]
[null,null,null,null,null,null,null,null,null,null,-30.04,1.0003997120619943,1.0000047142875286,1.0004044282338804,-222575.4275945127]
[null,null,null,null,null,null,null,null,null,null,-30.04,1.0003997120619943,1.0000047142875286,1.0004044282338804,-222575.4275945127]
[null,null,null,null,null,null,null,null,null,null,-30.04,1.0003997120619943,1.0000047142875286,1.0004044282338804,-222575.4275945127]
[null,null,null,null,null,null,null,null,null,null,-30.04,1.0003997120619943,1.0000047142875286,1.0004044282338804,-222575.4275945127]
[null,null,null,null,null,null,null,null,null,null,-30.04,1.0003997120619943,1.0000047142875286,1.0004044282338804,-222575.4275945127]
[null,null,null,null,null,null,null,null,null,null,-30.04,1.0003997120619943,1.0000047142875286,1.0004044282338804,-222575.4275945127]
[null,null,null,null,null,null,null,null,null,null,-30.04,1.0003997120619943,1.0000047142875286,1.0004044282338804,-222575.4275945127]
[null,null,null,null,null,null,null,null,null,null,-30.04,1.0003997120619943,1.0000047142875286,1.0004044282338804,-222575.4275945127]
[null,null,null,null,null,null,null,null,null,null,-30.04,1.0003997120619943,1.0000047142875286,1.0004044282338804,-222575.4275945127]
[null,null,null,null,null,null,null,null,null,null,-30.04,1.0003997120619943,1.0000047142875286,1.0004044282338804,-222575.4275945127]
[null,null,null,null,null,null,null,null,null,null,-30.04,1.0003997120619943,1.0000047142875286,1.0004044282338804,-222575.4275945127]
[null,null,null,null,null,null,null,null,null,null,-30.04,1.0003997120619943,1.0000047142875286,1.0004044282338804,-222575.4275945127]
[null,null,null,null,null,null,null,null,null,null,-30.04,1.0003997120619943,1.0000047142875286,1.0004044282338804,-222575.4275945127]
[null,null,null,null,null,null,null,null,null,null,-30.04,1.0003997120619943,1.0000047142875286,1.0004044282338804,-222575.4275945127]
[null,null,null,null,null,null,null,null,null,null,-30.04,1.0003997120619943,1.0000047142875286,1.0004044282338804,-222575.4275945127]
[null,null,null,null,null,null,null,null,null,null,-30.04,1.0003997120619943,1.0000047142875286,1.0004044282338804,-222575.4275945127]
[null,null,null,null,null,null,null,null,null,null,-30.04,1.0003997120619943,1.0000047142875286,1.0004044282338804,-222575.4275945127]
[null,null,null,null,null,null,null,null,null,null,-30.04,1.0003997120619943,1.0000047142875286,1.0004044282338804,-222575.4275945127]
[null,null,null,null,null,null,null,null,null,null,-30.04,1.0003997120619943,1.0000047142875286,1.0004044282338804,-222575.4275945127]
[null,null,null,null,null,null,null,null,null,null,-30.04,1.0003997120619943,1.0000047142875286,1.0004044282338804,-222575.4275945127]
[null,null,null,null,null,null,null,null,null,null,-30.04,1.0003997120619943,1.0000047142875286,1.0004044282338804,-222575.4275945127]
[null,null,null,null,null,null,null,null,null,null,-30.04,1.0003997120619943,1.0000047142875286,1.0004044282338804,-222575.4275945127]
[null,null,null,null,null,null,null,null,null,null,-30.04,1.0003997120619943,1.0000047142875286,1.0004044282338804,-222575.4275945127]
[null,null,null,null,null,null,null,null,null,null,-30.04,1.0003997120619943,1.0000047142875286,1.0004044282338804,-222575.4275945127]
[null,null,null,null,null,null,null,null,null,null,-30.04,1.0003997120619943,1.0000047142875286,1.0004044282338804,-222575.4275945127]
[null,null,null,null,null,null,null,null,null,null,-30.04,1.0003997120619943,1.0000047142875286,1.0004044282338804,-222575.4275945127]
[null,null,null,null,null,null,null,null,null,null,-30.04,1.0003997120619943,1.0000047142875286,1.0004044282338804,-222575.4275945127]
[null,null,null,null,null,null,null,null,null,null,-30.04,1.0003997120619943,1.0000047142875286,1.0004044282338804,-222575.4275945127]
[null,null,null,null,null,null,null,null,null,null,-30.04,1.0003997120619943,1.0000047142875286,1.0004044282338804,-222575.4275945127]
[null,null,null,null,null,null,null,null,null,null,-30.04,1.0003997120619943,1.0000047142875286,1.0004044282338804,-222575.4275945127]
[null,null,null,null,null,null,null,null,null,null,-30.04,1.0003997120619943,1.0000047142875286,1.0004044282338804,-222575.4275945127]
[null,null,null,null,null,null,null,null,null,null,-30.04,1.0003997120619943,1.0000047142875286,1.0004044282338804,-222575.4275945127]
[null,null,null,null,null,null,null,null,null,null,-30.04,1.0003997120619943,1.0000047142875286,1.0004044282338804,-222575.4275945127]
[null,null,null,null,null,null,null,null,null,null,-30.04,1.0003997120619943,1.0000047142875286,1.0004044282338804,-222575.4275945127]
[null,null,null,null,null,null,null,null,null,null,-30.04,1.0003997120619943,1.0000047142875286,1.0004044282338804,-222575.4275945127]
[null,null,null,null,null,null,null,null,null,null,-30.04,1.0003997120619943,1.0000047142875286,1.0004044282338804,-222575.4275945127]
[null,null,null,null,null,null,null,null,null,null,-30.04,1.0003997120619943,1.0000047142875286,1.0004044282338804,-222575.4275945127]
[null,null,null,null,null,null,null,null,null,null,-30.04,{"$f":"0.999793656965+(0.0000000000000123274*(O140^2)+(4.21E-22*O140^3))","v":1.0003997120619943},{"$f":"20906000/(20906000+(K140/0.3048)+G140)","v":1.0000047142875286},{"$f":"L140*M140","v":1.0004044282338804},{"$f":"9582591.5259-SQRT((9786198.7935-(E140*0.3048))^2+((F140*0.3048)-609600)^2)","v":-222575.4275945127}]
[null,null,null,null,null,null,null,null,null,null,-30.04,1.0003997120619943,1.0000047142875286,1.0004044282338804,-222575.4275945127]
[null,null,null,null,null,null,null,null,null,null,{"$f":"K141","v":-30.04},1.0003997120619943,1.0000047142875286,1.0004044282338804,-222575.4275945127]
[null,null,null,null,null,null,null,null,null,null,-30.04,1.0003997120619943,1.0000047142875286,1.0004044282338804,-222575.4275945127]
[null,null,null,null,null,null,null,null,null,null,-30.04,1.0003997120619943,1.0000047142875286,1.0004044282338804,-222575.4275945127]
[null,null,null,null,null,null,null,null,null,null,-30.04,1.0003997120619943,1.0000047142875286,1.0004044282338804,-222575.4275945127]
[null,null,null,null,null,null,null,null,null,null,-30.04,1.0003997120619943,1.0000047142875286,1.0004044282338804,-222575.4275945127]
[null,null,null,null,null,null,null,null,null,null,-30.04,1.0003997120619943,1.0000047142875286,1.0004044282338804,-222575.4275945127]
[null,null,null,null,null,null,null,null,null,null,-30.04,1.0003997120619943,1.0000047142875286,1.0004044282338804,-222575.4275945127]
[null,null,null,null,null,null,null,null,null,null,-30.04,1.0003997120619943,1.0000047142875286,1.0004044282338804,-222575.4275945127]
[null,null,null,null,null,null,null,null,null,null,-30.04,1.0003997120619943,1.0000047142875286,1.0004044282338804,-222575.4275945127]
[null,null,null,null,null,null,null,null,null,null,-30.04,1.0003997120619943,1.0000047142875286,1.0004044282338804,-222575.4275945127]
[null,null,null,null,null,null,null,null,null,null,-30.04,1.0003997120619943,1.0000047142875286,1.0004044282338804,-222575.4275945127]
[null,null,null,null,null,null,null,null,null,null,-30.04,1.0003997120619943,1.0000047142875286,1.0004044282338804,-222575.4275945127]
[null,null,null,null,null,null,null,null,null,null,-30.04,1.0003997120619943,1.0000047142875286,1.0004044282338804,-222575.4275945127]
[null,null,null,null,null,null,null,null,null,null,-30.04,1.0003997120619943,1.0000047142875286,1.0004044282338804,-222575.4275945127]
[null,null,null,null,null,null,null,null,null,null,-30.04,1.0003997120619943,1.0000047142875286,1.0004044282338804,-222575.4275945127]
[null,null,null,null,null,null,null,null,null,null,-30.04,1.0003997120619943,1.0000047142875286,1.0004044282338804,-222575.4275945127]
[null,null,null,null,null,null,null,null,null,null,-30.04,1.0003997120619943,1.0000047142875286,1.0004044282338804,-222575.4275945127]
[null,null,null,null,null,null,null,null,null,null,-30.04,1.0003997120619943,1.0000047142875286,1.0004044282338804,-222575.4275945127]
[null,null,null,null,null,null,null,null,null,null,-30.04,1.0003997120619943,1.0000047142875286,1.0004044282338804,-222575.4275945127]
[null,null,null,null,null,null,null,null,null,null,-30.04,1.0003997120619943,1.0000047142875286,1.0004044282338804,-222575.4275945127]
[null,null,null,null,null,null,null,null,null,null,-30.04,1.0003997120619943,1.0000047142875286,1.0004044282338804,-222575.4275945127]
[null,null,null,null,null,null,null,null,null,null,-30.04,1.0003997120619943,1.0000047142875286,1.0004044282338804,-222575.4275945127]
[null,null,null,null,null,null,null,null,null,null,-30.04,1.0003997120619943,1.0000047142875286,1.0004044282338804,-222575.4275945127]
[null,null,null,null,null,null,null,null,null,null,-30.04,1.0003997120619943,1.0000047142875286,1.0004044282338804,-222575.4275945127]
[null,null,null,null,null,null,null,null,null,null,-30.04,1.0003997120619943,1.0000047142875286,1.0004044282338804,-222575.4275945127]
[null,null,null,null,null,null,null,null,null,null,-30.04,1.0003997120619943,1.0000047142875286,1.0004044282338804,-222575.4275945127]
[null,null,null,null,null,null,null,null,null,null,-30.04,1.0003997120619943,1.0000047142875286,1.0004044282338804,-222575.4275945127]
[null,null,null,null,null,null,null,null,null,null,-30.04,1.0003997120619943,1.0000047142875286,1.0004044282338804,-222575.4275945127]
[null,null,null,null,null,null,null,null,null,null,-30.04,1.0003997120619943,1.0000047142875286,1.0004044282338804,-222575.4275945127]
[null,null,null,null,null,null,null,null,null,null,-30.04,1.0003997120619943,1.0000047142875286,1.0004044282338804,-222575.4275945127]
[null,null,null,null,null,null,null,null,null,null,-30.04,1.0003997120619943,1.0000047142875286,1.0004044282338804,-222575.4275945127]
[null,null,null,null,null,null,null,null,null,null,-30.04,1.0003997120619943,1.0000047142875286,1.0004044282338804,-222575.4275945127]
[null,null,null,null,null,null,null,null,null,null,-30.04,1.0003997120619943,1.0000047142875286,1.0004044282338804,-222575.4275945127]
[null,null,null,null,null,null,null,null,null,null,-30.04,1.0003997120619943,1.0000047142875286,1.0004044282338804,-222575.4275945127]
[null,null,null,null,null,null,null,null,null,null,-30.04,1.0003997120619943,1.0000047142875286,1.0004044282338804,-222575.4275945127]
[null,null,null,null,null,null,null,null,null,null,-30.04,1.0003997120619943,1.0000047142875286,1.0004044282338804,-222575.4275945127]
[null,null,null,null,null,null,null,null,null,null,-30.04,1.0003997120619943,1.0000047142875286,1.0004044282338804,-222575.4275945127]
[null,null,null,null,null,null,null,null,null,null,-30.04,1.0003997120619943,1.0000047142875286,1.0004044282338804,-222575.4275945127]
[null,null,null,null,null,null,null,null,null,null,-30.04,1.0003997120619943,1.0000047142875286,1.0004044282338804,-222575.4275945127]
[null,null,null,null,null,null,null,null,null,null,-30.04,1.0003997120619943,1.0000047142875286,1.0004044282338804,-222575.4275945127]
[null,null,null,null,null,null,null,null,null,null,-30.04,1.0003997120619943,1.0000047142875286,1.0004044282338804,-222575.4275945127]
[null,null,null,null,null,null,null,null,null,null,-30.04,1.0003997120619943,1.0000047142875286,1.0004044282338804,-222575.4275945127]
[null,null,null,null,null,null,null,null,null,null,-30.04,1.0003997120619943,1.0000047142875286,1.0004044282338804,-222575.4275945127]
[null,null,null,null,null,null,null,null,null,null,-30.04,1.0003997120619943,1.0000047142875286,1.0004044282338804,-222575.4275945127]
[null,null,null,null,null,null,null,null,null,null,-30.04,1.0003997120619943,1.0000047142875286,1.0004044282338804,-222575.4275945127]
[null,null,null,null,null,null,null,null,null,null,-30.04,1.0003997120619943,1.0000047142875286,1.0004044282338804,-222575.4275945127]
[null,null,null,null,null,null,null,null,null,null,-30.04,1.0003997120619943,1.0000047142875286,1.0004044282338804,-222575.4275945127]
[null,null,null,null,null,null,null,null,null,null,-30.04,1.0003997120619943,1.0000047142875286,1.0004044282338804,-222575.4275945127]
[null,null,null,null,null,null,null,null,null,null,-30.04,1.0003997120619943,1.0000047142875286,1.0004044282338804,-222575.4275945127]
[null,null,null,null,null,null,null,null,null,null,-30.04,1.0003997120619943,1.0000047142875286,1.0004044282338804,-222575.4275945127]
[null,null,null,null,null,null,null,null,null,null,-30.04,1.0003997120619943,1.0000047142875286,1.0004044282338804,-222575.4275945127]
[null,null,null,null,null,null,null,null,null,null,-30.04,1.0003997120619943,1.0000047142875286,1.0004044282338804,-222575.4275945127]
[null,null,null,null,null,null,null,null,null,null,-30.04,1.0003997120619943,1.0000047142875286,1.0004044282338804,-222575.4275945127]
[null,null,null,null,null,null,null,null,null,null,-30.04,1.0003997120619943,1.0000047142875286,1.0004044282338804,-222575.4275945127]
[null,null,null,null,null,null,null,null,null,null,-30.04,1.0003997120619943,1.0000047142875286,1.0004044282338804,-222575.4275945127]
[null,null,null,null,null,null,null,null,null,null,-30.04,1.0003997120619943,1.0000047142875286,1.0004044282338804,-222575.4275945127]
[null,null,null,null,null,null,null,null,null,null,-30.04,1.0003997120619943,1.0000047142875286,1.0004044282338804,-222575.4275945127]
[null,null,null,null,null,null,null,null,null,null,-30.04,1.0003997120619943,1.0000047142875286,1.0004044282338804,-222575.4275945127]
[null,null,null,null,null,null,null,null,null,null,-30.04,1.0003997120619943,1.0000047142875286,1.0004044282338804,-222575.4275945127]
[null,null,null,null,null,null,null,null,null,null,-30.04,1.0003997120619943,1.0000047142875286,1.0004044282338804,-222575.4275945127]
[null,null,null,null,null,null,null,null,null,null,-30.04,1.0003997120619943,1.0000047142875286,1.0004044282338804,-222575.4275945127]
[null,null,null,null,null,null,null,null,null,null,-30.04,1.0003997120619943,1.0000047142875286,1.0004044282338804,-222575.4275945127]
[null,null,null,null,null,null,null,null,null,null,-30.04,{"$f":"0.999793656965+(0.0000000000000123274*(O204^2)+(4.21E-22*O204^3))","v":1.0003997120619943},{"$f":"20906000/(20906000+(K204/0.3048)+G204)","v":1.0000047142875286},{"$f":"L204*M204","v":1.0004044282338804},{"$f":"9582591.5259-SQRT((9786198.7935-(E204*0.3048))^2+((F204*0.3048)-609600)^2)","v":-222575.4275945127}]
[null,null,null,null,null,null,null,null,null,null,-30.04,1.0003997120619943,1.0000047142875286,1.0004044282338804,-222575.4275945127]
[null,null,null,null,null,null,null,null,null,null,{"$f":"K205","v":-30.04},1.0003997120619943,1.0000047142875286,1.0004044282338804,-222575.4275945127]
[null,null,null,null,null,null,null,null,null,null,-30.04,1.0003997120619943,1.0000047142875286,1.0004044282338804,-222575.4275945127]
[null,null,null,null,null,null,null,null,null,null,-30.04,1.0003997120619943,1.0000047142875286,1.0004044282338804,-222575.4275945127]
[null,null,null,null,null,null,null,null,null,null,-30.04,1.0003997120619943,1.0000047142875286,1.0004044282338804,-222575.4275945127]
[null,null,null,null,null,null,null,null,null,null,-30.04,1.0003997120619943,1.0000047142875286,1.0004044282338804,-222575.4275945127]
[null,null,null,null,null,null,null,null,null,null,-30.04,1.0003997120619943,1.0000047142875286,1.0004044282338804,-222575.4275945127]
[null,null,null,null,null,null,null,null,null,null,-30.04,1.0003997120619943,1.0000047142875286,1.0004044282338804,-222575.4275945127]
[null,null,null,null,null,null,null,null,null,null,-30.04,1.0003997120619943,1.0000047142875286,1.0004044282338804,-222575.4275945127]
[null,null,null,null,null,null,null,null,null,null,-30.04,1.0003997120619943,1.0000047142875286,1.0004044282338804,-222575.4275945127]
[null,null,null,null,null,null,null,null,null,null,-30.04,1.0003997120619943,1.0000047142875286,1.0004044282338804,-222575.4275945127]
[null,null,null,null,null,null,null,null,null,null,-30.04,1.0003997120619943,1.0000047142875286,1.0004044282338804,-222575.4275945127]
[null,null,null,null,null,null,null,null,null,null,-30.04,1.0003997120619943,1.0000047142875286,1.0004044282338804,-222575.4275945127]
[null,null,null,null,null,null,null,null,null,null,-30.04,1.0003997120619943,1.0000047142875286,1.0004044282338804,-222575.4275945127]
[null,null,null,null,null,null,null,null,null,null,-30.04,1.0003997120619943,1.0000047142875286,1.0004044282338804,-222575.4275945127]
[null,null,null,null,null,null,null,null,null,null,-30.04,1.0003997120619943,1.0000047142875286,1.0004044282338804,-222575.4275945127]
[null,null,null,null,null,null,null,null,null,null,-30.04,1.0003997120619943,1.0000047142875286,1.0004044282338804,-222575.4275945127]
[null,null,null,null,null,null,null,null,null,null,-30.04,1.0003997120619943,1.0000047142875286,1.0004044282338804,-222575.4275945127]
[null,null,null,null,null,null,null,null,null,null,-30.04,1.0003997120619943,1.0000047142875286,1.0004044282338804,-222575.4275945127]
[null,null,null,null,null,null,null,null,null,null,-30.04,1.0003997120619943,1.0000047142875286,1.0004044282338804,-222575.4275945127]
[null,null,null,null,null,null,null,null,null,null,-30.04,1.0003997120619943,1.0000047142875286,1.0004044282338804,-222575.4275945127]
[null,null,null,null,null,null,null,null,null,null,-30.04,1.0003997120619943,1.0000047142875286,1.0004044282338804,-222575.4275945127]
[null,null,null,null,null,null,null,null,null,null,-30.04,1.0003997120619943,1.0000047142875286,1.0004044282338804,-222575.4275945127]
[null,null,null,null,null,null,null,null,null,null,-30.04,1.0003997120619943,1.0000047142875286,1.0004044282338804,-222575.4275945127]
[null,null,null,null,null,null,null,null,null,null,-30.04,1.0003997120619943,1.0000047142875286,1.0004044282338804,-222575.4275945127]
[null,null,null,null,null,null,null,null,null,null,-30.04,1.0003997120619943,1.0000047142875286,1.0004044282338804,-222575.4275945127]
[null,null,null,null,null,null,null,null,null,null,-30.04,1.0003997120619943,1.0000047142875286,1.0004044282338804,-222575.4275945127]
[null,null,null,null,null,null,null,null,null,null,-30.04,1.0003997120619943,1.0000047142875286,1.0004044282338804,-222575.4275945127]
[null,null,null,null,null,null,null,null,null,null,-30.04,1.0003997120619943,1.0000047142875286,1.0004044282338804,-222575.4275945127]
[null,null,null,null,null,null,null,null,null,null,-30.04,1.0003997120619943,1.0000047142875286,1.0004044282338804,-222575.4275945127]
[null,null,null,null,null,null,null,null,null,null,-30.04,1.0003997120619943,1.0000047142875286,1.0004044282338804,-222575.4275945127]
[null,null,null,null,null,null,null,null,null,null,-30.04,1.0003997120619943,1.0000047142875286,1.0004044282338804,-222575.4275945127]
[null,null,null,null,null,null,null,null,null,null,-30.04,1.0003997120619943,1.0000047142875286,1.0004044282338804,-222575.4275945127]
[null,null,null,null,null,null,null,null,null,null,-30.04,1.0003997120619943,1.0000047142875286,1.0004044282338804,-222575.4275945127]
[null,null,null,null,null,null,null,null,null,null,-30.04,1.0003997120619943,1.0000047142875286,1.0004044282338804,-222575.4275945127]
[null,null,null,null,null,null,null,null,null,null,-30.04,1.0003997120619943,1.0000047142875286,1.0004044282338804,-222575.4275945127]
[null,null,null,null,null,null,null,null,null,null,-30.04,1.0003997120619943,1.0000047142875286,1.0004044282338804,-222575.4275945127]
[null,null,null,null,null,null,null,null,null,null,-30.04,1.0003997120619943,1.0000047142875286,1.0004044282338804,-222575.4275945127]
[null,null,null,null,null,null,null,null,null,null,-30.04,1.0003997120619943,1.0000047142875286,1.0004044282338804,-222575.4275945127]
[null,null,null,null,null,null,null,null,null,null,-30.04,1.0003997120619943,1.0000047142875286,1.0004044282338804,-222575.4275945127]
[null,null,null,null,null,null,null,null,null,null,-30.04,1.0003997120619943,1.0000047142875286,1.0004044282338804,-222575.4275945127]
[null,null,null,null,null,null,null,null,null,null,-30.04,1.0003997120619943,1.0000047142875286,1.0004044282338804,-222575.4275945127]
[null,null,null,null,null,null,null,null,null,null,-30.04,1.0003997120619943,1.0000047142875286,1.0004044282338804,-222575.4275945127]
[null,null,null,null,null,null,null,null,null,null,-30.04,1.0003997120619943,1.0000047142875286,1.0004044282338804,-222575.4275945127]
[null,null,null,null,null,null,null,null,null,null,-30.04,1.0003997120619943,1.0000047142875286,1.0004044282338804,-222575.4275945127]
[null,null,null,null,null,null,null,null,null,null,-30.04,1.0003997120619943,1.0000047142875286,1.0004044282338804,-222575.4275945127]
[null,null,null,null,null,null,null,null,null,null,-30.04,1.0003997120619943,1.0000047142875286,1.0004044282338804,-222575.4275945127]
[null,null,null,null,null,null,null,null,null,null,-30.04,1.0003997120619943,1.0000047142875286,1.0004044282338804,-222575.4275945127]
[null,null,null,null,null,null,null,null,null,null,-30.04,1.0003997120619943,1.0000047142875286,1.0004044282338804,-222575.4275945127]
[null,null,null,null,null,null,null,null,null,null,-30.04,1.0003997120619943,1.0000047142875286,1.0004044282338804,-222575.4275945127]
[null,null,null,null,null,null,null,null,null,null,-30.04,1.0003997120619943,1.0000047142875286,1.0004044282338804,-222575.4275945127]
[null,null,null,null,null,null,null,null,null,null,-30.04,1.0003997120619943,1.0000047142875286,1.0004044282338804,-222575.4275945127]
[null,null,null,null,null,null,null,null,null,null,-30.04,1.0003997120619943,1.0000047142875286,1.0004044282338804,-222575.4275945127]
[null,null,null,null,null,null,null,null,null,null,-30.04,1.0003997120619943,1.0000047142875286,1.0004044282338804,-222575.4275945127]
[null,null,null,null,null,null,null,null,null,null,-30.04,1.0003997120619943,1.0000047142875286,1.0004044282338804,-222575.4275945127]
[null,null,null,null,null,null,null,null,null,null,-30.04,1.0003997120619943,1.0000047142875286,1.0004044282338804,-222575.4275945127]
[null,null,null,null,null,null,null,null,null,null,-30.04,1.0003997120619943,1.0000047142875286,1.0004044282338804,-222575.4275945127]
[null,null,null,null,null,null,null,null,null,null,-30.04,1.0003997120619943,1.0000047142875286,1.0004044282338804,-222575.4275945127]
[null,null,null,null,null,null,null,null,null,null,-30.04,1.0003997120619943,1.0000047142875286,1.0004044282338804,-222575.4275945127]
[null,null,null,null,null,null,null,null,null,null,-30.04,1.0003997120619943,1.0000047142875286,1.0004044282338804,-222575.4275945127]
[null,null,null,null,null,null,null,null,null,null,-30.04,1.0003997120619943,1.0000047142875286,1.0004044282338804,-222575.4275945127]
[null,null,null,null,null,null,null,null,null,null,-30.04,1.0003997120619943,1.0000047142875286,1.0004044282338804,-222575.4275945127]
[null,null,null,null,null,null,null,null,null,null,-30.04,1.0003997120619943,1.0000047142875286,1.0004044282338804,-222575.4275945127]
[null,null,null,null,null,null,null,null,null,null,-30.04,{"$f":"0.999793656965+(0.0000000000000123274*(O268^2)+(4.21E-22*O268^3))","v":1.0003997120619943},{"$f":"20906000/(20906000+(K268/0.3048)+G268)","v":1.0000047142875286},{"$f":"L268*M268","v":1.0004044282338804},{"$f":"9582591.5259-SQRT((9786198.7935-(E268*0.3048))^2+((F268*0.3048)-609600)^2)","v":-222575.4275945127}]
[null,null,null,null,null,null,null,null,null,null,-30.04,1.0003997120619943,1.0000047142875286,1.0004044282338804,-222575.4275945127]
[null,null,null,null,null,null,null,null,null,null,{"$f":"K269","v":-30.04},1.0003997120619943,1.0000047142875286,1.0004044282338804,-222575.4275945127]
[null,null,null,null,null,null,null,null,null,null,-30.04,1.0003997120619943,1.0000047142875286,1.0004044282338804,-222575.4275945127]
[null,null,null,null,null,null,null,null,null,null,-30.04,1.0003997120619943,1.0000047142875286,1.0004044282338804,-222575.4275945127]
[null,null,null,null,null,null,null,null,null,null,-30.04,1.0003997120619943,1.0000047142875286,1.0004044282338804,-222575.4275945127]
[null,null,null,null,null,null,null,null,null,null,-30.04,1.0003997120619943,1.0000047142875286,1.0004044282338804,-222575.4275945127]
[null,null,null,null,null,null,null,null,null,null,-30.04,1.0003997120619943,1.0000047142875286,1.0004044282338804,-222575.4275945127]
[null,null,null,null,null,null,null,null,null,null,-30.04,1.0003997120619943,1.0000047142875286,1.0004044282338804,-222575.4275945127]
[null,null,null,null,null,null,null,null,null,null,-30.04,1.0003997120619943,1.0000047142875286,1.0004044282338804,-222575.4275945127]
[null,null,null,null,null,null,null,null,null,null,-30.04,1.0003997120619943,1.0000047142875286,1.0004044282338804,-222575.4275945127]
[null,null,null,null,null,null,null,null,null,null,-30.04,1.0003997120619943,1.0000047142875286,1.0004044282338804,-222575.4275945127]
[null,null,null,null,null,null,null,null,null,null,-30.04,1.0003997120619943,1.0000047142875286,1.0004044282338804,-222575.4275945127]
[null,null,null,null,null,null,null,null,null,null,-30.04,1.0003997120619943,1.0000047142875286,1.0004044282338804,-222575.4275945127]
[null,null,null,null,null,null,null,null,null,null,-30.04,1.0003997120619943,1.0000047142875286,1.0004044282338804,-222575.4275945127]
[null,null,null,null,null,null,null,null,null,null,-30.04,1.0003997120619943,1.0000047142875286,1.0004044282338804,-222575.4275945127]
[null,null,null,null,null,null,null,null,null,null,-30.04,1.0003997120619943,1.0000047142875286,1.0004044282338804,-222575.4275945127]
[null,null,null,null,null,null,null,null,null,null,-30.04,1.0003997120619943,1.0000047142875286,1.0004044282338804,-222575.4275945127]
[null,null,null,null,null,null,null,null,null,null,-30.04,1.0003997120619943,1.0000047142875286,1.0004044282338804,-222575.4275945127]
[null,null,null,null,null,null,null,null,null,null,-30.04,1.0003997120619943,1.0000047142875286,1.0004044282338804,-222575.4275945127]
[null,null,null,null,null,null,null,null,null,null,-30.04,1.0003997120619943,1.0000047142875286,1.0004044282338804,-222575.4275945127]
[null,null,null,null,null,null,null,null,null,null,-30.04,1.0003997120619943,1.0000047142875286,1.0004044282338804,-222575.4275945127]
[null,null,null,null,null,null,null,null,null,null,-30.04,1.0003997120619943,1.0000047142875286,1.0004044282338804,-222575.4275945127]
[null,null,null,null,null,null,null,null,null,null,-30.04,1.0003997120619943,1.0000047142875286,1.0004044282338804,-222575.4275945127]
[null,null,null,null,null,null,null,null,null,null,-30.04,1.0003997120619943,1.0000047142875286,1.0004044282338804,-222575.4275945127]
[null,null,null,null,null,null,null,null,null,null,-30.04,1.0003997120619943,1.0000047142875286,1.0004044282338804,-222575.4275945127]
[null,null,null,null,null,null,null,null,null,null,-30.04,1.0003997120619943,1.0000047142875286,1.0004044282338804,-222575.4275945127]
[null,null,null,null,null,null,null,null,null,null,-30.04,1.0003997120619943,1.0000047142875286,1.0004044282338804,-222575.4275945127]
[null,null,null,null,null,null,null,null,null,null,-30.04,1.0003997120619943,1.0000047142875286,1.0004044282338804,-222575.4275945127]
[null,null,null,null,null,null,null,null,null,null,-30.04,1.0003997120619943,1.0000047142875286,1.0004044282338804,-222575.4275945127]
[null,null,null,null,null,null,null,null,null,null,-30.04,1.0003997120619943,1.0000047142875286,1.0004044282338804,-222575.4275945127]
[null,null,null,null,null,null,null,null,null,null,-30.04,1.0003997120619943,1.0000047142875286,1.0004044282338804,-222575.4275945127]
[null,null,null,null,null,null,null,null,null,null,-30.04,1.0003997120619943,1.0000047142875286,1.0004044282338804,-222575.4275945127]

{"sheet":"BENCHMARK","index":6,"n_rows":7,"n_cols":1,"rows_kept":7,"cut":false,"hidden":false,"merged":[[6,0,6,7],[0,0,0,7],[2,0,2,7],[3,0,3,7],[4,0,4,7],[5,0,5,7]]}
[{"$f":"SUMMARY!C5&\"  Project Benchmark List\"","v":"  Project Benchmark List"}]
[]
[{"$f":"SUMMARY!A3&\"       \"&SUMMARY!C3","v":"SURVEY GROUP:       "}]
[{"$f":"SUMMARY!A5&\"       \"&SUMMARY!C5","v":"ROAD/ROUTE:       "}]
[{"$f":"SUMMARY!A6&\"       \"&SUMMARY!C6","v":"PIN / PRJ ID:       "}]
[{"$f":"SUMMARY!A7&\"       \"&SUMMARY!C7","v":"CHARGE CODE:       "}]
[{"$f":"SUMMARY!A8&\"        \"&SUMMARY!C8","v":"COUNTY:        "}]

{"sheet":"PROPERTY MONUMENTS","index":7,"n_rows":7,"n_cols":1,"rows_kept":7,"cut":false,"hidden":false,"merged":[[8,0,8,7],[0,0,0,7],[2,0,2,7],[3,0,3,7],[4,0,4,7],[5,0,5,7],[6,0,6,7]]}
[{"$f":"SUMMARY!C5&\"  Property Monument List\"","v":"  Property Monument List"}]
[]
[{"$f":"SUMMARY!A3&\"       \"&SUMMARY!C3","v":"SURVEY GROUP:       "}]
[{"$f":"SUMMARY!A5&\"       \"&SUMMARY!C5","v":"ROAD/ROUTE:       "}]
[{"$f":"SUMMARY!A6&\"       \"&SUMMARY!C6","v":"PIN / PRJ ID:       "}]
[{"$f":"SUMMARY!A7&\"       \"&SUMMARY!C7","v":"CHARGE CODE:       "}]
[{"$f":"SUMMARY!A8&\"        \"&SUMMARY!C8","v":"COUNTY:        "}]

{"sheet":"Sheet3","index":8,"n_rows":0,"n_cols":0,"rows_kept":0,"cut":false,"hidden":true,"merged":[]}

{"sheet":"Sheet4","index":9,"n_rows":94,"n_cols":29,"rows_kept":94,"cut":false,"hidden":true,"merged":[[0,22,1,23],[0,24,1,25],[0,26,0,27],[1,26,1,27],[5,2,6,2],[5,3,6,3],[5,4,6,4],[5,5,6,5],[5,6,5,9],[5,12,6,12],[0,17,1,17],[0,19,1,19],[0,20,1,21],[5,13,6,13],[5,17,5,18],[5,19,5,20],[5,21,6,27],[6,17,6,18],[6,19,6,20],[2,20,2,21],[2,22,2,23],[2,24,2,25],[2,26,2,27],[7,19,8,20],[7,21,7,27],[8,21,8,27],[9,2,10,2],[9,3,10,3],[9,4,10,4],[9,5,10,5],[9,10,10,10],[9,11,10,11],[9,12,10,12],[7,12,8,12],[7,13,8,13],[7,14,8,14],[7,15,8,15],[7,16,8,16],[7,17,8,18],[7,2,8,2],[7,3,8,3],[7,4,8,4],[7,5,8,5],[7,10,8,10],[7,11,8,11],[9,21,9,27],[10,21,10,27],[11,2,12,2],[11,3,12,3],[11,4,12,4],[11,5,12,5],[11,10,12,10],[11,11,12,11],[11,13,12,13],[11,14,12,14],[9,13,10,13],[9,14,10,14],[9,15,10,15],[9,16,10,16],[9,17,10,18],[9,19,10,20],[13,4,14,4],[13,5,14,5],[13,10,14,10],[13,11,14,11],[11,15,12,15],[11,16,12,16],[11,17,12,18],[11,19,12,20],[11,21,11,27],[12,21,12,27],[15,15,16,15],[15,16,16,16],[15,17,16,18],[15,19,16,20],[15,21,15,27],[16,21,16,27],[13,21,13,27],[14,21,14,27],[13,15,14,15],[13,16,14,16],[13,17,14,18],[13,19,14,20],[15,2,16,2],[15,3,16,3],[15,4,16,4],[15,5,16,5],[15,10,16,10],[15,11,16,11],[15,13,16,13],[15,14,16,14],[13,13,14,13],[13,14,14,14],[13,2,14,2],[13,3,14,3],[17,21,17,27],[18,21,18,27],[19,2,20,2],[19,3,20,3],[19,4,20,4],[19,5,20,5],[19,10,20,10],[19,11,20,11],[19,13,20,13],[19,14,20,14],[17,13,18,13],[17,14,18,14],[17,15,18,15],[17,16,18,16],[17,17,18,18],[17,19,18,20],[17,2,18,2],[17,3,18,3],[17,4,18,4],[17,5,18,5],[17,10,18,10],[17,11,18,11],[21,4,22,4],[21,5,22,5],[21,10,22,10],[21,11,22,11],[19,15,20,15],[19,16,20,16],[19,17,20,18],[19,19,20,20],[19,21,19,27],[20,21,20,27],[23,15,24,15],[23,16,24,16],[23,17,24,18],[23,19,24,20],[23,21,23,27],[24,21,24,27],[21,21,21,27],[22,21,22,27],[23,2,24,2],[23,3,24,3],[23,4,24,4],[23,5,24,5],[23,10,24,10],[23,11,24,11],[23,13,24,13],[23,14,24,14],[21,13,22,13],[21,14,22,14],[21,15,22,15],[21,16,22,16],[21,17,22,18],[21,19,22,20],[21,2,22,2],[21,3,22,3],[25,19,26,20],[25,21,25,27],[26,21,26,27],[27,2,28,2],[27,3,28,3],[27,4,28,4],[27,5,28,5],[27,10,28,10],[27,11,28,11],[27,12,28,12],[25,12,26,12],[25,13,26,13],[25,14,26,14],[25,15,26,15],[25,16,26,16],[25,17,26,18],[25,2,26,2],[25,3,26,3],[25,4,26,4],[25,5,26,5],[25,10,26,10],[25,11,26,11],[29,2,30,2],[29,3,30,3],[29,4,30,4],[29,5,30,5],[29,10,30,10],[29,11,30,11],[29,12,30,12],[29,13,30,13],[27,13,28,13],[29,14,30,14],[29,15,30,15],[29,16,30,16],[29,17,30,18],[29,19,30,20],[29,21,29,27],[30,21,30,27],[27,21,27,27],[28,21,28,27],[27,14,28,14],[27,15,28,15],[27,16,28,16],[27,17,28,18],[27,19,28,20],[31,19,32,20],[31,21,31,27],[32,21,32,27],[33,2,34,2],[33,3,34,3],[33,4,34,4],[33,5,34,5],[33,10,34,10],[33,11,34,11],[33,12,34,12],[31,12,32,12],[31,13,32,13],[31,14,32,14],[31,15,32,15],[31,16,32,16],[31,17,32,18],[31,2,32,2],[31,3,32,3],[31,4,32,4],[31,5,32,5],[31,10,32,10],[31,11,32,11],[35,2,36,2],[35,3,36,3],[35,4,36,4],[35,5,36,5],[35,10,36,10],[35,11,36,11],[35,12,36,12],[35,13,36,13],[33,13,34,13],[35,14,36,14],[35,15,36,15],[35,16,36,16],[35,17,36,18],[35,19,36,20],[35,21,35,27],[36,21,36,27],[33,21,33,27],[34,21,34,27],[33,14,34,14],[33,15,34,15],[33,16,34,16],[33,17,34,18],[33,19,34,20],[37,19,38,20],[37,21,37,27],[38,21,38,27],[39,2,40,2],[39,3,40,3],[39,4,40,4],[39,5,40,5],[39,10,40,10],[39,11,40,11],[39,12,40,12],[37,12,38,12],[37,13,38,13],[37,14,38,14],[37,15,38,15],[37,16,38,16],[37,17,38,18],[37,2,38,2],[37,3,38,3],[37,4,38,4],[37,5,38,5],[37,10,38,10],[37,11,38,11],[41,2,42,2],[41,3,42,3],[41,4,42,4],[41,5,42,5],[41,10,42,10],[41,11,42,11],[41,12,42,12],[41,13,42,13],[39,13,40,13],[41,14,42,14],[41,15,42,15],[41,16,42,16],[41,17,42,18],[41,19,42,20],[41,21,41,27],[42,21,42,27],[39,21,39,27],[40,21,40,27],[39,14,40,14],[39,15,40,15],[39,16,40,16],[39,17,40,18],[39,19,40,20],[43,19,44,20],[43,21,43,27],[44,21,44,27],[45,2,46,2],[45,3,46,3],[45,4,46,4],[45,5,46,5],[45,10,46,10],[45,11,46,11],[45,12,46,12],[43,12,44,12],[43,13,44,13],[43,14,44,14],[43,15,44,15],[43,16,44,16],[43,17,44,18],[43,2,44,2],[43,3,44,3],[43,4,44,4],[43,5,44,5],[43,10,44,10],[43,11,44,11],[47,2,48,2],[47,3,48,3],[47,4,48,4],[47,5,48,5],[47,10,48,10],[47,11,48,11],[47,12,48,12],[47,13,48,13],[45,13,46,13],[47,14,48,14],[47,15,48,15],[47,16,48,16],[47,17,48,18],[47,19,48,20],[47,21,47,27],[48,21,48,27],[45,21,45,27],[46,21,46,27],[45,14,46,14],[45,15,46,15],[45,16,46,16],[45,17,46,18],[45,19,46,20],[49,19,50,20],[49,21,49,27],[50,21,50,27],[51,2,52,2],[51,3,52,3],[51,4,52,4],[51,5,52,5],[51,10,52,10],[51,11,52,11],[51,12,52,12],[49,12,50,12],[49,13,50,13],[49,14,50,14],[49,15,50,15],[49,16,50,16],[49,17,50,18],[49,2,50,2],[49,3,50,3],[49,4,50,4],[49,5,50,5],[49,10,50,10],[49,11,50,11],[53,2,54,2],[53,3,54,3],[53,4,54,4],[53,5,54,5],[53,10,54,10],[53,11,54,11],[53,12,54,12],[53,13,54,13],[51,13,52,13],[53,14,54,14],[53,15,54,15],[53,16,54,16],[53,17,54,18],[53,19,54,20],[53,21,53,27],[54,21,54,27],[51,21,51,27],[52,21,52,27],[51,14,52,14],[51,15,52,15],[51,16,52,16],[51,17,52,18],[51,19,52,20],[55,19,56,20],[55,21,55,27],[56,21,56,27],[57,2,58,2],[57,3,58,3],[57,4,58,4],[57,5,58,5],[57,10,58,10],[57,11,58,11],[57,12,58,12],[55,12,56,12],[55,13,56,13],[55,14,56,14],[55,15,56,15],[55,16,56,16],[55,17,56,18],[55,2,56,2],[55,3,56,3],[55,4,56,4],[55,5,56,5],[55,10,56,10],[55,11,56,11],[59,2,60,2],[59,3,60,3],[59,4,60,4],[59,5,60,5],[59,10,60,10],[59,11,60,11],[59,12,60,12],[59,13,60,13],[57,13,58,13],[59,14,60,14],[59,15,60,15],[59,16,60,16],[59,17,60,18],[59,19,60,20],[59,21,59,27],[60,21,60,27],[57,21,57,27],[58,21,58,27],[57,14,58,14],[57,15,58,15],[57,16,58,16],[57,17,58,18],[57,19,58,20],[61,19,62,20],[61,21,61,27],[62,21,62,27],[63,2,64,2],[63,3,64,3],[63,4,64,4],[63,5,64,5],[63,10,64,10],[63,11,64,11],[63,12,64,12],[61,12,62,12],[61,13,62,13],[61,14,62,14],[61,15,62,15],[61,16,62,16],[61,17,62,18],[61,2,62,2],[61,3,62,3],[61,4,62,4],[61,5,62,5],[61,10,62,10],[61,11,62,11],[65,2,66,2],[65,3,66,3],[65,4,66,4],[65,5,66,5],[65,10,66,10],[65,11,66,11],[65,12,66,12],[65,13,66,13],[63,13,64,13],[65,14,66,14],[65,15,66,15],[65,16,66,16],[65,17,66,18],[65,19,66,20],[65,21,65,27],[66,21,66,27],[63,21,63,27],[64,21,64,27],[63,14,64,14],[63,15,64,15],[63,16,64,16],[63,17,64,18],[63,19,64,20],[67,19,68,20],[67,21,67,27],[68,21,68,27],[69,2,70,2],[69,3,70,3],[69,4,70,4],[69,5,70,5],[69,10,70,10],[69,11,70,11],[69,12,70,12],[67,12,68,12],[67,13,68,13],[67,14,68,14],[67,15,68,15],[67,16,68,16],[67,17,68,18],[67,2,68,2],[67,3,68,3],[67,4,68,4],[67,5,68,5],[67,10,68,10],[67,11,68,11],[71,2,72,2],[71,3,72,3],[71,4,72,4],[71,5,72,5],[71,10,72,10],[71,11,72,11],[71,12,72,12],[71,13,72,13],[69,13,70,13],[71,14,72,14],[71,15,72,15],[71,16,72,16],[71,17,72,18],[71,19,72,20],[71,21,71,27],[72,21,72,27],[69,21,69,27],[70,21,70,27],[69,14,70,14],[69,15,70,15],[69,16,70,16],[69,17,70,18],[69,19,70,20],[73,19,74,20],[73,21,73,27],[74,21,74,27],[75,2,76,2],[75,3,76,3],[75,4,76,4],[75,5,76,5],[75,10,76,10],[75,11,76,11],[75,12,76,12],[73,12,74,12],[73,13,74,13],[73,14,74,14],[73,15,74,15],[73,16,74,16],[73,17,74,18],[73,2,74,2],[73,3,74,3],[73,4,74,4],[73,5,74,5],[73,10,74,10],[73,11,74,11],[87,15,87,18],[88,10,88,12],[88,15,88,18],[89,10,89,12],[89,15,89,18],[90,10,90,12],[90,15,90,18],[75,21,75,27],[76,0,96,0],[76,21,76,27],[84,8,84,18],[85,10,85,12],[85,15,85,18],[85,19,96,28],[86,10,86,12],[86,15,86,18],[87,10,87,12],[75,13,76,13],[75,14,76,14],[75,15,76,15],[75,16,76,16],[75,17,76,18],[75,19,76,20],[95,15,95,18],[96,10,96,12],[96,15,96,18],[91,10,91,12],[91,15,91,18],[92,10,92,12],[92,15,92,18],[93,1,96,1],[93,10,93,12],[93,15,93,18],[94,10,94,12],[94,15,94,18],[95,10,95,12]]}
[null,null,null,null,null,null,null,null,null,null,null,null,null,null,null,null,null,null,"FED. RD.","STATE","COUNTY",null,"PCN NO.",null,"FILE NO.",null,"ROUTE/ROAD",null,"SHEET"]
[null,null,null,null,null,null,null,null,null,null,null,null,null,null,null,null,null,null,"DIV. NO.",null,null,null,null,null,null,null,"NO.",null,"NO."]
[null,null,null,null,null,null,null,null,null,null,"SOUTH CAROLINA DEPARTMENT OF TRANSPORTATION",null,null,null,null,null,null,null,3,"S.C.","WILLIAMSBURG",null,39878,null,"45.039878A.1",null,"SC121",null,4]
[null,null,null,null,null,null,null,null,null,null,"SURVEY CONTROL DATA SHEET"]
[]
[]
[]
[]
[]
[]
[]
[]
[]
[]
[]
[]
[]
[]
[]
[]
[]
[]
[]
[]
[]
[]
[]
[]
[]
[]
[]
[]
[]
[]
[]
[]
[]
[]
[]
[]
[]
[]
[]
[]
[]
[]
[]
[]
[]
[]
[]
[]
[]
[]
[]
[]
[]
[]
[]
[]
[]
[]
[]
[]
[]
[]
[]
[]
[]
[]
[]
[]
[]
[]
[]
[]
[{"$f":"CELL(\"filename\")","v":"C:\\Users\\dawsonmh\\Desktop\\[Survey_Project_Report_ver21.0.xlsm]SUMMARY"}]
[]
[]
[]
[]
[]
[]
[]
[null,null,null,null,null,null,null,null,"REVISIONS"]
[null,null,"NOTES:",null,null,null,null,null,"DATE","TRACT NO.","REMARKS",null,null,"DATE","TRACT NO.","REMARKS"]
[null,null,"A","TOTAL OBTAIN INCLUDES HIGHLAND, MARSH AND OUTFALL DITCHES."]
[null,null,null,"OBTAINS WILL BE SHOWN IN SQUARE FEET AND ACRES. ACRES WILL"]
[null,null,null,"BE SHOWN IN PARENTHESES UNDER SQUARE FEET.  IN RURAL AREAS"]
[null,null,null,"OBTAINS MAY BE SHOWN IN ACRES ONLY."]
[]
[null,null,"B","SHOW REMAINDER IN SQUARE FEET WHEN LESS THAN 0.25 ACRE."]
[]
[null,{"$f":"TODAY()","v":"2021-12-02"}]

{"sheet":"Sheet5","index":10,"n_rows":0,"n_cols":0,"rows_kept":0,"cut":false,"hidden":true,"merged":[]}

{"sheet":"NEW","index":11,"n_rows":7,"n_cols":1,"rows_kept":7,"cut":false,"hidden":false,"merged":[[6,0,6,4],[0,0,0,4],[2,0,2,4],[3,0,3,4],[4,0,4,4],[5,0,5,4]]}
[{"$f":"SUMMARY!C5&\"  Survey New File\"","v":"  Survey New File"}]
[]
[{"$f":"SUMMARY!A3&\"       \"&SUMMARY!C3","v":"SURVEY GROUP:       "}]
[{"$f":"SUMMARY!A5&\"       \"&SUMMARY!C5","v":"ROAD/ROUTE:       "}]
[{"$f":"SUMMARY!A6&\"       \"&SUMMARY!C6","v":"PIN / PRJ ID:       "}]
[{"$f":"SUMMARY!A7&\"       \"&SUMMARY!C7","v":"CHARGE CODE:       "}]
[{"$f":"SUMMARY!A8&\"        \"&SUMMARY!C8","v":"COUNTY:        "}]

{"sheet":"UTILITY","index":12,"n_rows":35,"n_cols":4,"rows_kept":35,"cut":false,"hidden":false,"merged":[[9,0,9,7],[10,0,10,7],[11,0,11,7],[33,2,33,7],[34,2,34,7],[13,2,13,7],[14,2,14,7],[15,2,15,7],[17,2,17,7],[13,0,15,0],[17,0,19,0],[25,0,27,0],[29,0,31,0],[33,0,35,0],[21,0,23,0],[18,2,18,7],[0,0,0,7],[7,5,7,7],[1,0,1,7],[2,0,2,7],[3,0,3,7],[4,0,4,7],[5,0,5,7],[19,2,19,7],[21,2,21,7],[22,2,22,7],[23,2,23,7],[25,2,25,7],[26,2,26,7],[27,2,27,7],[35,2,35,7],[29,2,29,7],[30,2,30,7],[31,2,31,7]]}
[{"$f":"D4&\"  Utility Information\"","v":"  Utility Information"}]
[{"$f":"NEW!A3","v":"SURVEY GROUP:       "}]
[{"$f":"NEW!A4","v":"ROAD/ROUTE:       "}]
[{"$f":"NEW!A5","v":"PIN / PRJ ID:       "}]
[{"$f":"NEW!A6","v":"CHARGE CODE:       "}]
[{"$f":"NEW!A7","v":"COUNTY:        "}]
[]
["RAILROAD ON PROJECT:",null,null,"NO"]
["COMMENTS:"]
[]
[]
[]
["UTILITIES ON PROJECT"]
["POWER"]
[null,"Pick"]
[]
[]
["TELCOM"]
[null,"Pick"]
[]
[]
["CABLE"]
[null,"Pick"]
[]
[]
["GAS"]
[null,"Pick"]
[]
[]
["SEWER"]
[null,"Pick"]
[]
[]
["WATER"]
[null,"Pick"]

{"sheet":"PROPERTY RESEARCH","index":13,"n_rows":12,"n_cols":9,"rows_kept":12,"cut":false,"hidden":false,"merged":[[5,0,5,8],[0,0,0,8],[1,0,1,8],[2,0,2,8],[3,0,3,8],[4,0,4,8]]}
[{"$f":"SUMMARY!C5&\"  Property Owner Data\"","v":"  Property Owner Data"}]
[{"$f":"UTILITY!A2","v":"SURVEY GROUP:       "}]
[{"$f":"UTILITY!A3","v":"ROAD/ROUTE:       "}]
[{"$f":"UTILITY!A4","v":"PIN / PRJ ID:       "}]
[{"$f":"UTILITY!A5","v":"CHARGE CODE:       "}]
[{"$f":"UTILITY!A6","v":"COUNTY:        "}]
[]
[]
[]
["TRK","OWNERS' NAME","TAX-MAP","D.B. &","D.B.","P.B. &","P.B.","TRACT","DB,PB"]
["No.","(LAST, FIRST)","REFERENCE","PAGE","AREA","PAGE","AREA","AREA","or TM"]
[1]

{"sheet":"RW","index":14,"n_rows":79,"n_cols":11,"rows_kept":79,"cut":false,"hidden":false,"merged":[[37,6,37,7],[43,6,43,7],[77,1,77,2],[38,6,38,7],[49,0,49,7],[50,0,50,7],[54,0,54,7],[55,0,55,7],[59,0,59,7],[58,6,58,7],[74,0,74,7],[75,0,75,7],[32,1,32,2],[32,6,32,7],[1,0,1,7],[2,0,2,7],[3,0,3,7],[4,0,4,7],[5,0,5,7],[25,0,25,7],[13,6,13,7],[17,1,17,2],[17,6,17,7],[18,6,18,7],[22,1,22,2],[22,6,22,7],[23,6,23,7],[20,0,20,7],[0,0,0,7],[62,1,62,2],[62,6,62,7],[47,1,47,2],[47,6,47,7],[48,6,48,7],[7,1,7,2],[7,6,7,7],[8,6,8,7],[12,1,12,2],[12,6,12,7],[52,1,52,2],[27,6,27,7],[28,6,28,7],[33,6,33,7],[42,1,42,2],[24,0,24,7],[27,1,27,2],[37,1,37,2],[57,1,57,2],[57,6,57,7],[52,6,52,7],[53,6,53,7],[29,0,29,7],[30,0,30,7],[34,0,34,7],[35,0,35,7],[39,0,39,7],[40,0,40,7],[44,0,44,7],[45,0,45,7],[42,6,42,7],[9,0,9,7],[10,0,10,7],[14,0,14,7],[15,0,15,7],[19,0,19,7],[79,0,79,7],[80,0,80,7],[60,0,60,7],[64,0,64,7],[65,0,65,7],[69,0,69,7],[70,0,70,7],[77,6,77,7],[78,6,78,7],[67,1,67,2],[67,6,67,7],[68,6,68,7],[72,1,72,2],[72,6,72,7],[73,6,73,7],[63,6,63,7]]}
[{"$f":"D4&\"  Right of Way Info\"","v":"  Right of Way Info"},null,null,null,null,null,null,null,null,null,"SELECT"]
[{"$f":"'PROPERTY RESEARCH'!A2","v":"SURVEY GROUP:       "},null,null,null,null,null,null,null,null,null,"FILE #"]
[{"$f":"'PROPERTY RESEARCH'!A3","v":"ROAD/ROUTE:       "},null,null,null,null,null,null,null,null,null,"DEDICATED"]
[{"$f":"'PROPERTY RESEARCH'!A4","v":"PIN / PRJ ID:       "},null,null,null,null,null,null,null,null,null,"DEED BOOK"]
[{"$f":"'PROPERTY RESEARCH'!A5","v":"CHARGE CODE:       "},null,null,null,null,null,null,null,null,null,"PLAT BOOK"]
[{"$f":"'PROPERTY RESEARCH'!A6","v":"COUNTY:        "},null,null,null,null,null,null,null,null,null,"PRESCRIBED"]
[]
["ROUTE:",null,null,null,"R-W REFERENCE ","SELECT"]
["NOTES:",null,null,null,null,"SHEETS:"]
[]
[]
[]
["ROUTE:",null,null,null,"R-W REFERENCE ","SELECT"]
["NOTES:",null,null,null,null,"SHEETS:"]
[]
[]
[]
["ROUTE:",null,null,null,"R-W REFERENCE ","SELECT"]
["NOTES:",null,null,null,null,"SHEETS:"]
[]
[]
[]
["ROUTE:",null,null,null,"R-W REFERENCE ","SELECT"]
["NOTES:",null,null,null,null,"SHEETS:"]
[]
[]
[]
["ROUTE:",null,null,null,"R-W REFERENCE ","SELECT"]
["NOTES:",null,null,null,null,"SHEETS:"]
[]
[]
[]
["ROUTE:",null,null,null,"R-W REFERENCE ","SELECT"]
["NOTES:",null,null,null,null,"SHEETS:"]
[]
[]
[]
["ROUTE:",null,null,null,"R-W REFERENCE ","SELECT"]
["NOTES:",null,null,null,null,"SHEETS:"]
[]
[]
[]
["ROUTE:",null,null,null,"R-W REFERENCE ","SELECT"]
["NOTES:",null,null,null,null,"SHEETS:"]
[]
[]
[]
["ROUTE:",null,null,null,"R-W REFERENCE ","SELECT"]
["NOTES:",null,null,null,null,"SHEETS:"]
[]
[]
[]
["ROUTE:",null,null,null,"R-W REFERENCE ","SELECT"]
["NOTES:",null,null,null,null,"SHEETS:"]
[]
[]
[]
["ROUTE:",null,null,null,"R-W REFERENCE ","SELECT"]
["NOTES:",null,null,null,null,"SHEETS:"]
[]
[]
[]
["ROUTE:",null,null,null,"R-W REFERENCE ","SELECT"]
["NOTES:",null,null,null,null,"SHEETS:"]
[]
[]
[]
["ROUTE:",null,null,null,"R-W REFERENCE ","SELECT"]
["NOTES:",null,null,null,null,"SHEETS:"]
[]
[]
[]
["ROUTE:",null,null,null,"R-W REFERENCE ","SELECT"]
["NOTES:",null,null,null,null,"SHEETS:"]
[]
[]
[]
["ROUTE:",null,null,null,"R-W REFERENCE ","SELECT"]
["NOTES:",null,null,null,null,"SHEETS:"]

{"sheet":"SCDS 5A","index":15,"n_rows":87,"n_cols":137,"rows_kept":87,"cut":false,"hidden":false,"merged":[[80,38,80,83],[81,38,81,83],[82,38,82,83],[83,38,83,83],[84,38,84,83],[85,38,85,83],[86,38,86,83],[0,110,0,112],[1,110,1,112],[19,72,19,76],[25,41,25,44],[22,57,22,60],[22,90,22,93],[19,61,19,66],[71,84,73,102],[71,103,73,120],[79,84,86,120],[78,84,78,120],[74,84,74,120],[75,84,77,120],[34,41,34,44],[35,41,35,44],[58,41,58,44],[60,41,60,44],[0,113,0,115],[0,116,0,124],[26,41,26,44],[17,61,17,66],[21,72,21,76],[20,77,20,79],[7,101,7,105],[63,41,63,44],[0,125,0,128],[0,129,0,135],[0,136,0,139],[1,136,1,139],[1,129,1,135],[1,125,1,128],[1,116,1,124],[1,113,1,115],[2,116,2,124],[13,72,13,76],[14,72,14,76],[15,72,15,76],[16,72,16,76],[17,72,17,76],[18,72,18,76],[12,77,12,79],[13,77,13,79],[14,77,14,79],[15,77,15,79],[2,129,2,135],[2,136,2,139],[2,125,2,128],[2,110,2,112],[2,113,2,115],[10,120,10,123],[11,115,11,119],[11,120,11,123],[7,115,7,119],[8,80,8,85],[7,120,7,123],[9,106,9,109],[5,101,6,105],[74,29,74,36],[75,29,75,36],[76,29,76,36],[77,29,77,36],[78,29,78,36],[5,90,6,93],[5,106,6,109],[7,90,7,93],[7,106,7,109],[35,29,35,36],[36,29,36,36],[25,29,25,36],[26,29,26,36],[27,29,27,36],[28,29,28,36],[29,29,29,36],[30,29,30,36],[31,29,31,36],[18,41,18,44],[19,41,19,44],[20,41,20,44],[71,38,72,83],[73,38,73,83],[53,29,53,36],[55,29,55,36],[76,38,76,83],[77,38,77,83],[78,38,78,83],[19,57,19,60],[20,57,20,60],[74,38,74,83],[75,38,75,83],[3,2,4,36],[5,115,6,119],[5,120,6,123],[5,61,6,66],[7,61,7,66],[7,57,7,60],[5,57,6,60],[5,41,6,44],[7,41,7,44],[5,9,6,13],[7,9,7,13],[7,77,7,79],[5,77,6,79],[5,29,6,36],[7,29,7,36],[7,52,7,56],[5,52,6,56],[5,67,6,71],[7,67,7,71],[5,110,6,114],[7,110,7,114],[3,41,4,85],[3,90,4,132],[5,80,6,85],[7,80,7,85],[5,124,6,132],[7,124,7,132],[7,94,7,100],[5,23,6,28],[7,23,7,28],[80,9,80,13],[61,29,61,36],[62,29,62,36],[63,29,63,36],[63,2,63,8],[75,9,75,13],[58,29,58,36],[61,9,61,13],[61,2,61,8],[61,14,61,17],[57,9,57,13],[57,2,57,8],[58,9,58,13],[59,9,59,13],[60,9,60,13],[58,2,58,8],[59,2,59,8],[60,2,60,8],[57,14,57,17],[58,14,58,17],[62,9,62,13],[63,9,63,13],[62,14,62,17],[66,23,66,28],[67,23,67,28],[68,23,68,28],[62,2,62,8],[62,18,62,22],[63,18,63,22],[64,18,64,22],[79,29,79,36],[74,9,74,13],[76,9,76,13],[77,9,77,13],[78,9,78,13],[73,2,73,8],[74,2,74,8],[77,2,77,8],[78,2,78,8],[79,9,79,13],[27,41,27,44],[30,41,30,44],[31,41,31,44],[79,38,79,83],[64,41,64,44],[64,9,64,13],[65,9,65,13],[66,9,66,13],[64,2,64,8],[65,2,65,8],[66,2,66,8],[66,41,66,44],[67,9,67,13],[68,9,68,13],[64,29,64,36],[65,29,65,36],[66,29,66,36],[67,29,67,36],[63,14,63,17],[64,14,64,17],[68,29,68,36],[67,2,67,8],[68,2,68,8],[59,14,59,17],[81,9,81,13],[82,9,82,13],[83,9,83,13],[84,9,84,13],[79,2,79,8],[80,2,80,8],[81,2,81,8],[82,2,82,8],[83,2,83,8],[84,2,84,8],[69,29,69,36],[71,29,71,36],[70,9,70,13],[71,9,71,13],[72,9,72,13],[70,2,70,8],[71,2,71,8],[72,2,72,8],[70,29,70,36],[73,9,73,13],[73,29,73,36],[72,29,72,36],[69,14,69,17],[70,14,70,17],[71,14,71,17],[72,14,72,17],[73,14,73,17],[69,9,69,13],[69,2,69,8],[71,23,71,28],[83,29,83,36],[84,29,84,36],[57,29,57,36],[51,14,51,17],[37,2,37,8],[38,2,38,8],[39,2,39,8],[39,29,39,36],[38,14,38,17],[39,14,39,17],[57,23,57,28],[58,23,58,28],[60,14,60,17],[59,29,59,36],[60,29,60,36],[59,41,59,44],[52,9,52,13],[53,9,53,13],[54,9,54,13],[52,2,52,8],[53,2,53,8],[54,2,54,8],[52,29,52,36],[54,41,54,44],[49,18,49,22],[56,41,56,44],[55,9,55,13],[56,9,56,13],[54,14,54,17],[55,14,55,17],[56,14,56,17],[56,18,56,22],[52,18,52,22],[37,41,37,44],[29,14,29,17],[45,9,45,13],[34,9,34,13],[35,9,35,13],[36,9,36,13],[34,29,34,36],[37,29,37,36],[38,29,38,36],[34,14,34,17],[35,14,35,17],[36,14,36,17],[37,9,37,13],[38,9,38,13],[39,9,39,13],[41,29,41,36],[42,29,42,36],[43,29,43,36],[44,29,44,36],[35,18,35,22],[36,18,36,22],[37,18,37,22],[38,18,38,22],[39,18,39,22],[37,14,37,17],[42,9,42,13],[29,9,29,13],[30,9,30,13],[31,9,31,13],[45,29,45,36],[36,23,36,28],[37,23,37,28],[45,18,45,22],[24,41,24,44],[5,94,6,100],[16,77,16,79],[17,77,17,79],[18,77,18,79],[19,77,19,79],[12,90,12,93],[29,61,29,66],[30,61,30,66],[30,57,30,60],[30,90,30,93],[30,14,30,17],[31,14,31,17],[7,72,7,76],[5,72,6,76],[8,77,8,79],[9,77,9,79],[10,77,10,79],[26,18,26,22],[27,18,27,22],[10,80,10,85],[11,80,11,85],[10,72,10,76],[11,72,11,76],[12,72,12,76],[25,72,25,76],[26,72,26,76],[27,72,27,76],[16,57,16,60],[13,61,13,66],[28,18,28,22],[28,14,28,17],[12,101,12,105],[13,101,13,105],[14,101,14,105],[15,101,15,105],[16,101,16,105],[9,110,9,114],[12,110,12,114],[13,110,13,114],[14,110,14,114],[15,110,15,114],[16,110,16,114],[12,106,12,109],[13,90,13,93],[13,106,13,109],[14,90,14,93],[11,90,11,93],[21,77,21,79],[14,67,14,71],[15,67,15,71],[9,80,9,85],[17,110,17,114],[15,120,15,123],[12,115,12,119],[12,120,12,123],[13,115,13,119],[17,115,17,119],[17,120,17,123],[16,120,16,123],[14,115,14,119],[14,120,14,123],[15,115,15,119],[12,94,12,100],[9,94,9,100],[10,94,10,100],[10,115,10,119],[13,120,13,123],[11,77,11,79],[9,67,9,71],[10,67,10,71],[11,67,11,71],[12,67,12,71],[15,90,15,93],[15,106,15,109],[16,90,16,93],[16,106,16,109],[17,90,17,93],[15,94,15,100],[17,106,17,109],[9,120,9,123],[8,101,8,105],[9,101,9,105],[10,101,10,105],[11,101,11,105],[9,115,9,119],[28,41,28,44],[8,90,8,93],[10,110,10,114],[11,110,11,114],[8,106,8,109],[10,90,10,93],[10,106,10,109],[16,94,16,100],[12,80,12,85],[8,110,8,114],[8,94,8,100],[8,41,8,44],[9,41,9,44],[11,41,11,44],[8,57,8,60],[8,61,8,66],[9,90,9,93],[11,61,11,66],[11,57,11,60],[11,106,11,109],[8,52,8,56],[11,94,11,100],[15,41,15,44],[16,41,16,44],[8,67,8,71],[8,72,8,76],[9,72,9,76],[27,80,27,85],[28,80,28,85],[27,90,27,93],[27,94,27,100],[27,106,27,109],[24,72,24,76],[20,72,20,76],[22,72,22,76],[20,110,20,114],[19,110,19,114],[26,110,26,114],[27,110,27,114],[28,110,28,114],[23,106,23,109],[24,106,24,109],[23,101,23,105],[24,101,24,105],[25,101,25,105],[28,90,28,93],[28,106,28,109],[23,90,23,93],[23,72,23,76],[21,110,21,114],[22,110,22,114],[26,90,26,93],[25,90,25,93],[22,77,22,79],[13,41,13,44],[13,57,13,60],[14,106,14,109],[13,94,13,100],[14,94,14,100],[21,94,21,100],[18,101,18,105],[19,101,19,105],[20,101,20,105],[21,101,21,105],[22,101,22,105],[13,80,13,85],[14,80,14,85],[15,80,15,85],[16,80,16,85],[17,80,17,85],[18,80,18,85],[19,80,19,85],[20,80,20,85],[21,80,21,85],[22,80,22,85],[16,67,16,71],[17,94,17,100],[22,41,22,44],[21,67,21,71],[21,61,21,66],[14,41,14,44],[14,57,14,60],[14,61,14,66],[17,67,17,71],[17,101,17,105],[13,67,13,71],[18,120,18,123],[19,115,19,119],[19,120,19,123],[31,115,31,119],[31,120,31,123],[33,110,33,114],[32,110,32,114],[28,115,28,119],[28,120,28,123],[29,115,29,119],[29,120,29,123],[26,115,26,119],[26,120,26,123],[27,115,27,119],[27,120,27,123],[23,110,23,114],[29,110,29,114],[30,110,30,114],[31,110,31,114],[30,115,30,119],[30,120,30,123],[22,115,22,119],[22,120,22,123],[23,115,23,119],[23,120,23,123],[24,110,24,114],[25,110,25,114],[18,110,18,114],[47,115,47,119],[47,120,47,123],[46,110,46,114],[47,110,47,114],[48,110,48,114],[49,110,49,114],[25,115,25,119],[48,120,48,123],[48,115,48,119],[44,110,44,114],[45,110,45,114],[35,110,35,114],[36,115,36,119],[36,120,36,123],[34,115,34,119],[34,120,34,123],[35,115,35,119],[35,120,35,123],[45,120,45,123],[34,110,34,114],[45,115,45,119],[36,110,36,114],[37,110,37,114],[38,110,38,114],[39,110,39,114],[43,115,43,119],[42,115,42,119],[42,120,42,123],[43,120,43,123],[10,57,10,60],[12,61,12,66],[12,57,12,60],[12,41,12,44],[62,120,62,123],[56,115,56,119],[56,120,56,123],[50,115,50,119],[50,120,50,123],[44,115,44,119],[44,120,44,123],[38,115,38,119],[35,57,35,60],[35,61,35,66],[36,41,36,44],[36,57,36,60],[28,61,28,66],[27,57,27,60],[28,57,28,60],[25,61,25,66],[26,61,26,66],[26,57,26,60],[49,45,49,51],[39,41,39,44],[59,115,59,119],[38,120,38,123],[39,115,39,119],[40,115,40,119],[49,115,49,119],[49,120,49,123],[46,115,46,119],[46,120,46,123],[69,115,69,119],[69,120,69,123],[66,115,66,119],[66,120,66,123],[64,115,64,119],[64,120,64,123],[40,57,40,60],[40,61,40,66],[36,45,36,51],[37,115,37,119],[37,120,37,123],[52,115,52,119],[52,120,52,123],[53,115,53,119],[53,120,53,123],[52,110,52,114],[53,110,53,114],[54,110,54,114],[55,110,55,114],[50,45,50,51],[54,120,54,123],[55,120,55,123],[41,115,41,119],[41,120,41,123],[40,110,40,114],[41,110,41,114],[42,110,42,114],[43,110,43,114],[51,115,51,119],[51,120,51,123],[40,120,40,123],[39,120,39,123],[38,67,38,71],[39,67,39,71],[40,67,40,71],[41,67,41,71],[42,67,42,71],[38,77,38,79],[45,90,45,93],[43,80,43,85],[44,80,44,85],[43,77,43,79],[44,77,44,79],[36,77,36,79],[34,77,34,79],[44,90,44,93],[50,94,50,100],[46,90,46,93],[41,90,41,93],[50,67,50,71],[50,72,50,76],[50,77,50,79],[37,90,37,93],[38,80,38,85],[39,80,39,85],[40,80,40,85],[41,80,41,85],[42,80,42,85],[46,106,46,109],[41,106,41,109],[42,106,42,109],[43,106,43,109],[30,94,30,100],[31,94,31,100],[32,52,32,56],[30,72,30,76],[31,72,31,76],[32,72,32,76],[30,67,30,71],[33,67,33,71],[34,67,34,71],[35,67,35,71],[36,67,36,71],[32,67,32,71],[36,61,36,66],[30,52,30,56],[31,52,31,56],[36,52,36,56],[37,52,37,56],[38,52,38,56],[34,106,34,109],[34,90,34,93],[36,90,36,93],[37,57,37,60],[37,61,37,66],[44,57,44,60],[44,61,44,66],[44,52,44,56],[37,67,37,71],[37,77,37,79],[38,61,38,66],[54,45,54,51],[55,45,55,51],[56,45,56,51],[56,52,56,56],[54,57,54,60],[54,61,54,66],[31,61,31,66],[32,61,32,66],[31,57,31,60],[32,57,32,60],[43,61,43,66],[39,57,39,60],[39,61,39,66],[41,57,41,60],[41,61,41,66],[34,61,34,66],[34,57,34,60],[33,61,33,66],[34,52,34,56],[35,52,35,56],[45,52,45,56],[48,57,48,60],[48,61,48,66],[55,57,55,60],[52,57,52,60],[51,61,51,66],[38,57,38,60],[35,45,35,51],[55,72,55,76],[40,52,40,56],[41,52,41,56],[46,67,46,71],[54,90,54,93],[52,45,52,51],[53,45,53,51],[56,57,56,60],[56,61,56,66],[57,72,57,76],[58,72,58,76],[52,67,52,71],[44,67,44,71],[53,67,53,71],[54,67,54,71],[49,72,49,76],[53,72,53,76],[54,72,54,76],[48,77,48,79],[42,77,42,79],[45,77,45,79],[46,77,46,79],[43,52,43,56],[50,52,50,56],[43,57,43,60],[44,45,44,51],[49,52,49,56],[51,52,51,56],[52,52,52,56],[50,57,50,60],[50,61,50,66],[55,41,55,44],[45,41,45,44],[45,57,45,60],[45,61,45,66],[51,41,51,44],[46,52,46,56],[63,52,63,56],[62,57,62,60],[53,57,53,60],[52,61,52,66],[47,52,47,56],[48,52,48,56],[54,52,54,56],[57,52,57,56],[58,52,58,56],[59,52,59,56],[59,57,59,60],[59,61,59,66],[57,41,57,44],[57,57,57,60],[57,61,57,66],[61,41,61,44],[58,61,58,66],[60,52,60,56],[62,45,62,51],[49,57,49,60],[49,61,49,66],[61,52,61,56],[62,61,62,66],[62,41,62,44],[64,45,64,51],[65,45,65,51],[64,52,64,56],[63,57,63,60],[63,61,63,66],[60,57,60,60],[60,61,60,66],[61,57,61,60],[61,61,61,66],[58,57,58,60],[60,45,60,51],[58,45,58,51],[59,45,59,51],[61,45,61,51],[55,61,55,66],[31,106,31,109],[32,90,32,93],[32,106,32,109],[31,90,31,93],[53,94,53,100],[51,94,51,100],[47,90,47,93],[49,90,49,93],[53,90,53,93],[52,94,52,100],[54,106,54,109],[58,106,58,109],[55,90,55,93],[49,106,49,109],[41,94,41,100],[41,101,41,105],[62,52,62,56],[30,106,30,109],[21,106,21,109],[18,90,18,93],[19,90,19,93],[20,90,20,93],[21,90,21,93],[24,90,24,93],[26,106,26,109],[22,106,22,109],[18,106,18,109],[19,106,19,109],[20,106,20,109],[22,94,22,100],[23,94,23,100],[24,94,24,100],[25,106,25,109],[28,94,28,100],[42,94,42,100],[43,94,43,100],[44,94,44,100],[45,94,45,100],[46,94,46,100],[42,101,42,105],[43,101,43,105],[44,101,44,105],[45,101,45,105],[46,101,46,105],[47,101,47,105],[49,101,49,105],[50,101,50,105],[51,101,51,105],[47,94,47,100],[48,94,48,100],[49,94,49,100],[25,67,25,71],[31,67,31,71],[44,106,44,109],[45,106,45,109],[33,106,33,109],[49,9,49,13],[43,9,43,13],[44,9,44,13],[43,2,43,8],[44,2,44,8],[45,2,45,8],[32,9,32,13],[40,2,40,8],[41,2,41,8],[42,2,42,8],[33,52,33,56],[48,72,48,76],[39,52,39,56],[43,72,43,76],[44,72,44,76],[45,72,45,76],[43,67,43,71],[49,67,49,71],[45,67,45,71],[47,67,47,71],[48,67,48,71],[46,72,46,76],[49,77,49,79],[39,101,39,105],[37,101,37,105],[35,101,35,105],[36,101,36,105],[51,2,51,8],[49,2,49,8],[39,106,39,109],[40,106,40,109],[35,106,35,109],[13,9,13,13],[14,9,14,13],[15,9,15,13],[16,9,16,13],[17,9,17,13],[18,9,18,13],[19,9,19,13],[20,9,20,13],[21,9,21,13],[22,9,22,13],[23,9,23,13],[24,9,24,13],[40,9,40,13],[41,9,41,13],[33,9,33,13],[25,9,25,13],[26,9,26,13],[27,9,27,13],[28,9,28,13],[26,67,26,71],[18,67,18,71],[19,67,19,71],[20,67,20,71],[25,57,25,60],[20,61,20,66],[18,61,18,66],[18,57,18,60],[50,14,50,17],[40,29,40,36],[86,2,86,8],[85,9,85,13],[86,9,86,13],[5,2,6,8],[7,2,7,8],[8,2,8,8],[9,2,9,8],[10,2,10,8],[11,2,11,8],[12,2,12,8],[13,2,13,8],[14,2,14,8],[15,2,15,8],[16,2,16,8],[17,2,17,8],[18,2,18,8],[19,2,19,8],[20,2,20,8],[21,2,21,8],[55,2,55,8],[56,2,56,8],[46,9,46,13],[47,9,47,13],[48,9,48,13],[46,2,46,8],[47,2,47,8],[48,2,48,8],[50,9,50,13],[51,9,51,13],[50,2,50,8],[53,41,53,44],[28,23,28,28],[74,14,74,17],[80,14,80,17],[81,14,81,17],[82,14,82,17],[40,14,40,17],[41,14,41,17],[42,14,42,17],[43,14,43,17],[44,14,44,17],[52,14,52,17],[53,14,53,17],[60,18,60,22],[65,14,65,17],[72,23,72,28],[73,23,73,28],[46,29,46,36],[47,29,47,36],[47,18,47,22],[48,18,48,22],[54,23,54,28],[55,23,55,28],[56,23,56,28],[48,29,48,36],[49,29,49,36],[50,18,50,22],[51,18,51,22],[46,23,46,28],[47,23,47,28],[48,23,48,28],[54,29,54,36],[10,41,10,44],[23,41,23,44],[8,29,8,36],[9,29,9,36],[10,29,10,36],[11,29,11,36],[32,41,32,44],[46,41,46,44],[22,2,22,8],[23,2,23,8],[24,2,24,8],[25,2,25,8],[26,2,26,8],[27,2,27,8],[75,2,75,8],[76,2,76,8],[8,9,8,13],[9,9,9,13],[10,9,10,13],[11,9,11,13],[12,9,12,13],[28,2,28,8],[29,2,29,8],[30,2,30,8],[31,2,31,8],[32,2,32,8],[33,2,33,8],[34,2,34,8],[35,2,35,8],[36,2,36,8],[68,41,68,44],[65,41,65,44],[85,18,85,22],[54,18,54,22],[67,41,67,44],[29,18,29,22],[30,18,30,22],[69,23,69,28],[51,29,51,36],[21,29,21,36],[22,29,22,36],[23,29,23,36],[24,29,24,36],[29,41,29,44],[85,29,85,36],[86,29,86,36],[5,45,6,51],[7,45,7,51],[8,45,8,51],[9,45,9,51],[10,45,10,51],[11,45,11,51],[12,45,12,51],[13,45,13,51],[14,45,14,51],[15,45,15,51],[16,45,16,51],[17,45,17,51],[18,45,18,51],[19,45,19,51],[20,45,20,51],[21,45,21,51],[22,45,22,51],[63,45,63,51],[66,45,66,51],[67,45,67,51],[64,57,64,60],[64,61,64,66],[65,57,65,60],[65,61,65,66],[38,41,38,44],[37,45,37,51],[38,45,38,51],[40,41,40,44],[41,41,41,44],[85,2,85,8],[12,29,12,36],[13,29,13,36],[14,29,14,36]],"merged_total":1617,"flags":["merged_cut"]}
[null,null,null,null,null,null,null,null,null,null,null,null,null,null,null,null,null,null,null,null,null,null,null,null,null,null,null,null,null,null,null,null,null,null,null,null,null,null,null,null,null,null,null,null,null,null,null,null,null,null,null,null,null,null,null,null,null,null,null,null,null,null,null,null,null,null,null,null,null,null,null,null,null,null,null,null,null,null,null,null,null,null,null,null,null,null,null,null,null,null,null,null,null,null,null,null,null,null,null,null,null,null,null,null,null,null,null,null,null,null,"FED. RD.                               DIV. NO.",null,null,"STATE",null,null,"COUNTY",null,null,null,null,null,null,null,null,"PROJECT ID",null,null,null,"ROAD/ROUTE NO.",null,null,null,null,null,null,"SHEET NO."]
[null,null,null,null,null,null,null,null,null,null,null,null,null,null,null,null,null,null,null,null,null,null,null,null,null,null,null,null,null,null,null,null,null,null,null,null,null,null,null,null,null,null,null,null,null,null,null,null,null,null,null,null,null,null,null,null,null,null,null,null,null,null,null,null,null,null,null,null,null,null,null,null,null,null,null,null,null,null,null,null,null,null,null,null,null,null,null,null,null,null,null,null,null,null,null,null,null,null,null,null,null,null,null,null,null,null,null,null,null,null,3,null,null,"SC",null,null,{"$f":"SUMMARY!C8","v":0},null,null,null,null,null,null,null,null,{"$f":"SUMMARY!C6","v":0},null,null,null,{"$f":"SUMMARY!C5","v":0},null,null,null,null,null,null,"5A"]
[]
[null,null,"PROPERTY MONUMENTS FOUND",null,null,null,null,null,null,null,null,null,null,null,null,null,null,null,null,null,null,null,null,null,null,null,null,null,null,null,null,null,null,null,null,null,null,null,null,null,null,"SURVEY CONTROL POINTS",null,null,null,null,null,null,null,null,null,null,null,null,null,null,null,null,null,null,null,null,null,null,null,null,null,null,null,null,null,null,null,null,null,null,null,null,null,null,null,null,null,null,null,null,null,null,null,null,"PROJECT BENCHMARKS"]
[]
[null,null,"ALIGNMENT",null,null,null,null,null,null,"STATION",null,null,null,null,"OFFSET",null,null,null,"NORTHING",null,null,null,null,"EASTING",null,null,null,null,null,"DESCRIPTION",null,null,null,null,null,null,null,null,null,null,null,"POINT ID",null,null,null,"ALIGNMENT",null,null,null,null,null,null,"STATION",null,null,null,null,"OFFSET",null,null,null,"COMBINED SCALE FACTOR",null,null,null,null,null,"NORTHING",null,null,null,null,"EASTING",null,null,null,null,"ELEV.",null,null,"DESCRIPTION",null,null,null,null,null,null,null,null,null,"POINT ID",null,null,null,"ALIGNMENT",null,null,null,null,null,null,"STATION",null,null,null,null,"OFFSET",null,null,null,"NORTHING",null,null,null,null,"EASTING",null,null,null,null,"ELEV.",null,null,null,"DESCRIPTION"]
[]
[null,null,{"$f":"'PROPERTY MONUMENTS'!B11","v":0},null,null,null,null,null,null,{"$f":"'PROPERTY MONUMENTS'!C11","v":0},null,null,null,null,{"$f":"'PROPERTY MONUMENTS'!D11","v":0},null,null,null,{"$f":"'PROPERTY MONUMENTS'!E11","v":0},null,null,null,null,{"$f":"'PROPERTY MONUMENTS'!F11","v":0},null,null,null,null,null,{"$f":"'PROPERTY MONUMENTS'!H11","v":0},null,null,null,null,null,null,null,null,null,null,null,{"$f":"CONTROL!A11","v":0},null,null,null,{"$f":"CONTROL!B11","v":0},null,null,null,null,null,null,{"$f":"CONTROL!C11","v":0},null,null,null,null,{"$f":"CONTROL!D11","v":0},null,null,null,{"$f":"CONTROL!N11","v":1.0004044282338804},null,null,null,null,null,{"$f":"CONTROL!E11","v":0},null,null,null,null,{"$f":"CONTROL!F11","v":0},null,null,null,null,{"$f":"CONTROL!G11","v":0},null,null,{"$f":"CONTROL!H11","v":0},null,null,null,null,null,null,null,null,null,{"$f":"BENCHMARK!A11","v":0},null,null,null,{"$f":"BENCHMARK!B11","v":0},null,null,null,null,null,null,{"$f":"BENCHMARK!C11","v":0},null,null,null,null,{"$f":"BENCHMARK!D11","v":0},null,null,null,{"$f":"BENCHMARK!E11","v":0},null,null,null,null,{"$f":"BENCHMARK!F11","v":0},null,null,null,null,{"$f":"BENCHMARK!G11","v":0},null,null,null,{"$f":"BENCHMARK!H11","v":0}]
[null,null,{"$f":"'PROPERTY MONUMENTS'!B12","v":0},null,null,null,null,null,null,{"$f":"'PROPERTY MONUMENTS'!C12","v":0},null,null,null,null,{"$f":"'PROPERTY MONUMENTS'!D12","v":0},null,null,null,{"$f":"'PROPERTY MONUMENTS'!E12","v":0},null,null,null,null,{"$f":"'PROPERTY MONUMENTS'!F12","v":0},null,null,null,null,null,{"$f":"'PROPERTY MONUMENTS'!H12","v":0},null,null,null,null,null,null,null,null,null,null,null,{"$f":"CONTROL!A12","v":0},null,null,null,{"$f":"CONTROL!B12","v":0},null,null,null,null,null,null,{"$f":"CONTROL!C12","v":0},null,null,null,null,{"$f":"CONTROL!D12","v":0},null,null,null,{"$f":"CONTROL!N12","v":1.0004044282338804},null,null,null,null,null,{"$f":"CONTROL!E12","v":0},null,null,null,null,{"$f":"CONTROL!F12","v":0},null,null,null,null,{"$f":"CONTROL!G12","v":0},null,null,{"$f":"CONTROL!H12","v":0},null,null,null,null,null,null,null,null,null,{"$f":"BENCHMARK!A12","v":0},null,null,null,{"$f":"BENCHMARK!B12","v":0},null,null,null,null,null,null,{"$f":"BENCHMARK!C12","v":0},null,null,null,null,{"$f":"BENCHMARK!D12","v":0},null,null,null,{"$f":"BENCHMARK!E12","v":0},null,null,null,null,{"$f":"BENCHMARK!F12","v":0},null,null,null,null,{"$f":"BENCHMARK!G12","v":0},null,null,null,{"$f":"BENCHMARK!H12","v":0}]
[null,null,{"$f":"'PROPERTY MONUMENTS'!B13","v":0},null,null,null,null,null,null,{"$f":"'PROPERTY MONUMENTS'!C13","v":0},null,null,null,null,{"$f":"'PROPERTY MONUMENTS'!D13","v":0},null,null,null,{"$f":"'PROPERTY MONUMENTS'!E13","v":0},null,null,null,null,{"$f":"'PROPERTY MONUMENTS'!F13","v":0},null,null,null,null,null,{"$f":"'PROPERTY MONUMENTS'!H13","v":0},null,null,null,null,null,null,null,null,null,null,null,{"$f":"CONTROL!A13","v":0},null,null,null,{"$f":"CONTROL!B13","v":0},null,null,null,null,null,null,{"$f":"CONTROL!C13","v":0},null,null,null,null,{"$f":"CONTROL!D13","v":0},null,null,null,{"$f":"CONTROL!N13","v":1.0004044282338804},null,null,null,null,null,{"$f":"CONTROL!E13","v":0},null,null,null,null,{"$f":"CONTROL!F13","v":0},null,null,null,null,{"$f":"CONTROL!G13","v":0},null,null,{"$f":"CONTROL!H13","v":0},null,null,null,null,null,null,null,null,null,{"$f":"BENCHMARK!A13","v":0},null,null,null,{"$f":"BENCHMARK!B13","v":0},null,null,null,null,null,null,{"$f":"BENCHMARK!C13","v":0},null,null,null,null,{"$f":"BENCHMARK!D13","v":0},null,null,null,{"$f":"BENCHMARK!E13","v":0},null,null,null,null,{"$f":"BENCHMARK!F13","v":0},null,null,null,null,{"$f":"BENCHMARK!G13","v":0},null,null,null,{"$f":"BENCHMARK!H13","v":0}]
[null,null,{"$f":"'PROPERTY MONUMENTS'!B14","v":0},null,null,null,null,null,null,{"$f":"'PROPERTY MONUMENTS'!C14","v":0},null,null,null,null,{"$f":"'PROPERTY MONUMENTS'!D14","v":0},null,null,null,{"$f":"'PROPERTY MONUMENTS'!E14","v":0},null,null,null,null,{"$f":"'PROPERTY MONUMENTS'!F14","v":0},null,null,null,null,null,{"$f":"'PROPERTY MONUMENTS'!H14","v":0},null,null,null,null,null,null,null,null,null,null,null,{"$f":"CONTROL!A14","v":0},null,null,null,{"$f":"CONTROL!B14","v":0},null,null,null,null,null,null,{"$f":"CONTROL!C14","v":0},null,null,null,null,{"$f":"CONTROL!D14","v":0},null,null,null,{"$f":"CONTROL!N14","v":1.0004044282338804},null,null,null,null,null,{"$f":"CONTROL!E14","v":0},null,null,null,null,{"$f":"CONTROL!F14","v":0},null,null,null,null,{"$f":"CONTROL!G14","v":0},null,null,{"$f":"CONTROL!H14","v":0},null,null,null,null,null,null,null,null,null,{"$f":"BENCHMARK!A14","v":0},null,null,null,{"$f":"BENCHMARK!B14","v":0},null,null,null,null,null,null,{"$f":"BENCHMARK!C14","v":0},null,null,null,null,{"$f":"BENCHMARK!D14","v":0},null,null,null,{"$f":"BENCHMARK!E14","v":0},null,null,null,null,{"$f":"BENCHMARK!F14","v":0},null,null,null,null,{"$f":"BENCHMARK!G14","v":0},null,null,null,{"$f":"BENCHMARK!H14","v":0}]
[null,null,{"$f":"'PROPERTY MONUMENTS'!B15","v":0},null,null,null,null,null,null,{"$f":"'PROPERTY MONUMENTS'!C15","v":0},null,null,null,null,{"$f":"'PROPERTY MONUMENTS'!D15","v":0},null,null,null,{"$f":"'PROPERTY MONUMENTS'!E15","v":0},null,null,null,null,{"$f":"'PROPERTY MONUMENTS'!F15","v":0},null,null,null,null,null,{"$f":"'PROPERTY MONUMENTS'!H15","v":0},null,null,null,null,null,null,null,null,null,null,null,{"$f":"CONTROL!A15","v":0},null,null,null,{"$f":"CONTROL!B15","v":0},null,null,null,null,null,null,{"$f":"CONTROL!C15","v":0},null,null,null,null,{"$f":"CONTROL!D15","v":0},null,null,null,{"$f":"CONTROL!N15","v":1.0004044282338804},null,null,null,null,null,{"$f":"CONTROL!E15","v":0},null,null,null,null,{"$f":"CONTROL!F15","v":0},null,null,null,null,{"$f":"CONTROL!G15","v":0},null,null,{"$f":"CONTROL!H15","v":0},null,null,null,null,null,null,null,null,null,{"$f":"BENCHMARK!A15","v":0},null,null,null,{"$f":"BENCHMARK!B15","v":0},null,null,null,null,null,null,{"$f":"BENCHMARK!C15","v":0},null,null,null,null,{"$f":"BENCHMARK!D15","v":0},null,null,null,{"$f":"BENCHMARK!E15","v":0},null,null,null,null,{"$f":"BENCHMARK!F15","v":0},null,null,null,null,{"$f":"BENCHMARK!G15","v":0},null,null,null,{"$f":"BENCHMARK!H15","v":0}]
[null,null,{"$f":"'PROPERTY MONUMENTS'!B16","v":0},null,null,null,null,null,null,{"$f":"'PROPERTY MONUMENTS'!C16","v":0},null,null,null,null,{"$f":"'PROPERTY MONUMENTS'!D16","v":0},null,null,null,{"$f":"'PROPERTY MONUMENTS'!E16","v":0},null,null,null,null,{"$f":"'PROPERTY MONUMENTS'!F16","v":0},null,null,null,null,null,{"$f":"'PROPERTY MONUMENTS'!H16","v":0},null,null,null,null,null,null,null,null,null,null,null,{"$f":"CONTROL!A16","v":0},null,null,null,{"$f":"CONTROL!B16","v":0},null,null,null,null,null,null,{"$f":"CONTROL!C16","v":0},null,null,null,null,{"$f":"CONTROL!D16","v":0},null,null,null,{"$f":"CONTROL!N16","v":1.0004044282338804},null,null,null,null,null,{"$f":"CONTROL!E16","v":0},null,null,null,null,{"$f":"CONTROL!F16","v":0},null,null,null,null,{"$f":"CONTROL!G16","v":0},null,null,{"$f":"CONTROL!H16","v":0},null,null,null,null,null,null,null,null,null,{"$f":"BENCHMARK!A16","v":0},null,null,null,{"$f":"BENCHMARK!B16","v":0},null,null,null,null,null,null,{"$f":"BENCHMARK!C16","v":0},null,null,null,null,{"$f":"BENCHMARK!D16","v":0},null,null,null,{"$f":"BENCHMARK!E16","v":0},null,null,null,null,{"$f":"BENCHMARK!F16","v":0},null,null,null,null,{"$f":"BENCHMARK!G16","v":0},null,null,null,{"$f":"BENCHMARK!H16","v":0}]
[null,null,{"$f":"'PROPERTY MONUMENTS'!B17","v":0},null,null,null,null,null,null,{"$f":"'PROPERTY MONUMENTS'!C17","v":0},null,null,null,null,{"$f":"'PROPERTY MONUMENTS'!D17","v":0},null,null,null,{"$f":"'PROPERTY MONUMENTS'!E17","v":0},null,null,null,null,{"$f":"'PROPERTY MONUMENTS'!F17","v":0},null,null,null,null,null,{"$f":"'PROPERTY MONUMENTS'!H17","v":0},null,null,null,null,null,null,null,null,null,null,null,{"$f":"CONTROL!A17","v":0},null,null,null,{"$f":"CONTROL!B17","v":0},null,null,null,null,null,null,{"$f":"CONTROL!C17","v":0},null,null,null,null,{"$f":"CONTROL!D17","v":0},null,null,null,{"$f":"CONTROL!N17","v":1.0004044282338804},null,null,null,null,null,{"$f":"CONTROL!E17","v":0},null,null,null,null,{"$f":"CONTROL!F17","v":0},null,null,null,null,{"$f":"CONTROL!G17","v":0},null,null,{"$f":"CONTROL!H17","v":0},null,null,null,null,null,null,null,null,null,{"$f":"BENCHMARK!A17","v":0},null,null,null,{"$f":"BENCHMARK!B17","v":0},null,null,null,null,null,null,{"$f":"BENCHMARK!C17","v":0},null,null,null,null,{"$f":"BENCHMARK!D17","v":0},null,null,null,{"$f":"BENCHMARK!E17","v":0},null,null,null,null,{"$f":"BENCHMARK!F17","v":0},null,null,null,null,{"$f":"BENCHMARK!G17","v":0},null,null,null,{"$f":"BENCHMARK!H17","v":0}]
[null,null,{"$f":"'PROPERTY MONUMENTS'!B18","v":0},null,null,null,null,null,null,{"$f":"'PROPERTY MONUMENTS'!C18","v":0},null,null,null,null,{"$f":"'PROPERTY MONUMENTS'!D18","v":0},null,null,null,{"$f":"'PROPERTY MONUMENTS'!E18","v":0},null,null,null,null,{"$f":"'PROPERTY MONUMENTS'!F18","v":0},null,null,null,null,null,{"$f":"'PROPERTY MONUMENTS'!H18","v":0},null,null,null,null,null,null,null,null,null,null,null,{"$f":"CONTROL!A18","v":0},null,null,null,{"$f":"CONTROL!B18","v":0},null,null,null,null,null,null,{"$f":"CONTROL!C18","v":0},null,null,null,null,{"$f":"CONTROL!D18","v":0},null,null,null,{"$f":"CONTROL!N18","v":1.0004044282338804},null,null,null,null,null,{"$f":"CONTROL!E18","v":0},null,null,null,null,{"$f":"CONTROL!F18","v":0},null,null,null,null,{"$f":"CONTROL!G18","v":0},null,null,{"$f":"CONTROL!H18","v":0},null,null,null,null,null,null,null,null,null,{"$f":"BENCHMARK!A18","v":0},null,null,null,{"$f":"BENCHMARK!B18","v":0},null,null,null,null,null,null,{"$f":"BENCHMARK!C18","v":0},null,null,null,null,{"$f":"BENCHMARK!D18","v":0},null,null,null,{"$f":"BENCHMARK!E18","v":0},null,null,null,null,{"$f":"BENCHMARK!F18","v":0},null,null,null,null,{"$f":"BENCHMARK!G18","v":0},null,null,null,{"$f":"BENCHMARK!H18","v":0}]
[null,null,{"$f":"'PROPERTY MONUMENTS'!B19","v":0},null,null,null,null,null,null,{"$f":"'PROPERTY MONUMENTS'!C19","v":0},null,null,null,null,{"$f":"'PROPERTY MONUMENTS'!D19","v":0},null,null,null,{"$f":"'PROPERTY MONUMENTS'!E19","v":0},null,null,null,null,{"$f":"'PROPERTY MONUMENTS'!F19","v":0},null,null,null,null,null,{"$f":"'PROPERTY MONUMENTS'!H19","v":0},null,null,null,null,null,null,null,null,null,null,null,{"$f":"CONTROL!A19","v":0},null,null,null,{"$f":"CONTROL!B19","v":0},null,null,null,null,null,null,{"$f":"CONTROL!C19","v":0},null,null,null,null,{"$f":"CONTROL!D19","v":0},null,null,null,{"$f":"CONTROL!N19","v":1.0004044282338804},null,null,null,null,null,{"$f":"CONTROL!E19","v":0},null,null,null,null,{"$f":"CONTROL!F19","v":0},null,null,null,null,{"$f":"CONTROL!G19","v":0},null,null,{"$f":"CONTROL!H19","v":0},null,null,null,null,null,null,null,null,null,{"$f":"BENCHMARK!A19","v":0},null,null,null,{"$f":"BENCHMARK!B19","v":0},null,null,null,null,null,null,{"$f":"BENCHMARK!C19","v":0},null,null,null,null,{"$f":"BENCHMARK!D19","v":0},null,null,null,{"$f":"BENCHMARK!E19","v":0},null,null,null,null,{"$f":"BENCHMARK!F19","v":0},null,null,null,null,{"$f":"BENCHMARK!G19","v":0},null,null,null,{"$f":"BENCHMARK!H19","v":0}]
[null,null,{"$f":"'PROPERTY MONUMENTS'!B20","v":0},null,null,null,null,null,null,{"$f":"'PROPERTY MONUMENTS'!C20","v":0},null,null,null,null,{"$f":"'PROPERTY MONUMENTS'!D20","v":0},null,null,null,{"$f":"'PROPERTY MONUMENTS'!E20","v":0},null,null,null,null,{"$f":"'PROPERTY MONUMENTS'!F20","v":0},null,null,null,null,null,{"$f":"'PROPERTY MONUMENTS'!H20","v":0},null,null,null,null,null,null,null,null,null,null,null,{"$f":"CONTROL!A20","v":0},null,null,null,{"$f":"CONTROL!B20","v":0},null,null,null,null,null,null,{"$f":"CONTROL!C20","v":0},null,null,null,null,{"$f":"CONTROL!D20","v":0},null,null,null,{"$f":"CONTROL!N20","v":1.0004044282338804},null,null,null,null,null,{"$f":"CONTROL!E20","v":0},null,null,null,null,{"$f":"CONTROL!F20","v":0},null,null,null,null,{"$f":"CONTROL!G20","v":0},null,null,{"$f":"CONTROL!H20","v":0},null,null,null,null,null,null,null,null,null,{"$f":"BENCHMARK!A20","v":0},null,null,null,{"$f":"BENCHMARK!B20","v":0},null,null,null,null,null,null,{"$f":"BENCHMARK!C20","v":0},null,null,null,null,{"$f":"BENCHMARK!D20","v":0},null,null,null,{"$f":"BENCHMARK!E20","v":0},null,null,null,null,{"$f":"BENCHMARK!F20","v":0},null,null,null,null,{"$f":"BENCHMARK!G20","v":0},null,null,null,{"$f":"BENCHMARK!H20","v":0}]
[null,null,{"$f":"'PROPERTY MONUMENTS'!B21","v":0},null,null,null,null,null,null,{"$f":"'PROPERTY MONUMENTS'!C21","v":0},null,null,null,null,{"$f":"'PROPERTY MONUMENTS'!D21","v":0},null,null,null,{"$f":"'PROPERTY MONUMENTS'!E21","v":0},null,null,null,null,{"$f":"'PROPERTY MONUMENTS'!F21","v":0},null,null,null,null,null,{"$f":"'PROPERTY MONUMENTS'!H21","v":0},null,null,null,null,null,null,null,null,null,null,null,{"$f":"CONTROL!A21","v":0},null,null,null,{"$f":"CONTROL!B21","v":0},null,null,null,null,null,null,{"$f":"CONTROL!C21","v":0},null,null,null,null,{"$f":"CONTROL!D21","v":0},null,null,null,{"$f":"CONTROL!N21","v":1.0004044282338804},null,null,null,null,null,{"$f":"CONTROL!E21","v":0},null,null,null,null,{"$f":"CONTROL!F21","v":0},null,null,null,null,{"$f":"CONTROL!G21","v":0},null,null,{"$f":"CONTROL!H21","v":0},null,null,null,null,null,null,null,null,null,{"$f":"BENCHMARK!A21","v":0},null,null,null,{"$f":"BENCHMARK!B21","v":0},null,null,null,null,null,null,{"$f":"BENCHMARK!C21","v":0},null,null,null,null,{"$f":"BENCHMARK!D21","v":0},null,null,null,{"$f":"BENCHMARK!E21","v":0},null,null,null,null,{"$f":"BENCHMARK!F21","v":0},null,null,null,null,{"$f":"BENCHMARK!G21","v":0},null,null,null,{"$f":"BENCHMARK!H21","v":0}]
[null,null,{"$f":"'PROPERTY MONUMENTS'!B22","v":0},null,null,null,null,null,null,{"$f":"'PROPERTY MONUMENTS'!C22","v":0},null,null,null,null,{"$f":"'PROPERTY MONUMENTS'!D22","v":0},null,null,null,{"$f":"'PROPERTY MONUMENTS'!E22","v":0},null,null,null,null,{"$f":"'PROPERTY MONUMENTS'!F22","v":0},null,null,null,null,null,{"$f":"'PROPERTY MONUMENTS'!H22","v":0},null,null,null,null,null,null,null,null,null,null,null,{"$f":"CONTROL!A22","v":0},null,null,null,{"$f":"CONTROL!B22","v":0},null,null,null,null,null,null,{"$f":"CONTROL!C22","v":0},null,null,null,null,{"$f":"CONTROL!D22","v":0},null,null,null,{"$f":"CONTROL!N22","v":1.0004044282338804},null,null,null,null,null,{"$f":"CONTROL!E22","v":0},null,null,null,null,{"$f":"CONTROL!F22","v":0},null,null,null,null,{"$f":"CONTROL!G22","v":0},null,null,{"$f":"CONTROL!H22","v":0},null,null,null,null,null,null,null,null,null,{"$f":"BENCHMARK!A22","v":0},null,null,null,{"$f":"BENCHMARK!B22","v":0},null,null,null,null,null,null,{"$f":"BENCHMARK!C22","v":0},null,null,null,null,{"$f":"BENCHMARK!D22","v":0},null,null,null,{"$f":"BENCHMARK!E22","v":0},null,null,null,null,{"$f":"BENCHMARK!F22","v":0},null,null,null,null,{"$f":"BENCHMARK!G22","v":0},null,null,null,{"$f":"BENCHMARK!H22","v":0}]
[null,null,{"$f":"'PROPERTY MONUMENTS'!B23","v":0},null,null,null,null,null,null,{"$f":"'PROPERTY MONUMENTS'!C23","v":0},null,null,null,null,{"$f":"'PROPERTY MONUMENTS'!D23","v":0},null,null,null,{"$f":"'PROPERTY MONUMENTS'!E23","v":0},null,null,null,null,{"$f":"'PROPERTY MONUMENTS'!F23","v":0},null,null,null,null,null,{"$f":"'PROPERTY MONUMENTS'!H23","v":0},null,null,null,null,null,null,null,null,null,null,null,{"$f":"CONTROL!A23","v":0},null,null,null,{"$f":"CONTROL!B23","v":0},null,null,null,null,null,null,{"$f":"CONTROL!C23","v":0},null,null,null,null,{"$f":"CONTROL!D23","v":0},null,null,null,{"$f":"CONTROL!N23","v":1.0004044282338804},null,null,null,null,null,{"$f":"CONTROL!E23","v":0},null,null,null,null,{"$f":"CONTROL!F23","v":0},null,null,null,null,{"$f":"CONTROL!G23","v":0},null,null,{"$f":"CONTROL!H23","v":0},null,null,null,null,null,null,null,null,null,{"$f":"BENCHMARK!A23","v":0},null,null,null,{"$f":"BENCHMARK!B23","v":0},null,null,null,null,null,null,{"$f":"BENCHMARK!C23","v":0},null,null,null,null,{"$f":"BENCHMARK!D23","v":0},null,null,null,{"$f":"BENCHMARK!E23","v":0},null,null,null,null,{"$f":"BENCHMARK!F23","v":0},null,null,null,null,{"$f":"BENCHMARK!G23","v":0},null,null,null,{"$f":"BENCHMARK!H23","v":0}]
[null,null,{"$f":"'PROPERTY MONUMENTS'!B24","v":0},null,null,null,null,null,null,{"$f":"'PROPERTY MONUMENTS'!C24","v":0},null,null,null,null,{"$f":"'PROPERTY MONUMENTS'!D24","v":0},null,null,null,{"$f":"'PROPERTY MONUMENTS'!E24","v":0},null,null,null,null,{"$f":"'PROPERTY MONUMENTS'!F24","v":0},null,null,null,null,null,{"$f":"'PROPERTY MONUMENTS'!H24","v":0},null,null,null,null,null,null,null,null,null,null,null,{"$f":"CONTROL!A24","v":0},null,null,null,{"$f":"CONTROL!B24","v":0},null,null,null,null,null,null,{"$f":"CONTROL!C24","v":0},null,null,null,null,{"$f":"CONTROL!D24","v":0},null,null,null,{"$f":"CONTROL!N24","v":1.0004044282338804},null,null,null,null,null,{"$f":"CONTROL!E24","v":0},null,null,null,null,{"$f":"CONTROL!F24","v":0},null,null,null,null,{"$f":"CONTROL!G24","v":0},null,null,{"$f":"CONTROL!H24","v":0},null,null,null,null,null,null,null,null,null,{"$f":"BENCHMARK!A24","v":0},null,null,null,{"$f":"BENCHMARK!B24","v":0},null,null,null,null,null,null,{"$f":"BENCHMARK!C24","v":0},null,null,null,null,{"$f":"BENCHMARK!D24","v":0},null,null,null,{"$f":"BENCHMARK!E24","v":0},null,null,null,null,{"$f":"BENCHMARK!F24","v":0},null,null,null,null,{"$f":"BENCHMARK!G24","v":0},null,null,null,{"$f":"BENCHMARK!H24","v":0}]
[null,null,{"$f":"'PROPERTY MONUMENTS'!B25","v":0},null,null,null,null,null,null,{"$f":"'PROPERTY MONUMENTS'!C25","v":0},null,null,null,null,{"$f":"'PROPERTY MONUMENTS'!D25","v":0},null,null,null,{"$f":"'PROPERTY MONUMENTS'!E25","v":0},null,null,null,null,{"$f":"'PROPERTY MONUMENTS'!F25","v":0},null,null,null,null,null,{"$f":"'PROPERTY MONUMENTS'!H25","v":0},null,null,null,null,null,null,null,null,null,null,null,{"$f":"CONTROL!A25","v":0},null,null,null,{"$f":"CONTROL!B25","v":0},null,null,null,null,null,null,{"$f":"CONTROL!C25","v":0},null,null,null,null,{"$f":"CONTROL!D25","v":0},null,null,null,{"$f":"CONTROL!N25","v":1.0004044282338804},null,null,null,null,null,{"$f":"CONTROL!E25","v":0},null,null,null,null,{"$f":"CONTROL!F25","v":0},null,null,null,null,{"$f":"CONTROL!G25","v":0},null,null,{"$f":"CONTROL!H25","v":0},null,null,null,null,null,null,null,null,null,{"$f":"BENCHMARK!A25","v":0},null,null,null,{"$f":"BENCHMARK!B25","v":0},null,null,null,null,null,null,{"$f":"BENCHMARK!C25","v":0},null,null,null,null,{"$f":"BENCHMARK!D25","v":0},null,null,null,{"$f":"BENCHMARK!E25","v":0},null,null,null,null,{"$f":"BENCHMARK!F25","v":0},null,null,null,null,{"$f":"BENCHMARK!G25","v":0},null,null,null,{"$f":"BENCHMARK!H25","v":0}]
[null,null,{"$f":"'PROPERTY MONUMENTS'!B26","v":0},null,null,null,null,null,null,{"$f":"'PROPERTY MONUMENTS'!C26","v":0},null,null,null,null,{"$f":"'PROPERTY MONUMENTS'!D26","v":0},null,null,null,{"$f":"'PROPERTY MONUMENTS'!E26","v":0},null,null,null,null,{"$f":"'PROPERTY MONUMENTS'!F26","v":0},null,null,null,null,null,{"$f":"'PROPERTY MONUMENTS'!H26","v":0},null,null,null,null,null,null,null,null,null,null,null,{"$f":"CONTROL!A26","v":0},null,null,null,{"$f":"CONTROL!B26","v":0},null,null,null,null,null,null,{"$f":"CONTROL!C26","v":0},null,null,null,null,{"$f":"CONTROL!D26","v":0},null,null,null,{"$f":"CONTROL!N26","v":1.0004044282338804},null,null,null,null,null,{"$f":"CONTROL!E26","v":0},null,null,null,null,{"$f":"CONTROL!F26","v":0},null,null,null,null,{"$f":"CONTROL!G26","v":0},null,null,{"$f":"CONTROL!H26","v":0},null,null,null,null,null,null,null,null,null,{"$f":"BENCHMARK!A26","v":0},null,null,null,{"$f":"BENCHMARK!B26","v":0},null,null,null,null,null,null,{"$f":"BENCHMARK!C26","v":0},null,null,null,null,{"$f":"BENCHMARK!D26","v":0},null,null,null,{"$f":"BENCHMARK!E26","v":0},null,null,null,null,{"$f":"BENCHMARK!F26","v":0},null,null,null,null,{"$f":"BENCHMARK!G26","v":0},null,null,null,{"$f":"BENCHMARK!H26","v":0}]
[null,null,{"$f":"'PROPERTY MONUMENTS'!B27","v":0},null,null,null,null,null,null,{"$f":"'PROPERTY MONUMENTS'!C27","v":0},null,null,null,null,{"$f":"'PROPERTY MONUMENTS'!D27","v":0},null,null,null,{"$f":"'PROPERTY MONUMENTS'!E27","v":0},null,null,null,null,{"$f":"'PROPERTY MONUMENTS'!F27","v":0},null,null,null,null,null,{"$f":"'PROPERTY MONUMENTS'!H27","v":0},null,null,null,null,null,null,null,null,null,null,null,{"$f":"CONTROL!A27","v":0},null,null,null,{"$f":"CONTROL!B27","v":0},null,null,null,null,null,null,{"$f":"CONTROL!C27","v":0},null,null,null,null,{"$f":"CONTROL!D27","v":0},null,null,null,{"$f":"CONTROL!N27","v":1.0004044282338804},null,null,null,null,null,{"$f":"CONTROL!E27","v":0},null,null,null,null,{"$f":"CONTROL!F27","v":0},null,null,null,null,{"$f":"CONTROL!G27","v":0},null,null,{"$f":"CONTROL!H27","v":0},null,null,null,null,null,null,null,null,null,{"$f":"BENCHMARK!A27","v":0},null,null,null,{"$f":"BENCHMARK!B27","v":0},null,null,null,null,null,null,{"$f":"BENCHMARK!C27","v":0},null,null,null,null,{"$f":"BENCHMARK!D27","v":0},null,null,null,{"$f":"BENCHMARK!E27","v":0},null,null,null,null,{"$f":"BENCHMARK!F27","v":0},null,null,null,null,{"$f":"BENCHMARK!G27","v":0},null,null,null,{"$f":"BENCHMARK!H27","v":0}]
[{"$f":"CELL(\"filename\")","v":"C:\\Users\\dawsonmh\\Desktop\\[Survey_Project_Report_ver21.0.xlsm]SUMMARY"},null,{"$f":"'PROPERTY MONUMENTS'!B28","v":0},null,null,null,null,null,null,{"$f":"'PROPERTY MONUMENTS'!C28","v":0},null,null,null,null,{"$f":"'PROPERTY MONUMENTS'!D28","v":0},null,null,null,{"$f":"'PROPERTY MONUMENTS'!E28","v":0},null,null,null,null,{"$f":"'PROPERTY MONUMENTS'!F28","v":0},null,null,null,null,null,{"$f":"'PROPERTY MONUMENTS'!H28","v":0},null,null,null,null,null,null,null,null,null,null,null,{"$f":"CONTROL!A28","v":0},null,null,null,{"$f":"CONTROL!B28","v":0},null,null,null,null,null,null,{"$f":"CONTROL!C28","v":0},null,null,null,null,{"$f":"CONTROL!D28","v":0},null,null,null,{"$f":"CONTROL!N28","v":1.0004044282338804},null,null,null,null,null,{"$f":"CONTROL!E28","v":0},null,null,null,null,{"$f":"CONTROL!F28","v":0},null,null,null,null,{"$f":"CONTROL!G28","v":0},null,null,{"$f":"CONTROL!H28","v":0},null,null,null,null,null,null,null,null,null,{"$f":"BENCHMARK!A28","v":0},null,null,null,{"$f":"BENCHMARK!B28","v":0},null,null,null,null,null,null,{"$f":"BENCHMARK!C28","v":0},null,null,null,null,{"$f":"BENCHMARK!D28","v":0},null,null,null,{"$f":"BENCHMARK!E28","v":0},null,null,null,null,{"$f":"BENCHMARK!F28","v":0},null,null,null,null,{"$f":"BENCHMARK!G28","v":0},null,null,null,{"$f":"BENCHMARK!H28","v":0}]
[null,null,{"$f":"'PROPERTY MONUMENTS'!B29","v":0},null,null,null,null,null,null,{"$f":"'PROPERTY MONUMENTS'!C29","v":0},null,null,null,null,{"$f":"'PROPERTY MONUMENTS'!D29","v":0},null,null,null,{"$f":"'PROPERTY MONUMENTS'!E29","v":0},null,null,null,null,{"$f":"'PROPERTY MONUMENTS'!F29","v":0},null,null,null,null,null,{"$f":"'PROPERTY MONUMENTS'!H29","v":0},null,null,null,null,null,null,null,null,null,null,null,{"$f":"CONTROL!A29","v":0},null,null,null,{"$f":"CONTROL!B29","v":0},null,null,null,null,null,null,{"$f":"CONTROL!C29","v":0},null,null,null,null,{"$f":"CONTROL!D29","v":0},null,null,null,{"$f":"CONTROL!N29","v":1.0004044282338804},null,null,null,null,null,{"$f":"CONTROL!E29","v":0},null,null,null,null,{"$f":"CONTROL!F29","v":0},null,null,null,null,{"$f":"CONTROL!G29","v":0},null,null,{"$f":"CONTROL!H29","v":0},null,null,null,null,null,null,null,null,null,{"$f":"BENCHMARK!A29","v":0},null,null,null,{"$f":"BENCHMARK!B29","v":0},null,null,null,null,null,null,{"$f":"BENCHMARK!C29","v":0},null,null,null,null,{"$f":"BENCHMARK!D29","v":0},null,null,null,{"$f":"BENCHMARK!E29","v":0},null,null,null,null,{"$f":"BENCHMARK!F29","v":0},null,null,null,null,{"$f":"BENCHMARK!G29","v":0},null,null,null,{"$f":"BENCHMARK!H29","v":0}]
[null,null,{"$f":"'PROPERTY MONUMENTS'!B30","v":0},null,null,null,null,null,null,{"$f":"'PROPERTY MONUMENTS'!C30","v":0},null,null,null,null,{"$f":"'PROPERTY MONUMENTS'!D30","v":0},null,null,null,{"$f":"'PROPERTY MONUMENTS'!E30","v":0},null,null,null,null,{"$f":"'PROPERTY MONUMENTS'!F30","v":0},null,null,null,null,null,{"$f":"'PROPERTY MONUMENTS'!H30","v":0},null,null,null,null,null,null,null,null,null,null,null,{"$f":"CONTROL!A30","v":0},null,null,null,{"$f":"CONTROL!B30","v":0},null,null,null,null,null,null,{"$f":"CONTROL!C30","v":0},null,null,null,null,{"$f":"CONTROL!D30","v":0},null,null,null,{"$f":"CONTROL!N30","v":1.0004044282338804},null,null,null,null,null,{"$f":"CONTROL!E30","v":0},null,null,null,null,{"$f":"CONTROL!F30","v":0},null,null,null,null,{"$f":"CONTROL!G30","v":0},null,null,{"$f":"CONTROL!H30","v":0},null,null,null,null,null,null,null,null,null,{"$f":"BENCHMARK!A30","v":0},null,null,null,{"$f":"BENCHMARK!B30","v":0},null,null,null,null,null,null,{"$f":"BENCHMARK!C30","v":0},null,null,null,null,{"$f":"BENCHMARK!D30","v":0},null,null,null,{"$f":"BENCHMARK!E30","v":0},null,null,null,null,{"$f":"BENCHMARK!F30","v":0},null,null,null,null,{"$f":"BENCHMARK!G30","v":0},null,null,null,{"$f":"BENCHMARK!H30","v":0}]
[null,null,{"$f":"'PROPERTY MONUMENTS'!B31","v":0},null,null,null,null,null,null,{"$f":"'PROPERTY MONUMENTS'!C31","v":0},null,null,null,null,{"$f":"'PROPERTY MONUMENTS'!D31","v":0},null,null,null,{"$f":"'PROPERTY MONUMENTS'!E31","v":0},null,null,null,null,{"$f":"'PROPERTY MONUMENTS'!F31","v":0},null,null,null,null,null,{"$f":"'PROPERTY MONUMENTS'!H31","v":0},null,null,null,null,null,null,null,null,null,null,null,{"$f":"CONTROL!A31","v":0},null,null,null,{"$f":"CONTROL!B31","v":0},null,null,null,null,null,null,{"$f":"CONTROL!C31","v":0},null,null,null,null,{"$f":"CONTROL!D31","v":0},null,null,null,{"$f":"CONTROL!N31","v":1.0004044282338804},null,null,null,null,null,{"$f":"CONTROL!E31","v":0},null,null,null,null,{"$f":"CONTROL!F31","v":0},null,null,null,null,{"$f":"CONTROL!G31","v":0},null,null,{"$f":"CONTROL!H31","v":0},null,null,null,null,null,null,null,null,null,{"$f":"BENCHMARK!A31","v":0},null,null,null,{"$f":"BENCHMARK!B31","v":0},null,null,null,null,null,null,{"$f":"BENCHMARK!C31","v":0},null,null,null,null,{"$f":"BENCHMARK!D31","v":0},null,null,null,{"$f":"BENCHMARK!E31","v":0},null,null,null,null,{"$f":"BENCHMARK!F31","v":0},null,null,null,null,{"$f":"BENCHMARK!G31","v":0},null,null,null,{"$f":"BENCHMARK!H31","v":0}]
[null,null,{"$f":"'PROPERTY MONUMENTS'!B32","v":0},null,null,null,null,null,null,{"$f":"'PROPERTY MONUMENTS'!C32","v":0},null,null,null,null,{"$f":"'PROPERTY MONUMENTS'!D32","v":0},null,null,null,{"$f":"'PROPERTY MONUMENTS'!E32","v":0},null,null,null,null,{"$f":"'PROPERTY MONUMENTS'!F32","v":0},null,null,null,null,null,{"$f":"'PROPERTY MONUMENTS'!H32","v":0},null,null,null,null,null,null,null,null,null,null,null,{"$f":"CONTROL!A32","v":0},null,null,null,{"$f":"CONTROL!B32","v":0},null,null,null,null,null,null,{"$f":"CONTROL!C32","v":0},null,null,null,null,{"$f":"CONTROL!D32","v":0},null,null,null,{"$f":"CONTROL!N32","v":1.0004044282338804},null,null,null,null,null,{"$f":"CONTROL!E32","v":0},null,null,null,null,{"$f":"CONTROL!F32","v":0},null,null,null,null,{"$f":"CONTROL!G32","v":0},null,null,{"$f":"CONTROL!H32","v":0},null,null,null,null,null,null,null,null,null,{"$f":"BENCHMARK!A32","v":0},null,null,null,{"$f":"BENCHMARK!B32","v":0},null,null,null,null,null,null,{"$f":"BENCHMARK!C32","v":0},null,null,null,null,{"$f":"BENCHMARK!D32","v":0},null,null,null,{"$f":"BENCHMARK!E32","v":0},null,null,null,null,{"$f":"BENCHMARK!F32","v":0},null,null,null,null,{"$f":"BENCHMARK!G32","v":0},null,null,null,{"$f":"BENCHMARK!H32","v":0}]
[null,null,{"$f":"'PROPERTY MONUMENTS'!B33","v":0},null,null,null,null,null,null,{"$f":"'PROPERTY MONUMENTS'!C33","v":0},null,null,null,null,{"$f":"'PROPERTY MONUMENTS'!D33","v":0},null,null,null,{"$f":"'PROPERTY MONUMENTS'!E33","v":0},null,null,null,null,{"$f":"'PROPERTY MONUMENTS'!F33","v":0},null,null,null,null,null,{"$f":"'PROPERTY MONUMENTS'!H33","v":0},null,null,null,null,null,null,null,null,null,null,null,{"$f":"CONTROL!A33","v":0},null,null,null,{"$f":"CONTROL!B33","v":0},null,null,null,null,null,null,{"$f":"CONTROL!C33","v":0},null,null,null,null,{"$f":"CONTROL!D33","v":0},null,null,null,{"$f":"CONTROL!N33","v":1.0004044282338804},null,null,null,null,null,{"$f":"CONTROL!E33","v":0},null,null,null,null,{"$f":"CONTROL!F33","v":0},null,null,null,null,{"$f":"CONTROL!G33","v":0},null,null,{"$f":"CONTROL!H33","v":0},null,null,null,null,null,null,null,null,null,{"$f":"BENCHMARK!A33","v":0},null,null,null,{"$f":"BENCHMARK!B33","v":0},null,null,null,null,null,null,{"$f":"BENCHMARK!C33","v":0},null,null,null,null,{"$f":"BENCHMARK!D33","v":0},null,null,null,{"$f":"BENCHMARK!E33","v":0},null,null,null,null,{"$f":"BENCHMARK!F33","v":0},null,null,null,null,{"$f":"BENCHMARK!G33","v":0},null,null,null,{"$f":"BENCHMARK!H33","v":0}]
[null,null,{"$f":"'PROPERTY MONUMENTS'!B34","v":0},null,null,null,null,null,null,{"$f":"'PROPERTY MONUMENTS'!C34","v":0},null,null,null,null,{"$f":"'PROPERTY MONUMENTS'!D34","v":0},null,null,null,{"$f":"'PROPERTY MONUMENTS'!E34","v":0},null,null,null,null,{"$f":"'PROPERTY MONUMENTS'!F34","v":0},null,null,null,null,null,{"$f":"'PROPERTY MONUMENTS'!H34","v":0},null,null,null,null,null,null,null,null,null,null,null,{"$f":"CONTROL!A34","v":0},null,null,null,{"$f":"CONTROL!B34","v":0},null,null,null,null,null,null,{"$f":"CONTROL!C34","v":0},null,null,null,null,{"$f":"CONTROL!D34","v":0},null,null,null,{"$f":"CONTROL!N34","v":1.0004044282338804},null,null,null,null,null,{"$f":"CONTROL!E34","v":0},null,null,null,null,{"$f":"CONTROL!F34","v":0},null,null,null,null,{"$f":"CONTROL!G34","v":0},null,null,{"$f":"CONTROL!H34","v":0},null,null,null,null,null,null,null,null,null,{"$f":"BENCHMARK!A34","v":0},null,null,null,{"$f":"BENCHMARK!B34","v":0},null,null,null,null,null,null,{"$f":"BENCHMARK!C34","v":0},null,null,null,null,{"$f":"BENCHMARK!D34","v":0},null,null,null,{"$f":"BENCHMARK!E34","v":0},null,null,null,null,{"$f":"BENCHMARK!F34","v":0},null,null,null,null,{"$f":"BENCHMARK!G34","v":0},null,null,null,{"$f":"BENCHMARK!H34","v":0}]
[null,null,{"$f":"'PROPERTY MONUMENTS'!B35","v":0},null,null,null,null,null,null,{"$f":"'PROPERTY MONUMENTS'!C35","v":0},null,null,null,null,{"$f":"'PROPERTY MONUMENTS'!D35","v":0},null,null,null,{"$f":"'PROPERTY MONUMENTS'!E35","v":0},null,null,null,null,{"$f":"'PROPERTY MONUMENTS'!F35","v":0},null,null,null,null,null,{"$f":"'PROPERTY MONUMENTS'!H35","v":0},null,null,null,null,null,null,null,null,null,null,null,{"$f":"CONTROL!A35","v":0},null,null,null,{"$f":"CONTROL!B35","v":0},null,null,null,null,null,null,{"$f":"CONTROL!C35","v":0},null,null,null,null,{"$f":"CONTROL!D35","v":0},null,null,null,{"$f":"CONTROL!N35","v":1.0004044282338804},null,null,null,null,null,{"$f":"CONTROL!E35","v":0},null,null,null,null,{"$f":"CONTROL!F35","v":0},null,null,null,null,{"$f":"CONTROL!G35","v":0},null,null,{"$f":"CONTROL!H35","v":0},null,null,null,null,null,null,null,null,null,{"$f":"BENCHMARK!A35","v":0},null,null,null,{"$f":"BENCHMARK!B35","v":0},null,null,null,null,null,null,{"$f":"BENCHMARK!C35","v":0},null,null,null,null,{"$f":"BENCHMARK!D35","v":0},null,null,null,{"$f":"BENCHMARK!E35","v":0},null,null,null,null,{"$f":"BENCHMARK!F35","v":0},null,null,null,null,{"$f":"BENCHMARK!G35","v":0},null,null,null,{"$f":"BENCHMARK!H35","v":0}]
[null,null,{"$f":"'PROPERTY MONUMENTS'!B36","v":0},null,null,null,null,null,null,{"$f":"'PROPERTY MONUMENTS'!C36","v":0},null,null,null,null,{"$f":"'PROPERTY MONUMENTS'!D36","v":0},null,null,null,{"$f":"'PROPERTY MONUMENTS'!E36","v":0},null,null,null,null,{"$f":"'PROPERTY MONUMENTS'!F36","v":0},null,null,null,null,null,{"$f":"'PROPERTY MONUMENTS'!H36","v":0},null,null,null,null,null,null,null,null,null,null,null,{"$f":"CONTROL!A36","v":0},null,null,null,{"$f":"CONTROL!B36","v":0},null,null,null,null,null,null,{"$f":"CONTROL!C36","v":0},null,null,null,null,{"$f":"CONTROL!D36","v":0},null,null,null,{"$f":"CONTROL!N36","v":1.0004044282338804},null,null,null,null,null,{"$f":"CONTROL!E36","v":0},null,null,null,null,{"$f":"CONTROL!F36","v":0},null,null,null,null,{"$f":"CONTROL!G36","v":0},null,null,{"$f":"CONTROL!H36","v":0},null,null,null,null,null,null,null,null,null,{"$f":"BENCHMARK!A36","v":0},null,null,null,{"$f":"BENCHMARK!B36","v":0},null,null,null,null,null,null,{"$f":"BENCHMARK!C36","v":0},null,null,null,null,{"$f":"BENCHMARK!D36","v":0},null,null,null,{"$f":"BENCHMARK!E36","v":0},null,null,null,null,{"$f":"BENCHMARK!F36","v":0},null,null,null,null,{"$f":"BENCHMARK!G36","v":0},null,null,null,{"$f":"BENCHMARK!H36","v":0}]
[null,null,{"$f":"'PROPERTY MONUMENTS'!B37","v":0},null,null,null,null,null,null,{"$f":"'PROPERTY MONUMENTS'!C37","v":0},null,null,null,null,{"$f":"'PROPERTY MONUMENTS'!D37","v":0},null,null,null,{"$f":"'PROPERTY MONUMENTS'!E37","v":0},null,null,null,null,{"$f":"'PROPERTY MONUMENTS'!F37","v":0},null,null,null,null,null,{"$f":"'PROPERTY MONUMENTS'!H37","v":0},null,null,null,null,null,null,null,null,null,null,null,{"$f":"CONTROL!A37","v":0},null,null,null,{"$f":"CONTROL!B37","v":0},null,null,null,null,null,null,{"$f":"CONTROL!C37","v":0},null,null,null,null,{"$f":"CONTROL!D37","v":0},null,null,null,{"$f":"CONTROL!N37","v":1.0004044282338804},null,null,null,null,null,{"$f":"CONTROL!E37","v":0},null,null,null,null,{"$f":"CONTROL!F37","v":0},null,null,null,null,{"$f":"CONTROL!G37","v":0},null,null,{"$f":"CONTROL!H37","v":0},null,null,null,null,null,null,null,null,null,{"$f":"BENCHMARK!A37","v":0},null,null,null,{"$f":"BENCHMARK!B37","v":0},null,null,null,null,null,null,{"$f":"BENCHMARK!C37","v":0},null,null,null,null,{"$f":"BENCHMARK!D37","v":0},null,null,null,{"$f":"BENCHMARK!E37","v":0},null,null,null,null,{"$f":"BENCHMARK!F37","v":0},null,null,null,null,{"$f":"BENCHMARK!G37","v":0},null,null,null,{"$f":"BENCHMARK!H37","v":0}]
[null,null,{"$f":"'PROPERTY MONUMENTS'!B38","v":0},null,null,null,null,null,null,{"$f":"'PROPERTY MONUMENTS'!C38","v":0},null,null,null,null,{"$f":"'PROPERTY MONUMENTS'!D38","v":0},null,null,null,{"$f":"'PROPERTY MONUMENTS'!E38","v":0},null,null,null,null,{"$f":"'PROPERTY MONUMENTS'!F38","v":0},null,null,null,null,null,{"$f":"'PROPERTY MONUMENTS'!H38","v":0},null,null,null,null,null,null,null,null,null,null,null,{"$f":"CONTROL!A38","v":0},null,null,null,{"$f":"CONTROL!B38","v":0},null,null,null,null,null,null,{"$f":"CONTROL!C38","v":0},null,null,null,null,{"$f":"CONTROL!D38","v":0},null,null,null,{"$f":"CONTROL!N38","v":1.0004044282338804},null,null,null,null,null,{"$f":"CONTROL!E38","v":0},null,null,null,null,{"$f":"CONTROL!F38","v":0},null,null,null,null,{"$f":"CONTROL!G38","v":0},null,null,{"$f":"CONTROL!H38","v":0},null,null,null,null,null,null,null,null,null,{"$f":"BENCHMARK!A38","v":0},null,null,null,{"$f":"BENCHMARK!B38","v":0},null,null,null,null,null,null,{"$f":"BENCHMARK!C38","v":0},null,null,null,null,{"$f":"BENCHMARK!D38","v":0},null,null,null,{"$f":"BENCHMARK!E38","v":0},null,null,null,null,{"$f":"BENCHMARK!F38","v":0},null,null,null,null,{"$f":"BENCHMARK!G38","v":0},null,null,null,{"$f":"BENCHMARK!H38","v":0}]
[null,null,{"$f":"'PROPERTY MONUMENTS'!B39","v":0},null,null,null,null,null,null,{"$f":"'PROPERTY MONUMENTS'!C39","v":0},null,null,null,null,{"$f":"'PROPERTY MONUMENTS'!D39","v":0},null,null,null,{"$f":"'PROPERTY MONUMENTS'!E39","v":0},null,null,null,null,{"$f":"'PROPERTY MONUMENTS'!F39","v":0},null,null,null,null,null,{"$f":"'PROPERTY MONUMENTS'!H39","v":0},null,null,null,null,null,null,null,null,null,null,null,{"$f":"CONTROL!A39","v":0},null,null,null,{"$f":"CONTROL!B39","v":0},null,null,null,null,null,null,{"$f":"CONTROL!C39","v":0},null,null,null,null,{"$f":"CONTROL!D39","v":0},null,null,null,{"$f":"CONTROL!N39","v":1.0004044282338804},null,null,null,null,null,{"$f":"CONTROL!E39","v":0},null,null,null,null,{"$f":"CONTROL!F39","v":0},null,null,null,null,{"$f":"CONTROL!G39","v":0},null,null,{"$f":"CONTROL!H39","v":0},null,null,null,null,null,null,null,null,null,{"$f":"BENCHMARK!A39","v":0},null,null,null,{"$f":"BENCHMARK!B39","v":0},null,null,null,null,null,null,{"$f":"BENCHMARK!C39","v":0},null,null,null,null,{"$f":"BENCHMARK!D39","v":0},null,null,null,{"$f":"BENCHMARK!E39","v":0},null,null,null,null,{"$f":"BENCHMARK!F39","v":0},null,null,null,null,{"$f":"BENCHMARK!G39","v":0},null,null,null,{"$f":"BENCHMARK!H39","v":0}]
[null,null,{"$f":"'PROPERTY MONUMENTS'!B40","v":0},null,null,null,null,null,null,{"$f":"'PROPERTY MONUMENTS'!C40","v":0},null,null,null,null,{"$f":"'PROPERTY MONUMENTS'!D40","v":0},null,null,null,{"$f":"'PROPERTY MONUMENTS'!E40","v":0},null,null,null,null,{"$f":"'PROPERTY MONUMENTS'!F40","v":0},null,null,null,null,null,{"$f":"'PROPERTY MONUMENTS'!H40","v":0},null,null,null,null,null,null,null,null,null,null,null,{"$f":"CONTROL!A40","v":0},null,null,null,{"$f":"CONTROL!B40","v":0},null,null,null,null,null,null,{"$f":"CONTROL!C40","v":0},null,null,null,null,{"$f":"CONTROL!D40","v":0},null,null,null,{"$f":"CONTROL!N40","v":1.0004044282338804},null,null,null,null,null,{"$f":"CONTROL!E40","v":0},null,null,null,null,{"$f":"CONTROL!F40","v":0},null,null,null,null,{"$f":"CONTROL!G40","v":0},null,null,{"$f":"CONTROL!H40","v":0},null,null,null,null,null,null,null,null,null,{"$f":"BENCHMARK!A40","v":0},null,null,null,{"$f":"BENCHMARK!B40","v":0},null,null,null,null,null,null,{"$f":"BENCHMARK!C40","v":0},null,null,null,null,{"$f":"BENCHMARK!D40","v":0},null,null,null,{"$f":"BENCHMARK!E40","v":0},null,null,null,null,{"$f":"BENCHMARK!F40","v":0},null,null,null,null,{"$f":"BENCHMARK!G40","v":0},null,null,null,{"$f":"BENCHMARK!H40","v":0}]
[null,null,{"$f":"'PROPERTY MONUMENTS'!B41","v":0},null,null,null,null,null,null,{"$f":"'PROPERTY MONUMENTS'!C41","v":0},null,null,null,null,{"$f":"'PROPERTY MONUMENTS'!D41","v":0},null,null,null,{"$f":"'PROPERTY MONUMENTS'!E41","v":0},null,null,null,null,{"$f":"'PROPERTY MONUMENTS'!F41","v":0},null,null,null,null,null,{"$f":"'PROPERTY MONUMENTS'!H41","v":0},null,null,null,null,null,null,null,null,null,null,null,{"$f":"CONTROL!A41","v":0},null,null,null,{"$f":"CONTROL!B41","v":0},null,null,null,null,null,null,{"$f":"CONTROL!C41","v":0},null,null,null,null,{"$f":"CONTROL!D41","v":0},null,null,null,{"$f":"CONTROL!N41","v":1.0004044282338804},null,null,null,null,null,{"$f":"CONTROL!E41","v":0},null,null,null,null,{"$f":"CONTROL!F41","v":0},null,null,null,null,{"$f":"CONTROL!G41","v":0},null,null,{"$f":"CONTROL!H41","v":0},null,null,null,null,null,null,null,null,null,{"$f":"BENCHMARK!A41","v":0},null,null,null,{"$f":"BENCHMARK!B41","v":0},null,null,null,null,null,null,{"$f":"BENCHMARK!C41","v":0},null,null,null,null,{"$f":"BENCHMARK!D41","v":0},null,null,null,{"$f":"BENCHMARK!E41","v":0},null,null,null,null,{"$f":"BENCHMARK!F41","v":0},null,null,null,null,{"$f":"BENCHMARK!G41","v":0},null,null,null,{"$f":"BENCHMARK!H41","v":0}]
[null,null,{"$f":"'PROPERTY MONUMENTS'!B42","v":0},null,null,null,null,null,null,{"$f":"'PROPERTY MONUMENTS'!C42","v":0},null,null,null,null,{"$f":"'PROPERTY MONUMENTS'!D42","v":0},null,null,null,{"$f":"'PROPERTY MONUMENTS'!E42","v":0},null,null,null,null,{"$f":"'PROPERTY MONUMENTS'!F42","v":0},null,null,null,null,null,{"$f":"'PROPERTY MONUMENTS'!H42","v":0},null,null,null,null,null,null,null,null,null,null,null,{"$f":"CONTROL!A42","v":0},null,null,null,{"$f":"CONTROL!B42","v":0},null,null,null,null,null,null,{"$f":"CONTROL!C42","v":0},null,null,null,null,{"$f":"CONTROL!D42","v":0},null,null,null,{"$f":"CONTROL!N42","v":1.0004044282338804},null,null,null,null,null,{"$f":"CONTROL!E42","v":0},null,null,null,null,{"$f":"CONTROL!F42","v":0},null,null,null,null,{"$f":"CONTROL!G42","v":0},null,null,{"$f":"CONTROL!H42","v":0},null,null,null,null,null,null,null,null,null,{"$f":"BENCHMARK!A42","v":0},null,null,null,{"$f":"BENCHMARK!B42","v":0},null,null,null,null,null,null,{"$f":"BENCHMARK!C42","v":0},null,null,null,null,{"$f":"BENCHMARK!D42","v":0},null,null,null,{"$f":"BENCHMARK!E42","v":0},null,null,null,null,{"$f":"BENCHMARK!F42","v":0},null,null,null,null,{"$f":"BENCHMARK!G42","v":0},null,null,null,{"$f":"BENCHMARK!H42","v":0}]
[null,null,{"$f":"'PROPERTY MONUMENTS'!B43","v":0},null,null,null,null,null,null,{"$f":"'PROPERTY MONUMENTS'!C43","v":0},null,null,null,null,{"$f":"'PROPERTY MONUMENTS'!D43","v":0},null,null,null,{"$f":"'PROPERTY MONUMENTS'!E43","v":0},null,null,null,null,{"$f":"'PROPERTY MONUMENTS'!F43","v":0},null,null,null,null,null,{"$f":"'PROPERTY MONUMENTS'!H43","v":0},null,null,null,null,null,null,null,null,null,null,null,{"$f":"CONTROL!A43","v":0},null,null,null,{"$f":"CONTROL!B43","v":0},null,null,null,null,null,null,{"$f":"CONTROL!C43","v":0},null,null,null,null,{"$f":"CONTROL!D43","v":0},null,null,null,{"$f":"CONTROL!N43","v":1.0004044282338804},null,null,null,null,null,{"$f":"CONTROL!E43","v":0},null,null,null,null,{"$f":"CONTROL!F43","v":0},null,null,null,null,{"$f":"CONTROL!G43","v":0},null,null,{"$f":"CONTROL!H43","v":0},null,null,null,null,null,null,null,null,null,{"$f":"BENCHMARK!A43","v":0},null,null,null,{"$f":"BENCHMARK!B43","v":0},null,null,null,null,null,null,{"$f":"BENCHMARK!C43","v":0},null,null,null,null,{"$f":"BENCHMARK!D43","v":0},null,null,null,{"$f":"BENCHMARK!E43","v":0},null,null,null,null,{"$f":"BENCHMARK!F43","v":0},null,null,null,null,{"$f":"BENCHMARK!G43","v":0},null,null,null,{"$f":"BENCHMARK!H43","v":0}]
[null,null,{"$f":"'PROPERTY MONUMENTS'!B44","v":0},null,null,null,null,null,null,{"$f":"'PROPERTY MONUMENTS'!C44","v":0},null,null,null,null,{"$f":"'PROPERTY MONUMENTS'!D44","v":0},null,null,null,{"$f":"'PROPERTY MONUMENTS'!E44","v":0},null,null,null,null,{"$f":"'PROPERTY MONUMENTS'!F44","v":0},null,null,null,null,null,{"$f":"'PROPERTY MONUMENTS'!H44","v":0},null,null,null,null,null,null,null,null,null,null,null,{"$f":"CONTROL!A44","v":0},null,null,null,{"$f":"CONTROL!B44","v":0},null,null,null,null,null,null,{"$f":"CONTROL!C44","v":0},null,null,null,null,{"$f":"CONTROL!D44","v":0},null,null,null,{"$f":"CONTROL!N44","v":1.0004044282338804},null,null,null,null,null,{"$f":"CONTROL!E44","v":0},null,null,null,null,{"$f":"CONTROL!F44","v":0},null,null,null,null,{"$f":"CONTROL!G44","v":0},null,null,{"$f":"CONTROL!H44","v":0},null,null,null,null,null,null,null,null,null,{"$f":"BENCHMARK!A44","v":0},null,null,null,{"$f":"BENCHMARK!B44","v":0},null,null,null,null,null,null,{"$f":"BENCHMARK!C44","v":0},null,null,null,null,{"$f":"BENCHMARK!D44","v":0},null,null,null,{"$f":"BENCHMARK!E44","v":0},null,null,null,null,{"$f":"BENCHMARK!F44","v":0},null,null,null,null,{"$f":"BENCHMARK!G44","v":0},null,null,null,{"$f":"BENCHMARK!H44","v":0}]
[null,null,{"$f":"'PROPERTY MONUMENTS'!B45","v":0},null,null,null,null,null,null,{"$f":"'PROPERTY MONUMENTS'!C45","v":0},null,null,null,null,{"$f":"'PROPERTY MONUMENTS'!D45","v":0},null,null,null,{"$f":"'PROPERTY MONUMENTS'!E45","v":0},null,null,null,null,{"$f":"'PROPERTY MONUMENTS'!F45","v":0},null,null,null,null,null,{"$f":"'PROPERTY MONUMENTS'!H45","v":0},null,null,null,null,null,null,null,null,null,null,null,{"$f":"CONTROL!A45","v":0},null,null,null,{"$f":"CONTROL!B45","v":0},null,null,null,null,null,null,{"$f":"CONTROL!C45","v":0},null,null,null,null,{"$f":"CONTROL!D45","v":0},null,null,null,{"$f":"CONTROL!N45","v":1.0004044282338804},null,null,null,null,null,{"$f":"CONTROL!E45","v":0},null,null,null,null,{"$f":"CONTROL!F45","v":0},null,null,null,null,{"$f":"CONTROL!G45","v":0},null,null,{"$f":"CONTROL!H45","v":0},null,null,null,null,null,null,null,null,null,{"$f":"BENCHMARK!A45","v":0},null,null,null,{"$f":"BENCHMARK!B45","v":0},null,null,null,null,null,null,{"$f":"BENCHMARK!C45","v":0},null,null,null,null,{"$f":"BENCHMARK!D45","v":0},null,null,null,{"$f":"BENCHMARK!E45","v":0},null,null,null,null,{"$f":"BENCHMARK!F45","v":0},null,null,null,null,{"$f":"BENCHMARK!G45","v":0},null,null,null,{"$f":"BENCHMARK!H45","v":0}]
[null,null,{"$f":"'PROPERTY MONUMENTS'!B46","v":0},null,null,null,null,null,null,{"$f":"'PROPERTY MONUMENTS'!C46","v":0},null,null,null,null,{"$f":"'PROPERTY MONUMENTS'!D46","v":0},null,null,null,{"$f":"'PROPERTY MONUMENTS'!E46","v":0},null,null,null,null,{"$f":"'PROPERTY MONUMENTS'!F46","v":0},null,null,null,null,null,{"$f":"'PROPERTY MONUMENTS'!H46","v":0},null,null,null,null,null,null,null,null,null,null,null,{"$f":"CONTROL!A46","v":0},null,null,null,{"$f":"CONTROL!B46","v":0},null,null,null,null,null,null,{"$f":"CONTROL!C46","v":0},null,null,null,null,{"$f":"CONTROL!D46","v":0},null,null,null,{"$f":"CONTROL!N46","v":1.0004044282338804},null,null,null,null,null,{"$f":"CONTROL!E46","v":0},null,null,null,null,{"$f":"CONTROL!F46","v":0},null,null,null,null,{"$f":"CONTROL!G46","v":0},null,null,{"$f":"CONTROL!H46","v":0},null,null,null,null,null,null,null,null,null,{"$f":"BENCHMARK!A46","v":0},null,null,null,{"$f":"BENCHMARK!B46","v":0},null,null,null,null,null,null,{"$f":"BENCHMARK!C46","v":0},null,null,null,null,{"$f":"BENCHMARK!D46","v":0},null,null,null,{"$f":"BENCHMARK!E46","v":0},null,null,null,null,{"$f":"BENCHMARK!F46","v":0},null,null,null,null,{"$f":"BENCHMARK!G46","v":0},null,null,null,{"$f":"BENCHMARK!H46","v":0}]
[null,null,{"$f":"'PROPERTY MONUMENTS'!B47","v":0},null,null,null,null,null,null,{"$f":"'PROPERTY MONUMENTS'!C47","v":0},null,null,null,null,{"$f":"'PROPERTY MONUMENTS'!D47","v":0},null,null,null,{"$f":"'PROPERTY MONUMENTS'!E47","v":0},null,null,null,null,{"$f":"'PROPERTY MONUMENTS'!F47","v":0},null,null,null,null,null,{"$f":"'PROPERTY MONUMENTS'!H47","v":0},null,null,null,null,null,null,null,null,null,null,null,{"$f":"CONTROL!A47","v":0},null,null,null,{"$f":"CONTROL!B47","v":0},null,null,null,null,null,null,{"$f":"CONTROL!C47","v":0},null,null,null,null,{"$f":"CONTROL!D47","v":0},null,null,null,{"$f":"CONTROL!N47","v":1.0004044282338804},null,null,null,null,null,{"$f":"CONTROL!E47","v":0},null,null,null,null,{"$f":"CONTROL!F47","v":0},null,null,null,null,{"$f":"CONTROL!G47","v":0},null,null,{"$f":"CONTROL!H47","v":0},null,null,null,null,null,null,null,null,null,{"$f":"BENCHMARK!A47","v":0},null,null,null,{"$f":"BENCHMARK!B47","v":0},null,null,null,null,null,null,{"$f":"BENCHMARK!C47","v":0},null,null,null,null,{"$f":"BENCHMARK!D47","v":0},null,null,null,{"$f":"BENCHMARK!E47","v":0},null,null,null,null,{"$f":"BENCHMARK!F47","v":0},null,null,null,null,{"$f":"BENCHMARK!G47","v":0},null,null,null,{"$f":"BENCHMARK!H47","v":0}]
[null,null,{"$f":"'PROPERTY MONUMENTS'!B48","v":0},null,null,null,null,null,null,{"$f":"'PROPERTY MONUMENTS'!C48","v":0},null,null,null,null,{"$f":"'PROPERTY MONUMENTS'!D48","v":0},null,null,null,{"$f":"'PROPERTY MONUMENTS'!E48","v":0},null,null,null,null,{"$f":"'PROPERTY MONUMENTS'!F48","v":0},null,null,null,null,null,{"$f":"'PROPERTY MONUMENTS'!H48","v":0},null,null,null,null,null,null,null,null,null,null,null,{"$f":"CONTROL!A48","v":0},null,null,null,{"$f":"CONTROL!B48","v":0},null,null,null,null,null,null,{"$f":"CONTROL!C48","v":0},null,null,null,null,{"$f":"CONTROL!D48","v":0},null,null,null,{"$f":"CONTROL!N48","v":1.0004044282338804},null,null,null,null,null,{"$f":"CONTROL!E48","v":0},null,null,null,null,{"$f":"CONTROL!F48","v":0},null,null,null,null,{"$f":"CONTROL!G48","v":0},null,null,{"$f":"CONTROL!H48","v":0},null,null,null,null,null,null,null,null,null,{"$f":"BENCHMARK!A48","v":0},null,null,null,{"$f":"BENCHMARK!B48","v":0},null,null,null,null,null,null,{"$f":"BENCHMARK!C48","v":0},null,null,null,null,{"$f":"BENCHMARK!D48","v":0},null,null,null,{"$f":"BENCHMARK!E48","v":0},null,null,null,null,{"$f":"BENCHMARK!F48","v":0},null,null,null,null,{"$f":"BENCHMARK!G48","v":0},null,null,null,{"$f":"BENCHMARK!H48","v":0}]
[null,null,{"$f":"'PROPERTY MONUMENTS'!B49","v":0},null,null,null,null,null,null,{"$f":"'PROPERTY MONUMENTS'!C49","v":0},null,null,null,null,{"$f":"'PROPERTY MONUMENTS'!D49","v":0},null,null,null,{"$f":"'PROPERTY MONUMENTS'!E49","v":0},null,null,null,null,{"$f":"'PROPERTY MONUMENTS'!F49","v":0},null,null,null,null,null,{"$f":"'PROPERTY MONUMENTS'!H49","v":0},null,null,null,null,null,null,null,null,null,null,null,{"$f":"CONTROL!A49","v":0},null,null,null,{"$f":"CONTROL!B49","v":0},null,null,null,null,null,null,{"$f":"CONTROL!C49","v":0},null,null,null,null,{"$f":"CONTROL!D49","v":0},null,null,null,{"$f":"CONTROL!N49","v":1.0004044282338804},null,null,null,null,null,{"$f":"CONTROL!E49","v":0},null,null,null,null,{"$f":"CONTROL!F49","v":0},null,null,null,null,{"$f":"CONTROL!G49","v":0},null,null,{"$f":"CONTROL!H49","v":0},null,null,null,null,null,null,null,null,null,{"$f":"BENCHMARK!A49","v":0},null,null,null,{"$f":"BENCHMARK!B49","v":0},null,null,null,null,null,null,{"$f":"BENCHMARK!C49","v":0},null,null,null,null,{"$f":"BENCHMARK!D49","v":0},null,null,null,{"$f":"BENCHMARK!E49","v":0},null,null,null,null,{"$f":"BENCHMARK!F49","v":0},null,null,null,null,{"$f":"BENCHMARK!G49","v":0},null,null,null,{"$f":"BENCHMARK!H49","v":0}]
[null,null,{"$f":"'PROPERTY MONUMENTS'!B50","v":0},null,null,null,null,null,null,{"$f":"'PROPERTY MONUMENTS'!C50","v":0},null,null,null,null,{"$f":"'PROPERTY MONUMENTS'!D50","v":0},null,null,null,{"$f":"'PROPERTY MONUMENTS'!E50","v":0},null,null,null,null,{"$f":"'PROPERTY MONUMENTS'!F50","v":0},null,null,null,null,null,{"$f":"'PROPERTY MONUMENTS'!H50","v":0},null,null,null,null,null,null,null,null,null,null,null,{"$f":"CONTROL!A50","v":0},null,null,null,{"$f":"CONTROL!B50","v":0},null,null,null,null,null,null,{"$f":"CONTROL!C50","v":0},null,null,null,null,{"$f":"CONTROL!D50","v":0},null,null,null,{"$f":"CONTROL!N50","v":1.0004044282338804},null,null,null,null,null,{"$f":"CONTROL!E50","v":0},null,null,null,null,{"$f":"CONTROL!F50","v":0},null,null,null,null,{"$f":"CONTROL!G50","v":0},null,null,{"$f":"CONTROL!H50","v":0},null,null,null,null,null,null,null,null,null,{"$f":"BENCHMARK!A50","v":0},null,null,null,{"$f":"BENCHMARK!B50","v":0},null,null,null,null,null,null,{"$f":"BENCHMARK!C50","v":0},null,null,null,null,{"$f":"BENCHMARK!D50","v":0},null,null,null,{"$f":"BENCHMARK!E50","v":0},null,null,null,null,{"$f":"BENCHMARK!F50","v":0},null,null,null,null,{"$f":"BENCHMARK!G50","v":0},null,null,null,{"$f":"BENCHMARK!H50","v":0}]
[null,null,{"$f":"'PROPERTY MONUMENTS'!B51","v":0},null,null,null,null,null,null,{"$f":"'PROPERTY MONUMENTS'!C51","v":0},null,null,null,null,{"$f":"'PROPERTY MONUMENTS'!D51","v":0},null,null,null,{"$f":"'PROPERTY MONUMENTS'!E51","v":0},null,null,null,null,{"$f":"'PROPERTY MONUMENTS'!F51","v":0},null,null,null,null,null,{"$f":"'PROPERTY MONUMENTS'!H51","v":0},null,null,null,null,null,null,null,null,null,null,null,{"$f":"CONTROL!A51","v":0},null,null,null,{"$f":"CONTROL!B51","v":0},null,null,null,null,null,null,{"$f":"CONTROL!C51","v":0},null,null,null,null,{"$f":"CONTROL!D51","v":0},null,null,null,{"$f":"CONTROL!N51","v":1.0004044282338804},null,null,null,null,null,{"$f":"CONTROL!E51","v":0},null,null,null,null,{"$f":"CONTROL!F51","v":0},null,null,null,null,{"$f":"CONTROL!G51","v":0},null,null,{"$f":"CONTROL!H51","v":0},null,null,null,null,null,null,null,null,null,{"$f":"BENCHMARK!A51","v":0},null,null,null,{"$f":"BENCHMARK!B51","v":0},null,null,null,null,null,null,{"$f":"BENCHMARK!C51","v":0},null,null,null,null,{"$f":"BENCHMARK!D51","v":0},null,null,null,{"$f":"BENCHMARK!E51","v":0},null,null,null,null,{"$f":"BENCHMARK!F51","v":0},null,null,null,null,{"$f":"BENCHMARK!G51","v":0},null,null,null,{"$f":"BENCHMARK!H51","v":0}]
[null,null,{"$f":"'PROPERTY MONUMENTS'!B52","v":0},null,null,null,null,null,null,{"$f":"'PROPERTY MONUMENTS'!C52","v":0},null,null,null,null,{"$f":"'PROPERTY MONUMENTS'!D52","v":0},null,null,null,{"$f":"'PROPERTY MONUMENTS'!E52","v":0},null,null,null,null,{"$f":"'PROPERTY MONUMENTS'!F52","v":0},null,null,null,null,null,{"$f":"'PROPERTY MONUMENTS'!H52","v":0},null,null,null,null,null,null,null,null,null,null,null,{"$f":"CONTROL!A52","v":0},null,null,null,{"$f":"CONTROL!B52","v":0},null,null,null,null,null,null,{"$f":"CONTROL!C52","v":0},null,null,null,null,{"$f":"CONTROL!D52","v":0},null,null,null,{"$f":"CONTROL!N52","v":1.0004044282338804},null,null,null,null,null,{"$f":"CONTROL!E52","v":0},null,null,null,null,{"$f":"CONTROL!F52","v":0},null,null,null,null,{"$f":"CONTROL!G52","v":0},null,null,{"$f":"CONTROL!H52","v":0},null,null,null,null,null,null,null,null,null,{"$f":"BENCHMARK!A52","v":0},null,null,null,{"$f":"BENCHMARK!B52","v":0},null,null,null,null,null,null,{"$f":"BENCHMARK!C52","v":0},null,null,null,null,{"$f":"BENCHMARK!D52","v":0},null,null,null,{"$f":"BENCHMARK!E52","v":0},null,null,null,null,{"$f":"BENCHMARK!F52","v":0},null,null,null,null,{"$f":"BENCHMARK!G52","v":0},null,null,null,{"$f":"BENCHMARK!H52","v":0}]
[null,null,{"$f":"'PROPERTY MONUMENTS'!B53","v":0},null,null,null,null,null,null,{"$f":"'PROPERTY MONUMENTS'!C53","v":0},null,null,null,null,{"$f":"'PROPERTY MONUMENTS'!D53","v":0},null,null,null,{"$f":"'PROPERTY MONUMENTS'!E53","v":0},null,null,null,null,{"$f":"'PROPERTY MONUMENTS'!F53","v":0},null,null,null,null,null,{"$f":"'PROPERTY MONUMENTS'!H53","v":0},null,null,null,null,null,null,null,null,null,null,null,{"$f":"CONTROL!A53","v":0},null,null,null,{"$f":"CONTROL!B53","v":0},null,null,null,null,null,null,{"$f":"CONTROL!C53","v":0},null,null,null,null,{"$f":"CONTROL!D53","v":0},null,null,null,{"$f":"CONTROL!N53","v":1.0004044282338804},null,null,null,null,null,{"$f":"CONTROL!E53","v":0},null,null,null,null,{"$f":"CONTROL!F53","v":0},null,null,null,null,{"$f":"CONTROL!G53","v":0},null,null,{"$f":"CONTROL!H53","v":0},null,null,null,null,null,null,null,null,null,{"$f":"BENCHMARK!A53","v":0},null,null,null,{"$f":"BENCHMARK!B53","v":0},null,null,null,null,null,null,{"$f":"BENCHMARK!C53","v":0},null,null,null,null,{"$f":"BENCHMARK!D53","v":0},null,null,null,{"$f":"BENCHMARK!E53","v":0},null,null,null,null,{"$f":"BENCHMARK!F53","v":0},null,null,null,null,{"$f":"BENCHMARK!G53","v":0},null,null,null,{"$f":"BENCHMARK!H53","v":0}]
[null,null,{"$f":"'PROPERTY MONUMENTS'!B54","v":0},null,null,null,null,null,null,{"$f":"'PROPERTY MONUMENTS'!C54","v":0},null,null,null,null,{"$f":"'PROPERTY MONUMENTS'!D54","v":0},null,null,null,{"$f":"'PROPERTY MONUMENTS'!E54","v":0},null,null,null,null,{"$f":"'PROPERTY MONUMENTS'!F54","v":0},null,null,null,null,null,{"$f":"'PROPERTY MONUMENTS'!H54","v":0},null,null,null,null,null,null,null,null,null,null,null,{"$f":"CONTROL!A54","v":0},null,null,null,{"$f":"CONTROL!B54","v":0},null,null,null,null,null,null,{"$f":"CONTROL!C54","v":0},null,null,null,null,{"$f":"CONTROL!D54","v":0},null,null,null,{"$f":"CONTROL!N54","v":1.0004044282338804},null,null,null,null,null,{"$f":"CONTROL!E54","v":0},null,null,null,null,{"$f":"CONTROL!F54","v":0},null,null,null,null,{"$f":"CONTROL!G54","v":0},null,null,{"$f":"CONTROL!H54","v":0},null,null,null,null,null,null,null,null,null,{"$f":"BENCHMARK!A54","v":0},null,null,null,{"$f":"BENCHMARK!B54","v":0},null,null,null,null,null,null,{"$f":"BENCHMARK!C54","v":0},null,null,null,null,{"$f":"BENCHMARK!D54","v":0},null,null,null,{"$f":"BENCHMARK!E54","v":0},null,null,null,null,{"$f":"BENCHMARK!F54","v":0},null,null,null,null,{"$f":"BENCHMARK!G54","v":0},null,null,null,{"$f":"BENCHMARK!H54","v":0}]
[null,null,{"$f":"'PROPERTY MONUMENTS'!B55","v":0},null,null,null,null,null,null,{"$f":"'PROPERTY MONUMENTS'!C55","v":0},null,null,null,null,{"$f":"'PROPERTY MONUMENTS'!D55","v":0},null,null,null,{"$f":"'PROPERTY MONUMENTS'!E55","v":0},null,null,null,null,{"$f":"'PROPERTY MONUMENTS'!F55","v":0},null,null,null,null,null,{"$f":"'PROPERTY MONUMENTS'!H55","v":0},null,null,null,null,null,null,null,null,null,null,null,{"$f":"CONTROL!A55","v":0},null,null,null,{"$f":"CONTROL!B55","v":0},null,null,null,null,null,null,{"$f":"CONTROL!C55","v":0},null,null,null,null,{"$f":"CONTROL!D55","v":0},null,null,null,{"$f":"CONTROL!N55","v":1.0004044282338804},null,null,null,null,null,{"$f":"CONTROL!E55","v":0},null,null,null,null,{"$f":"CONTROL!F55","v":0},null,null,null,null,{"$f":"CONTROL!G55","v":0},null,null,{"$f":"CONTROL!H55","v":0},null,null,null,null,null,null,null,null,null,{"$f":"BENCHMARK!A55","v":0},null,null,null,{"$f":"BENCHMARK!B55","v":0},null,null,null,null,null,null,{"$f":"BENCHMARK!C55","v":0},null,null,null,null,{"$f":"BENCHMARK!D55","v":0},null,null,null,{"$f":"BENCHMARK!E55","v":0},null,null,null,null,{"$f":"BENCHMARK!F55","v":0},null,null,null,null,{"$f":"BENCHMARK!G55","v":0},null,null,null,{"$f":"BENCHMARK!H55","v":0}]
[null,null,{"$f":"'PROPERTY MONUMENTS'!B56","v":0},null,null,null,null,null,null,{"$f":"'PROPERTY MONUMENTS'!C56","v":0},null,null,null,null,{"$f":"'PROPERTY MONUMENTS'!D56","v":0},null,null,null,{"$f":"'PROPERTY MONUMENTS'!E56","v":0},null,null,null,null,{"$f":"'PROPERTY MONUMENTS'!F56","v":0},null,null,null,null,null,{"$f":"'PROPERTY MONUMENTS'!H56","v":0},null,null,null,null,null,null,null,null,null,null,null,{"$f":"CONTROL!A56","v":0},null,null,null,{"$f":"CONTROL!B56","v":0},null,null,null,null,null,null,{"$f":"CONTROL!C56","v":0},null,null,null,null,{"$f":"CONTROL!D56","v":0},null,null,null,{"$f":"CONTROL!N56","v":1.0004044282338804},null,null,null,null,null,{"$f":"CONTROL!E56","v":0},null,null,null,null,{"$f":"CONTROL!F56","v":0},null,null,null,null,{"$f":"CONTROL!G56","v":0},null,null,{"$f":"CONTROL!H56","v":0},null,null,null,null,null,null,null,null,null,{"$f":"BENCHMARK!A56","v":0},null,null,null,{"$f":"BENCHMARK!B56","v":0},null,null,null,null,null,null,{"$f":"BENCHMARK!C56","v":0},null,null,null,null,{"$f":"BENCHMARK!D56","v":0},null,null,null,{"$f":"BENCHMARK!E56","v":0},null,null,null,null,{"$f":"BENCHMARK!F56","v":0},null,null,null,null,{"$f":"BENCHMARK!G56","v":0},null,null,null,{"$f":"BENCHMARK!H56","v":0}]
[null,null,{"$f":"'PROPERTY MONUMENTS'!B57","v":0},null,null,null,null,null,null,{"$f":"'PROPERTY MONUMENTS'!C57","v":0},null,null,null,null,{"$f":"'PROPERTY MONUMENTS'!D57","v":0},null,null,null,{"$f":"'PROPERTY MONUMENTS'!E57","v":0},null,null,null,null,{"$f":"'PROPERTY MONUMENTS'!F57","v":0},null,null,null,null,null,{"$f":"'PROPERTY MONUMENTS'!H57","v":0},null,null,null,null,null,null,null,null,null,null,null,{"$f":"CONTROL!A57","v":0},null,null,null,{"$f":"CONTROL!B57","v":0},null,null,null,null,null,null,{"$f":"CONTROL!C57","v":0},null,null,null,null,{"$f":"CONTROL!D57","v":0},null,null,null,{"$f":"CONTROL!N57","v":1.0004044282338804},null,null,null,null,null,{"$f":"CONTROL!E57","v":0},null,null,null,null,{"$f":"CONTROL!F57","v":0},null,null,null,null,{"$f":"CONTROL!G57","v":0},null,null,{"$f":"CONTROL!H57","v":0},null,null,null,null,null,null,null,null,null,{"$f":"BENCHMARK!A57","v":0},null,null,null,{"$f":"BENCHMARK!B57","v":0},null,null,null,null,null,null,{"$f":"BENCHMARK!C57","v":0},null,null,null,null,{"$f":"BENCHMARK!D57","v":0},null,null,null,{"$f":"BENCHMARK!E57","v":0},null,null,null,null,{"$f":"BENCHMARK!F57","v":0},null,null,null,null,{"$f":"BENCHMARK!G57","v":0},null,null,null,{"$f":"BENCHMARK!H57","v":0}]
[null,null,{"$f":"'PROPERTY MONUMENTS'!B58","v":0},null,null,null,null,null,null,{"$f":"'PROPERTY MONUMENTS'!C58","v":0},null,null,null,null,{"$f":"'PROPERTY MONUMENTS'!D58","v":0},null,null,null,{"$f":"'PROPERTY MONUMENTS'!E58","v":0},null,null,null,null,{"$f":"'PROPERTY MONUMENTS'!F58","v":0},null,null,null,null,null,{"$f":"'PROPERTY MONUMENTS'!H58","v":0},null,null,null,null,null,null,null,null,null,null,null,{"$f":"CONTROL!A58","v":0},null,null,null,{"$f":"CONTROL!B58","v":0},null,null,null,null,null,null,{"$f":"CONTROL!C58","v":0},null,null,null,null,{"$f":"CONTROL!D58","v":0},null,null,null,{"$f":"CONTROL!N58","v":1.0004044282338804},null,null,null,null,null,{"$f":"CONTROL!E58","v":0},null,null,null,null,{"$f":"CONTROL!F58","v":0},null,null,null,null,{"$f":"CONTROL!G58","v":0},null,null,{"$f":"CONTROL!H58","v":0},null,null,null,null,null,null,null,null,null,{"$f":"BENCHMARK!A58","v":0},null,null,null,{"$f":"BENCHMARK!B58","v":0},null,null,null,null,null,null,{"$f":"BENCHMARK!C58","v":0},null,null,null,null,{"$f":"BENCHMARK!D58","v":0},null,null,null,{"$f":"BENCHMARK!E58","v":0},null,null,null,null,{"$f":"BENCHMARK!F58","v":0},null,null,null,null,{"$f":"BENCHMARK!G58","v":0},null,null,null,{"$f":"BENCHMARK!H58","v":0}]
[null,null,{"$f":"'PROPERTY MONUMENTS'!B59","v":0},null,null,null,null,null,null,{"$f":"'PROPERTY MONUMENTS'!C59","v":0},null,null,null,null,{"$f":"'PROPERTY MONUMENTS'!D59","v":0},null,null,null,{"$f":"'PROPERTY MONUMENTS'!E59","v":0},null,null,null,null,{"$f":"'PROPERTY MONUMENTS'!F59","v":0},null,null,null,null,null,{"$f":"'PROPERTY MONUMENTS'!H59","v":0},null,null,null,null,null,null,null,null,null,null,null,{"$f":"CONTROL!A59","v":0},null,null,null,{"$f":"CONTROL!B59","v":0},null,null,null,null,null,null,{"$f":"CONTROL!C59","v":0},null,null,null,null,{"$f":"CONTROL!D59","v":0},null,null,null,{"$f":"CONTROL!N59","v":1.0004044282338804},null,null,null,null,null,{"$f":"CONTROL!E59","v":0},null,null,null,null,{"$f":"CONTROL!F59","v":0},null,null,null,null,{"$f":"CONTROL!G59","v":0},null,null,{"$f":"CONTROL!H59","v":0},null,null,null,null,null,null,null,null,null,{"$f":"BENCHMARK!A59","v":0},null,null,null,{"$f":"BENCHMARK!B59","v":0},null,null,null,null,null,null,{"$f":"BENCHMARK!C59","v":0},null,null,null,null,{"$f":"BENCHMARK!D59","v":0},null,null,null,{"$f":"BENCHMARK!E59","v":0},null,null,null,null,{"$f":"BENCHMARK!F59","v":0},null,null,null,null,{"$f":"BENCHMARK!G59","v":0},null,null,null,{"$f":"BENCHMARK!H59","v":0}]
[null,null,{"$f":"'PROPERTY MONUMENTS'!B60","v":0},null,null,null,null,null,null,{"$f":"'PROPERTY MONUMENTS'!C60","v":0},null,null,null,null,{"$f":"'PROPERTY MONUMENTS'!D60","v":0},null,null,null,{"$f":"'PROPERTY MONUMENTS'!E60","v":0},null,null,null,null,{"$f":"'PROPERTY MONUMENTS'!F60","v":0},null,null,null,null,null,{"$f":"'PROPERTY MONUMENTS'!H60","v":0},null,null,null,null,null,null,null,null,null,null,null,{"$f":"CONTROL!A60","v":0},null,null,null,{"$f":"CONTROL!B60","v":0},null,null,null,null,null,null,{"$f":"CONTROL!C60","v":0},null,null,null,null,{"$f":"CONTROL!D60","v":0},null,null,null,{"$f":"CONTROL!N60","v":1.0004044282338804},null,null,null,null,null,{"$f":"CONTROL!E60","v":0},null,null,null,null,{"$f":"CONTROL!F60","v":0},null,null,null,null,{"$f":"CONTROL!G60","v":0},null,null,{"$f":"CONTROL!H60","v":0},null,null,null,null,null,null,null,null,null,{"$f":"BENCHMARK!A60","v":0},null,null,null,{"$f":"BENCHMARK!B60","v":0},null,null,null,null,null,null,{"$f":"BENCHMARK!C60","v":0},null,null,null,null,{"$f":"BENCHMARK!D60","v":0},null,null,null,{"$f":"BENCHMARK!E60","v":0},null,null,null,null,{"$f":"BENCHMARK!F60","v":0},null,null,null,null,{"$f":"BENCHMARK!G60","v":0},null,null,null,{"$f":"BENCHMARK!H60","v":0}]
[null,null,{"$f":"'PROPERTY MONUMENTS'!B61","v":0},null,null,null,null,null,null,{"$f":"'PROPERTY MONUMENTS'!C61","v":0},null,null,null,null,{"$f":"'PROPERTY MONUMENTS'!D61","v":0},null,null,null,{"$f":"'PROPERTY MONUMENTS'!E61","v":0},null,null,null,null,{"$f":"'PROPERTY MONUMENTS'!F61","v":0},null,null,null,null,null,{"$f":"'PROPERTY MONUMENTS'!H61","v":0},null,null,null,null,null,null,null,null,null,null,null,{"$f":"CONTROL!A61","v":0},null,null,null,{"$f":"CONTROL!B61","v":0},null,null,null,null,null,null,{"$f":"CONTROL!C61","v":0},null,null,null,null,{"$f":"CONTROL!D61","v":0},null,null,null,{"$f":"CONTROL!N61","v":1.0004044282338804},null,null,null,null,null,{"$f":"CONTROL!E61","v":0},null,null,null,null,{"$f":"CONTROL!F61","v":0},null,null,null,null,{"$f":"CONTROL!G61","v":0},null,null,{"$f":"CONTROL!H61","v":0},null,null,null,null,null,null,null,null,null,{"$f":"BENCHMARK!A61","v":0},null,null,null,{"$f":"BENCHMARK!B61","v":0},null,null,null,null,null,null,{"$f":"BENCHMARK!C61","v":0},null,null,null,null,{"$f":"BENCHMARK!D61","v":0},null,null,null,{"$f":"BENCHMARK!E61","v":0},null,null,null,null,{"$f":"BENCHMARK!F61","v":0},null,null,null,null,{"$f":"BENCHMARK!G61","v":0},null,null,null,{"$f":"BENCHMARK!H61","v":0}]
[null,null,{"$f":"'PROPERTY MONUMENTS'!B62","v":0},null,null,null,null,null,null,{"$f":"'PROPERTY MONUMENTS'!C62","v":0},null,null,null,null,{"$f":"'PROPERTY MONUMENTS'!D62","v":0},null,null,null,{"$f":"'PROPERTY MONUMENTS'!E62","v":0},null,null,null,null,{"$f":"'PROPERTY MONUMENTS'!F62","v":0},null,null,null,null,null,{"$f":"'PROPERTY MONUMENTS'!H62","v":0},null,null,null,null,null,null,null,null,null,null,null,{"$f":"CONTROL!A62","v":0},null,null,null,{"$f":"CONTROL!B62","v":0},null,null,null,null,null,null,{"$f":"CONTROL!C62","v":0},null,null,null,null,{"$f":"CONTROL!D62","v":0},null,null,null,{"$f":"CONTROL!N62","v":1.0004044282338804},null,null,null,null,null,{"$f":"CONTROL!E62","v":0},null,null,null,null,{"$f":"CONTROL!F62","v":0},null,null,null,null,{"$f":"CONTROL!G62","v":0},null,null,{"$f":"CONTROL!H62","v":0},null,null,null,null,null,null,null,null,null,{"$f":"BENCHMARK!A62","v":0},null,null,null,{"$f":"BENCHMARK!B62","v":0},null,null,null,null,null,null,{"$f":"BENCHMARK!C62","v":0},null,null,null,null,{"$f":"BENCHMARK!D62","v":0},null,null,null,{"$f":"BENCHMARK!E62","v":0},null,null,null,null,{"$f":"BENCHMARK!F62","v":0},null,null,null,null,{"$f":"BENCHMARK!G62","v":0},null,null,null,{"$f":"BENCHMARK!H62","v":0}]
[null,null,{"$f":"'PROPERTY MONUMENTS'!B63","v":0},null,null,null,null,null,null,{"$f":"'PROPERTY MONUMENTS'!C63","v":0},null,null,null,null,{"$f":"'PROPERTY MONUMENTS'!D63","v":0},null,null,null,{"$f":"'PROPERTY MONUMENTS'!E63","v":0},null,null,null,null,{"$f":"'PROPERTY MONUMENTS'!F63","v":0},null,null,null,null,null,{"$f":"'PROPERTY MONUMENTS'!H63","v":0},null,null,null,null,null,null,null,null,null,null,null,{"$f":"CONTROL!A63","v":0},null,null,null,{"$f":"CONTROL!B63","v":0},null,null,null,null,null,null,{"$f":"CONTROL!C63","v":0},null,null,null,null,{"$f":"CONTROL!D63","v":0},null,null,null,{"$f":"CONTROL!N63","v":1.0004044282338804},null,null,null,null,null,{"$f":"CONTROL!E63","v":0},null,null,null,null,{"$f":"CONTROL!F63","v":0},null,null,null,null,{"$f":"CONTROL!G63","v":0},null,null,{"$f":"CONTROL!H63","v":0},null,null,null,null,null,null,null,null,null,{"$f":"BENCHMARK!A63","v":0},null,null,null,{"$f":"BENCHMARK!B63","v":0},null,null,null,null,null,null,{"$f":"BENCHMARK!C63","v":0},null,null,null,null,{"$f":"BENCHMARK!D63","v":0},null,null,null,{"$f":"BENCHMARK!E63","v":0},null,null,null,null,{"$f":"BENCHMARK!F63","v":0},null,null,null,null,{"$f":"BENCHMARK!G63","v":0},null,null,null,{"$f":"BENCHMARK!H63","v":0}]
[null,null,{"$f":"'PROPERTY MONUMENTS'!B64","v":0},null,null,null,null,null,null,{"$f":"'PROPERTY MONUMENTS'!C64","v":0},null,null,null,null,{"$f":"'PROPERTY MONUMENTS'!D64","v":0},null,null,null,{"$f":"'PROPERTY MONUMENTS'!E64","v":0},null,null,null,null,{"$f":"'PROPERTY MONUMENTS'!F64","v":0},null,null,null,null,null,{"$f":"'PROPERTY MONUMENTS'!H64","v":0},null,null,null,null,null,null,null,null,null,null,null,{"$f":"CONTROL!A64","v":0},null,null,null,{"$f":"CONTROL!B64","v":0},null,null,null,null,null,null,{"$f":"CONTROL!C64","v":0},null,null,null,null,{"$f":"CONTROL!D64","v":0},null,null,null,{"$f":"CONTROL!N64","v":1.0004044282338804},null,null,null,null,null,{"$f":"CONTROL!E64","v":0},null,null,null,null,{"$f":"CONTROL!F64","v":0},null,null,null,null,{"$f":"CONTROL!G64","v":0},null,null,{"$f":"CONTROL!H64","v":0},null,null,null,null,null,null,null,null,null,{"$f":"BENCHMARK!A64","v":0},null,null,null,{"$f":"BENCHMARK!B64","v":0},null,null,null,null,null,null,{"$f":"BENCHMARK!C64","v":0},null,null,null,null,{"$f":"BENCHMARK!D64","v":0},null,null,null,{"$f":"BENCHMARK!E64","v":0},null,null,null,null,{"$f":"BENCHMARK!F64","v":0},null,null,null,null,{"$f":"BENCHMARK!G64","v":0},null,null,null,{"$f":"BENCHMARK!H64","v":0}]
[null,null,{"$f":"'PROPERTY MONUMENTS'!B65","v":0},null,null,null,null,null,null,{"$f":"'PROPERTY MONUMENTS'!C65","v":0},null,null,null,null,{"$f":"'PROPERTY MONUMENTS'!D65","v":0},null,null,null,{"$f":"'PROPERTY MONUMENTS'!E65","v":0},null,null,null,null,{"$f":"'PROPERTY MONUMENTS'!F65","v":0},null,null,null,null,null,{"$f":"'PROPERTY MONUMENTS'!H65","v":0},null,null,null,null,null,null,null,null,null,null,null,{"$f":"CONTROL!A65","v":0},null,null,null,{"$f":"CONTROL!B65","v":0},null,null,null,null,null,null,{"$f":"CONTROL!C65","v":0},null,null,null,null,{"$f":"CONTROL!D65","v":0},null,null,null,{"$f":"CONTROL!N65","v":1.0004044282338804},null,null,null,null,null,{"$f":"CONTROL!E65","v":0},null,null,null,null,{"$f":"CONTROL!F65","v":0},null,null,null,null,{"$f":"CONTROL!G65","v":0},null,null,{"$f":"CONTROL!H65","v":0},null,null,null,null,null,null,null,null,null,{"$f":"BENCHMARK!A65","v":0},null,null,null,{"$f":"BENCHMARK!B65","v":0},null,null,null,null,null,null,{"$f":"BENCHMARK!C65","v":0},null,null,null,null,{"$f":"BENCHMARK!D65","v":0},null,null,null,{"$f":"BENCHMARK!E65","v":0},null,null,null,null,{"$f":"BENCHMARK!F65","v":0},null,null,null,null,{"$f":"BENCHMARK!G65","v":0},null,null,null,{"$f":"BENCHMARK!H65","v":0}]
[null,null,{"$f":"'PROPERTY MONUMENTS'!B66","v":0},null,null,null,null,null,null,{"$f":"'PROPERTY MONUMENTS'!C66","v":0},null,null,null,null,{"$f":"'PROPERTY MONUMENTS'!D66","v":0},null,null,null,{"$f":"'PROPERTY MONUMENTS'!E66","v":0},null,null,null,null,{"$f":"'PROPERTY MONUMENTS'!F66","v":0},null,null,null,null,null,{"$f":"'PROPERTY MONUMENTS'!H66","v":0},null,null,null,null,null,null,null,null,null,null,null,{"$f":"CONTROL!A66","v":0},null,null,null,{"$f":"CONTROL!B66","v":0},null,null,null,null,null,null,{"$f":"CONTROL!C66","v":0},null,null,null,null,{"$f":"CONTROL!D66","v":0},null,null,null,{"$f":"CONTROL!N66","v":1.0004044282338804},null,null,null,null,null,{"$f":"CONTROL!E66","v":0},null,null,null,null,{"$f":"CONTROL!F66","v":0},null,null,null,null,{"$f":"CONTROL!G66","v":0},null,null,{"$f":"CONTROL!H66","v":0},null,null,null,null,null,null,null,null,null,{"$f":"BENCHMARK!A66","v":0},null,null,null,{"$f":"BENCHMARK!B66","v":0},null,null,null,null,null,null,{"$f":"BENCHMARK!C66","v":0},null,null,null,null,{"$f":"BENCHMARK!D66","v":0},null,null,null,{"$f":"BENCHMARK!E66","v":0},null,null,null,null,{"$f":"BENCHMARK!F66","v":0},null,null,null,null,{"$f":"BENCHMARK!G66","v":0},null,null,null,{"$f":"BENCHMARK!H66","v":0}]
[null,null,{"$f":"'PROPERTY MONUMENTS'!B67","v":0},null,null,null,null,null,null,{"$f":"'PROPERTY MONUMENTS'!C67","v":0},null,null,null,null,{"$f":"'PROPERTY MONUMENTS'!D67","v":0},null,null,null,{"$f":"'PROPERTY MONUMENTS'!E67","v":0},null,null,null,null,{"$f":"'PROPERTY MONUMENTS'!F67","v":0},null,null,null,null,null,{"$f":"'PROPERTY MONUMENTS'!H67","v":0},null,null,null,null,null,null,null,null,null,null,null,{"$f":"CONTROL!A67","v":0},null,null,null,{"$f":"CONTROL!B67","v":0},null,null,null,null,null,null,{"$f":"CONTROL!C67","v":0},null,null,null,null,{"$f":"CONTROL!D67","v":0},null,null,null,{"$f":"CONTROL!N67","v":1.0004044282338804},null,null,null,null,null,{"$f":"CONTROL!E67","v":0},null,null,null,null,{"$f":"CONTROL!F67","v":0},null,null,null,null,{"$f":"CONTROL!G67","v":0},null,null,{"$f":"CONTROL!H67","v":0},null,null,null,null,null,null,null,null,null,{"$f":"BENCHMARK!A67","v":0},null,null,null,{"$f":"BENCHMARK!B67","v":0},null,null,null,null,null,null,{"$f":"BENCHMARK!C67","v":0},null,null,null,null,{"$f":"BENCHMARK!D67","v":0},null,null,null,{"$f":"BENCHMARK!E67","v":0},null,null,null,null,{"$f":"BENCHMARK!F67","v":0},null,null,null,null,{"$f":"BENCHMARK!G67","v":0},null,null,null,{"$f":"BENCHMARK!H67","v":0}]
[null,null,{"$f":"'PROPERTY MONUMENTS'!B68","v":0},null,null,null,null,null,null,{"$f":"'PROPERTY MONUMENTS'!C68","v":0},null,null,null,null,{"$f":"'PROPERTY MONUMENTS'!D68","v":0},null,null,null,{"$f":"'PROPERTY MONUMENTS'!E68","v":0},null,null,null,null,{"$f":"'PROPERTY MONUMENTS'!F68","v":0},null,null,null,null,null,{"$f":"'PROPERTY MONUMENTS'!H68","v":0},null,null,null,null,null,null,null,null,null,null,null,{"$f":"CONTROL!A68","v":0},null,null,null,{"$f":"CONTROL!B68","v":0},null,null,null,null,null,null,{"$f":"CONTROL!C68","v":0},null,null,null,null,{"$f":"CONTROL!D68","v":0},null,null,null,{"$f":"CONTROL!N68","v":1.0004044282338804},null,null,null,null,null,{"$f":"CONTROL!E68","v":0},null,null,null,null,{"$f":"CONTROL!F68","v":0},null,null,null,null,{"$f":"CONTROL!G68","v":0},null,null,{"$f":"CONTROL!H68","v":0},null,null,null,null,null,null,null,null,null,{"$f":"BENCHMARK!A68","v":0},null,null,null,{"$f":"BENCHMARK!B68","v":0},null,null,null,null,null,null,{"$f":"BENCHMARK!C68","v":0},null,null,null,null,{"$f":"BENCHMARK!D68","v":0},null,null,null,{"$f":"BENCHMARK!E68","v":0},null,null,null,null,{"$f":"BENCHMARK!F68","v":0},null,null,null,null,{"$f":"BENCHMARK!G68","v":0},null,null,null,{"$f":"BENCHMARK!H68","v":0}]
[null,null,{"$f":"'PROPERTY MONUMENTS'!B69","v":0},null,null,null,null,null,null,{"$f":"'PROPERTY MONUMENTS'!C69","v":0},null,null,null,null,{"$f":"'PROPERTY MONUMENTS'!D69","v":0},null,null,null,{"$f":"'PROPERTY MONUMENTS'!E69","v":0},null,null,null,null,{"$f":"'PROPERTY MONUMENTS'!F69","v":0},null,null,null,null,null,{"$f":"'PROPERTY MONUMENTS'!H69","v":0},null,null,null,null,null,null,null,null,null,null,null,{"$f":"CONTROL!A69","v":0},null,null,null,{"$f":"CONTROL!B69","v":0},null,null,null,null,null,null,{"$f":"CONTROL!C69","v":0},null,null,null,null,{"$f":"CONTROL!D69","v":0},null,null,null,{"$f":"CONTROL!N69","v":1.0004044282338804},null,null,null,null,null,{"$f":"CONTROL!E69","v":0},null,null,null,null,{"$f":"CONTROL!F69","v":0},null,null,null,null,{"$f":"CONTROL!G69","v":0},null,null,{"$f":"CONTROL!H69","v":0},null,null,null,null,null,null,null,null,null,{"$f":"BENCHMARK!A69","v":0},null,null,null,{"$f":"BENCHMARK!B69","v":0},null,null,null,null,null,null,{"$f":"BENCHMARK!C69","v":0},null,null,null,null,{"$f":"BENCHMARK!D69","v":0},null,null,null,{"$f":"BENCHMARK!E69","v":0},null,null,null,null,{"$f":"BENCHMARK!F69","v":0},null,null,null,null,{"$f":"BENCHMARK!G69","v":0},null,null,null,{"$f":"BENCHMARK!H69","v":0}]
[null,null,{"$f":"'PROPERTY MONUMENTS'!B70","v":0},null,null,null,null,null,null,{"$f":"'PROPERTY MONUMENTS'!C70","v":0},null,null,null,null,{"$f":"'PROPERTY MONUMENTS'!D70","v":0},null,null,null,{"$f":"'PROPERTY MONUMENTS'!E70","v":0},null,null,null,null,{"$f":"'PROPERTY MONUMENTS'!F70","v":0},null,null,null,null,null,{"$f":"'PROPERTY MONUMENTS'!H70","v":0},null,null,null,null,null,null,null,null,null,null,null,{"$f":"CONTROL!A70","v":0},null,null,null,{"$f":"CONTROL!B70","v":0},null,null,null,null,null,null,{"$f":"CONTROL!C70","v":0},null,null,null,null,{"$f":"CONTROL!D70","v":0},null,null,null,{"$f":"CONTROL!N70","v":1.0004044282338804},null,null,null,null,null,{"$f":"CONTROL!E70","v":0},null,null,null,null,{"$f":"CONTROL!F70","v":0},null,null,null,null,{"$f":"CONTROL!G70","v":0},null,null,{"$f":"CONTROL!H70","v":0},null,null,null,null,null,null,null,null,null,{"$f":"BENCHMARK!A70","v":0},null,null,null,{"$f":"BENCHMARK!B70","v":0},null,null,null,null,null,null,{"$f":"BENCHMARK!C70","v":0},null,null,null,null,{"$f":"BENCHMARK!D70","v":0},null,null,null,{"$f":"BENCHMARK!E70","v":0},null,null,null,null,{"$f":"BENCHMARK!F70","v":0},null,null,null,null,{"$f":"BENCHMARK!G70","v":0},null,null,null,{"$f":"BENCHMARK!H70","v":0}]
[null,null,{"$f":"'PROPERTY MONUMENTS'!B71","v":0},null,null,null,null,null,null,{"$f":"'PROPERTY MONUMENTS'!C71","v":0},null,null,null,null,{"$f":"'PROPERTY MONUMENTS'!D71","v":0},null,null,null,{"$f":"'PROPERTY MONUMENTS'!E71","v":0},null,null,null,null,{"$f":"'PROPERTY MONUMENTS'!F71","v":0},null,null,null,null,null,{"$f":"'PROPERTY MONUMENTS'!H71","v":0},null,null,null,null,null,null,null,null,null,null,null,{"$f":"CONTROL!A71","v":0},null,null,null,{"$f":"CONTROL!B71","v":0},null,null,null,null,null,null,{"$f":"CONTROL!C71","v":0},null,null,null,null,{"$f":"CONTROL!D71","v":0},null,null,null,{"$f":"CONTROL!N71","v":1.0004044282338804},null,null,null,null,null,{"$f":"CONTROL!E71","v":0},null,null,null,null,{"$f":"CONTROL!F71","v":0},null,null,null,null,{"$f":"CONTROL!G71","v":0},null,null,{"$f":"CONTROL!H71","v":0},null,null,null,null,null,null,null,null,null,{"$f":"BENCHMARK!A71","v":0},null,null,null,{"$f":"BENCHMARK!B71","v":0},null,null,null,null,null,null,{"$f":"BENCHMARK!C71","v":0},null,null,null,null,{"$f":"BENCHMARK!D71","v":0},null,null,null,{"$f":"BENCHMARK!E71","v":0},null,null,null,null,{"$f":"BENCHMARK!F71","v":0},null,null,null,null,{"$f":"BENCHMARK!G71","v":0},null,null,null,{"$f":"BENCHMARK!H71","v":0}]
[null,null,{"$f":"'PROPERTY MONUMENTS'!B72","v":0},null,null,null,null,null,null,{"$f":"'PROPERTY MONUMENTS'!C72","v":0},null,null,null,null,{"$f":"'PROPERTY MONUMENTS'!D72","v":0},null,null,null,{"$f":"'PROPERTY MONUMENTS'!E72","v":0},null,null,null,null,{"$f":"'PROPERTY MONUMENTS'!F72","v":0},null,null,null,null,null,{"$f":"'PROPERTY MONUMENTS'!H72","v":0},null,null,null,null,null,null,null,null,null,null,null,{"$f":"CONTROL!A72","v":0},null,null,null,{"$f":"CONTROL!B72","v":0},null,null,null,null,null,null,{"$f":"CONTROL!C72","v":0},null,null,null,null,{"$f":"CONTROL!D72","v":0},null,null,null,{"$f":"CONTROL!N72","v":1.0004044282338804},null,null,null,null,null,{"$f":"CONTROL!E72","v":0},null,null,null,null,{"$f":"CONTROL!F72","v":0},null,null,null,null,{"$f":"CONTROL!G72","v":0},null,null,{"$f":"CONTROL!H72","v":0},null,null,null,null,null,null,null,null,null,{"$f":"BENCHMARK!A72","v":0},null,null,null,{"$f":"BENCHMARK!B72","v":0},null,null,null,null,null,null,{"$f":"BENCHMARK!C72","v":0},null,null,null,null,{"$f":"BENCHMARK!D72","v":0},null,null,null,{"$f":"BENCHMARK!E72","v":0},null,null,null,null,{"$f":"BENCHMARK!F72","v":0},null,null,null,null,{"$f":"BENCHMARK!G72","v":0},null,null,null,{"$f":"BENCHMARK!H72","v":0}]
[null,null,{"$f":"'PROPERTY MONUMENTS'!B73","v":0},null,null,null,null,null,null,{"$f":"'PROPERTY MONUMENTS'!C73","v":0},null,null,null,null,{"$f":"'PROPERTY MONUMENTS'!D73","v":0},null,null,null,{"$f":"'PROPERTY MONUMENTS'!E73","v":0},null,null,null,null,{"$f":"'PROPERTY MONUMENTS'!F73","v":0},null,null,null,null,null,{"$f":"'PROPERTY MONUMENTS'!H73","v":0},null,null,null,null,null,null,null,null,null,null,null,{"$f":"CONTROL!A73","v":0},null,null,null,{"$f":"CONTROL!B73","v":0},null,null,null,null,null,null,{"$f":"CONTROL!C73","v":0},null,null,null,null,{"$f":"CONTROL!D73","v":0},null,null,null,{"$f":"CONTROL!N73","v":1.0004044282338804},null,null,null,null,null,{"$f":"CONTROL!E73","v":0},null,null,null,null,{"$f":"CONTROL!F73","v":0},null,null,null,null,{"$f":"CONTROL!G73","v":0},null,null,{"$f":"CONTROL!H73","v":0},null,null,null,null,null,null,null,null,null,{"$f":"BENCHMARK!A73","v":0},null,null,null,{"$f":"BENCHMARK!B73","v":0},null,null,null,null,null,null,{"$f":"BENCHMARK!C73","v":0},null,null,null,null,{"$f":"BENCHMARK!D73","v":0},null,null,null,{"$f":"BENCHMARK!E73","v":0},null,null,null,null,{"$f":"BENCHMARK!F73","v":0},null,null,null,null,{"$f":"BENCHMARK!G73","v":0},null,null,null,{"$f":"BENCHMARK!H73","v":0}]
[null,null,{"$f":"'PROPERTY MONUMENTS'!B74","v":0},null,null,null,null,null,null,{"$f":"'PROPERTY MONUMENTS'!C74","v":0},null,null,null,null,{"$f":"'PROPERTY MONUMENTS'!D74","v":0},null,null,null,{"$f":"'PROPERTY MONUMENTS'!E74","v":0},null,null,null,null,{"$f":"'PROPERTY MONUMENTS'!F74","v":0},null,null,null,null,null,{"$f":"'PROPERTY MONUMENTS'!H74","v":0}]
[null,null,{"$f":"'PROPERTY MONUMENTS'!B75","v":0},null,null,null,null,null,null,{"$f":"'PROPERTY MONUMENTS'!C75","v":0},null,null,null,null,{"$f":"'PROPERTY MONUMENTS'!D75","v":0},null,null,null,{"$f":"'PROPERTY MONUMENTS'!E75","v":0},null,null,null,null,{"$f":"'PROPERTY MONUMENTS'!F75","v":0},null,null,null,null,null,{"$f":"'PROPERTY MONUMENTS'!H75","v":0},null,null,null,null,null,null,null,null,"NOTES:",null,null,null,null,null,null,null,null,null,null,null,null,null,null,null,null,null,null,null,null,null,null,null,null,null,null,null,null,null,null,null,null,null,null,null,null,null,null,null,null,null,null,null,null,null,null,null,null,null,null,null,null,null,null,null,null,null,null,null,null,null,null,null,null,"SURVEY CONTROL DATA"]
[null,null,{"$f":"'PROPERTY MONUMENTS'!B76","v":0},null,null,null,null,null,null,{"$f":"'PROPERTY MONUMENTS'!C76","v":0},null,null,null,null,{"$f":"'PROPERTY MONUMENTS'!D76","v":0},null,null,null,{"$f":"'PROPERTY MONUMENTS'!E76","v":0},null,null,null,null,{"$f":"'PROPERTY MONUMENTS'!F76","v":0},null,null,null,null,null,{"$f":"'PROPERTY MONUMENTS'!H76","v":0}]
[null,null,{"$f":"'PROPERTY MONUMENTS'!B77","v":0},null,null,null,null,null,null,{"$f":"'PROPERTY MONUMENTS'!C77","v":0},null,null,null,null,{"$f":"'PROPERTY MONUMENTS'!D77","v":0},null,null,null,{"$f":"'PROPERTY MONUMENTS'!E77","v":0},null,null,null,null,{"$f":"'PROPERTY MONUMENTS'!F77","v":0},null,null,null,null,null,{"$f":"'PROPERTY MONUMENTS'!H77","v":0},null,null,null,null,null,null,null,null,"1. The alignment Station and Offset are referenced to the existing Survey Centerline."]
[null,null,{"$f":"'PROPERTY MONUMENTS'!B78","v":0},null,null,null,null,null,null,{"$f":"'PROPERTY MONUMENTS'!C78","v":0},null,null,null,null,{"$f":"'PROPERTY MONUMENTS'!D78","v":0},null,null,null,{"$f":"'PROPERTY MONUMENTS'!E78","v":0},null,null,null,null,{"$f":"'PROPERTY MONUMENTS'!F78","v":0},null,null,null,null,null,{"$f":"'PROPERTY MONUMENTS'!H78","v":0},null,null,null,null,null,null,null,null,"2. Date of Survey:",null,null,null,null,null,null,null,null,null,null,null,null,null,null,null,null,null,null,null,null,null,null,null,null,null,null,null,null,null,null,null,null,null,null,null,null,null,null,null,null,null,null,null,null,null,"PROJECT DESCRIPTION"]
[null,null,{"$f":"'PROPERTY MONUMENTS'!B79","v":0},null,null,null,null,null,null,{"$f":"'PROPERTY MONUMENTS'!C79","v":0},null,null,null,null,{"$f":"'PROPERTY MONUMENTS'!D79","v":0},null,null,null,{"$f":"'PROPERTY MONUMENTS'!E79","v":0},null,null,null,null,{"$f":"'PROPERTY MONUMENTS'!F79","v":0},null,null,null,null,null,{"$f":"'PROPERTY MONUMENTS'!H79","v":0}]
[null,null,{"$f":"'PROPERTY MONUMENTS'!B80","v":0},null,null,null,null,null,null,{"$f":"'PROPERTY MONUMENTS'!C80","v":0},null,null,null,null,{"$f":"'PROPERTY MONUMENTS'!D80","v":0},null,null,null,{"$f":"'PROPERTY MONUMENTS'!E80","v":0},null,null,null,null,{"$f":"'PROPERTY MONUMENTS'!F80","v":0},null,null,null,null,null,{"$f":"'PROPERTY MONUMENTS'!H80","v":0}]
[null,null,{"$f":"'PROPERTY MONUMENTS'!B81","v":0},null,null,null,null,null,null,{"$f":"'PROPERTY MONUMENTS'!C81","v":0},null,null,null,null,{"$f":"'PROPERTY MONUMENTS'!D81","v":0},null,null,null,{"$f":"'PROPERTY MONUMENTS'!E81","v":0},null,null,null,null,{"$f":"'PROPERTY MONUMENTS'!F81","v":0},null,null,null,null,null,{"$f":"'PROPERTY MONUMENTS'!H81","v":0}]
[null,null,{"$f":"'PROPERTY MONUMENTS'!B82","v":0},null,null,null,null,null,null,{"$f":"'PROPERTY MONUMENTS'!C82","v":0},null,null,null,null,{"$f":"'PROPERTY MONUMENTS'!D82","v":0},null,null,null,{"$f":"'PROPERTY MONUMENTS'!E82","v":0},null,null,null,null,{"$f":"'PROPERTY MONUMENTS'!F82","v":0},null,null,null,null,null,{"$f":"'PROPERTY MONUMENTS'!H82","v":0},null,null,null,null,null,null,null,null,null,null,null,null,null,null,null,null,null,null,null,null,null,null,null,null,null,null,null,null,null,null,null,null,null,null,null,null,null,null,null,null,null,null,null,null,null,null,null,null,null,null,null,null,null,null,"DATUM DESCRIPTION"]
[null,null,{"$f":"'PROPERTY MONUMENTS'!B83","v":0},null,null,null,null,null,null,{"$f":"'PROPERTY MONUMENTS'!C83","v":0},null,null,null,null,{"$f":"'PROPERTY MONUMENTS'!D83","v":0},null,null,null,{"$f":"'PROPERTY MONUMENTS'!E83","v":0},null,null,null,null,{"$f":"'PROPERTY MONUMENTS'!F83","v":0},null,null,null,null,null,{"$f":"'PROPERTY MONUMENTS'!H83","v":0},null,null,null,null,null,null,null,null,null,null,null,null,null,null,null,null,null,null,null,null,null,null,null,null,null,null,null,null,null,null,null,null,null,null,null,null,null,null,null,null,null,null,null,null,null,null,null,null,null,null,null,null,null,null,{"$f":"DATUM!A71","v":"This GRID Coordinate System developed for this project is based on NAD83(2011)  South Carolina State Plane Coordinate System. A Combined Scale Factor (CSF) for each Survey Control Point must be computed and applied to horizontal ground distances. Elevations for this project are based on NAVD88 for  with an Elevation of 0.00"}]
[null,null,{"$f":"'PROPERTY MONUMENTS'!B84","v":0},null,null,null,null,null,null,{"$f":"'PROPERTY MONUMENTS'!C84","v":0},null,null,null,null,{"$f":"'PROPERTY MONUMENTS'!D84","v":0},null,null,null,{"$f":"'PROPERTY MONUMENTS'!E84","v":0},null,null,null,null,{"$f":"'PROPERTY MONUMENTS'!F84","v":0},null,null,null,null,null,{"$f":"'PROPERTY MONUMENTS'!H84","v":0}]
[null,null,{"$f":"'PROPERTY MONUMENTS'!B85","v":0},null,null,null,null,null,null,{"$f":"'PROPERTY MONUMENTS'!C85","v":0},null,null,null,null,{"$f":"'PROPERTY MONUMENTS'!D85","v":0},null,null,null,{"$f":"'PROPERTY MONUMENTS'!E85","v":0},null,null,null,null,{"$f":"'PROPERTY MONUMENTS'!F85","v":0},null,null,null,null,null,{"$f":"'PROPERTY MONUMENTS'!H85","v":0}]
[null,null,{"$f":"'PROPERTY MONUMENTS'!B86","v":0},null,null,null,null,null,null,{"$f":"'PROPERTY MONUMENTS'!C86","v":0},null,null,null,null,{"$f":"'PROPERTY MONUMENTS'!D86","v":0},null,null,null,{"$f":"'PROPERTY MONUMENTS'!E86","v":0},null,null,null,null,{"$f":"'PROPERTY MONUMENTS'!F86","v":0},null,null,null,null,null,{"$f":"'PROPERTY MONUMENTS'!H86","v":0},null,null,null,null,null,null,null,null,"The Property Monuments Found listed on this sheet are assumed to be property corner monuments, field located during "]
[null,null,{"$f":"'PROPERTY MONUMENTS'!B87","v":0},null,null,null,null,null,null,{"$f":"'PROPERTY MONUMENTS'!C87","v":0},null,null,null,null,{"$f":"'PROPERTY MONUMENTS'!D87","v":0},null,null,null,{"$f":"'PROPERTY MONUMENTS'!E87","v":0},null,null,null,null,{"$f":"'PROPERTY MONUMENTS'!F87","v":0},null,null,null,null,null,{"$f":"'PROPERTY MONUMENTS'!H87","v":0},null,null,null,null,null,null,null,null,"the course of this survey. The Department makes no claim that these located monuments are the true position of any "]
[null,null,{"$f":"'PROPERTY MONUMENTS'!B88","v":0},null,null,null,null,null,null,{"$f":"'PROPERTY MONUMENTS'!C88","v":0},null,null,null,null,{"$f":"'PROPERTY MONUMENTS'!D88","v":0},null,null,null,{"$f":"'PROPERTY MONUMENTS'!E88","v":0},null,null,null,null,{"$f":"'PROPERTY MONUMENTS'!F88","v":0},null,null,null,null,null,{"$f":"'PROPERTY MONUMENTS'!H88","v":0},null,null,null,null,null,null,null,null,"property and takes no responsibility for this information being used as such. These monuments are tied to the control of this"]
[null,null,{"$f":"'PROPERTY MONUMENTS'!B89","v":0},null,null,null,null,null,null,{"$f":"'PROPERTY MONUMENTS'!C89","v":0},null,null,null,null,{"$f":"'PROPERTY MONUMENTS'!D89","v":0},null,null,null,{"$f":"'PROPERTY MONUMENTS'!E89","v":0},null,null,null,null,{"$f":"'PROPERTY MONUMENTS'!F89","v":0},null,null,null,null,null,{"$f":"'PROPERTY MONUMENTS'!H89","v":0},null,null,null,null,null,null,null,null,"project in an effort to document and preserve their location in the event they are disturbed or destroyed during the"]
[null,null,{"$f":"'PROPERTY MONUMENTS'!B90","v":0},null,null,null,null,null,null,{"$f":"'PROPERTY MONUMENTS'!C90","v":0},null,null,null,null,{"$f":"'PROPERTY MONUMENTS'!D90","v":0},null,null,null,{"$f":"'PROPERTY MONUMENTS'!E90","v":0},null,null,null,null,{"$f":"'PROPERTY MONUMENTS'!F90","v":0},null,null,null,null,null,{"$f":"'PROPERTY MONUMENTS'!H90","v":0},null,null,null,null,null,null,null,null,"construction of the project."]

{"sheet":"SCDS 5B","index":16,"n_rows":87,"n_cols":137,"rows_kept":87,"cut":false,"hidden":false,"merged":[[82,38,82,83],[83,38,83,83],[84,38,84,83],[85,38,85,83],[86,38,86,83],[9,59,9,69],[10,59,10,69],[11,59,11,69],[12,59,12,69],[13,59,13,69],[14,59,14,69],[15,59,15,69],[63,55,63,58],[64,55,64,58],[65,55,65,58],[66,55,66,58],[67,55,67,58],[68,55,68,58],[56,55,56,58],[57,55,57,58],[58,55,58,58],[59,55,59,58],[60,55,60,58],[61,55,61,58],[50,55,50,58],[51,55,51,58],[11,55,11,58],[12,55,12,58],[13,55,13,58],[11,50,11,54],[12,50,12,54],[13,50,13,54],[11,43,11,49],[12,43,12,49],[13,43,13,49],[48,43,48,49],[49,43,49,49],[38,43,38,49],[39,43,39,49],[40,43,40,49],[41,43,41,49],[42,43,42,49],[43,43,43,49],[32,43,32,49],[33,43,33,49],[34,43,34,49],[35,43,35,49],[36,43,36,49],[37,43,37,49],[26,43,26,49],[5,55,6,58],[5,59,6,69],[5,70,6,75],[86,2,86,8],[86,9,86,13],[86,14,86,17],[86,18,86,22],[86,23,86,28],[86,29,86,36],[85,2,85,8],[85,9,85,13],[85,14,85,17],[85,18,85,22],[85,23,85,28],[85,29,85,36],[84,2,84,8],[84,9,84,13],[84,14,84,17],[84,18,84,22],[84,23,84,28],[84,29,84,36],[83,2,83,8],[83,9,83,13],[83,14,83,17],[83,18,83,22],[83,23,83,28],[83,29,83,36],[61,50,61,54],[62,50,62,54],[63,50,63,54],[64,50,64,54],[26,55,26,58],[81,23,81,28],[77,2,77,8],[77,9,77,13],[77,14,77,17],[77,18,77,22],[77,23,77,28],[77,29,77,36],[76,2,76,8],[76,9,76,13],[76,14,76,17],[76,18,76,22],[76,23,76,28],[76,29,76,36],[27,43,27,49],[28,43,28,49],[29,43,29,49],[30,43,30,49],[31,43,31,49],[79,38,79,83],[80,38,80,83],[81,38,81,83],[73,9,73,13],[73,14,73,17],[73,18,73,22],[73,23,73,28],[73,29,73,36],[70,2,70,8],[70,9,70,13],[70,14,70,17],[70,18,70,22],[70,23,70,28],[70,29,70,36],[78,84,78,120],[79,2,79,8],[79,9,79,13],[79,14,79,17],[79,18,79,22],[79,23,79,28],[79,29,79,36],[79,84,86,120],[80,2,80,8],[78,2,78,8],[78,9,78,13],[78,14,78,17],[78,18,78,22],[78,23,78,28],[78,29,78,36],[78,38,78,83],[81,29,81,36],[82,2,82,8],[82,9,82,13],[82,14,82,17],[82,18,82,22],[82,23,82,28],[82,29,82,36],[80,9,80,13],[80,14,80,17],[80,18,80,22],[80,23,80,28],[80,29,80,36],[81,2,81,8],[81,9,81,13],[81,14,81,17],[81,18,81,22],[74,84,74,120],[75,2,75,8],[75,9,75,13],[75,14,75,17],[75,18,75,22],[75,23,75,28],[75,29,75,36],[75,84,77,120],[74,2,74,8],[74,9,74,13],[74,14,74,17],[74,18,74,22],[74,23,74,28],[74,29,74,36],[74,38,74,83],[75,38,75,83],[76,38,76,83],[77,38,77,83],[71,84,73,102],[71,103,73,120],[72,2,72,8],[72,9,72,13],[72,14,72,17],[72,18,72,22],[72,23,72,28],[72,29,72,36],[73,2,73,8],[71,2,71,8],[71,9,71,13],[71,14,71,17],[71,18,71,22],[71,23,71,28],[71,29,71,36],[71,38,72,83],[73,38,73,83],[69,106,69,109],[69,110,69,114],[69,115,69,119],[69,120,69,123],[69,124,69,132],[69,90,69,93],[69,94,69,100],[69,59,69,69],[69,70,69,75],[69,76,69,83],[69,29,69,36],[69,43,69,49],[69,50,69,54],[69,55,69,58],[68,106,68,109],[68,110,68,114],[68,115,68,119],[68,120,68,123],[68,124,68,132],[69,2,69,8],[69,9,69,13],[69,14,69,17],[69,18,69,22],[69,23,69,28],[68,90,68,93],[68,94,68,100],[68,101,68,105],[68,70,68,75],[68,76,68,83],[68,59,68,69],[68,2,68,8],[68,9,68,13],[68,14,68,17],[68,18,68,22],[68,23,68,28],[68,29,68,36],[68,50,68,54],[68,43,68,49],[69,101,69,105],[66,29,66,36],[67,101,67,105],[67,106,67,109],[67,110,67,114],[67,115,67,119],[67,120,67,123],[67,124,67,132],[67,90,67,93],[67,94,67,100],[67,59,67,69],[67,70,67,75],[67,76,67,83],[67,29,67,36],[66,106,66,109],[66,110,66,114],[66,115,66,119],[66,120,66,123],[66,124,66,132],[67,50,67,54],[66,43,66,49],[67,43,67,49],[66,50,66,54],[65,106,65,109],[65,110,65,114],[65,115,65,119],[65,120,65,123],[65,124,65,132],[65,90,65,93],[65,94,65,100],[65,59,65,69],[65,70,65,75],[65,76,65,83],[65,29,65,36],[64,106,64,109],[64,110,64,114],[64,115,64,119],[64,120,64,123],[64,124,64,132],[67,2,67,8],[67,9,67,13],[67,14,67,17],[67,18,67,22],[67,23,67,28],[66,90,66,93],[66,94,66,100],[66,101,66,105],[66,70,66,75],[66,76,66,83],[66,59,66,69],[66,2,66,8],[66,9,66,13],[66,14,66,17],[66,18,66,22],[66,23,66,28],[65,2,65,8],[65,9,65,13],[65,14,65,17],[65,18,65,22],[65,23,65,28],[64,90,64,93],[64,94,64,100],[64,101,64,105],[64,70,64,75],[64,76,64,83],[64,59,64,69],[64,2,64,8],[64,9,64,13],[64,14,64,17],[64,18,64,22],[64,23,64,28],[64,29,64,36],[65,101,65,105],[64,43,64,49],[65,43,65,49],[65,50,65,54],[62,29,62,36],[63,101,63,105],[63,106,63,109],[63,110,63,114],[63,115,63,119],[63,120,63,123],[63,124,63,132],[63,90,63,93],[63,94,63,100],[63,59,63,69],[63,70,63,75],[63,76,63,83],[63,29,63,36],[62,106,62,109],[62,110,62,114],[62,115,62,119],[62,120,62,123],[62,124,62,132],[63,43,63,49],[61,115,61,119],[61,120,61,123],[61,124,61,132],[61,90,61,93],[61,94,61,100],[61,59,61,69],[61,70,61,75],[61,76,61,83],[61,29,61,36],[60,106,60,109],[60,110,60,114],[60,115,60,119],[60,120,60,123],[60,124,60,132],[63,2,63,8],[63,9,63,13],[63,14,63,17],[63,18,63,22],[63,23,63,28],[62,90,62,93],[62,94,62,100],[62,101,62,105],[62,70,62,75],[62,76,62,83],[62,43,62,49],[62,55,62,58],[62,59,62,69],[62,2,62,8],[62,9,62,13],[62,14,62,17],[62,18,62,22],[62,23,62,28],[60,2,60,8],[60,9,60,13],[60,14,60,17],[60,18,60,22],[60,23,60,28],[60,29,60,36],[59,90,59,93],[59,94,59,100],[59,101,59,105],[59,106,59,109],[59,76,59,83],[59,50,59,54],[59,59,59,69],[59,70,59,75],[61,101,61,105],[61,106,61,109],[61,110,61,114],[59,43,59,49],[60,43,60,49],[61,43,61,49],[58,124,58,132],[59,2,59,8],[59,9,59,13],[59,14,59,17],[59,18,59,22],[59,23,59,28],[59,29,59,36],[58,90,58,93],[58,94,58,100],[58,101,58,105],[58,106,58,109],[58,110,58,114],[58,76,58,83],[58,50,58,54],[58,59,58,69],[58,70,58,75],[61,2,61,8],[61,9,61,13],[61,14,61,17],[61,18,61,22],[61,23,61,28],[60,90,60,93],[60,94,60,100],[60,101,60,105],[60,70,60,75],[60,76,60,83],[60,50,60,54],[60,59,60,69],[59,110,59,114],[59,115,59,119],[59,120,59,123],[59,124,59,132],[58,2,58,8],[58,9,58,13],[58,14,58,17],[58,18,58,22],[58,23,58,28],[58,29,58,36],[57,90,57,93],[57,94,57,100],[57,101,57,105],[57,106,57,109],[57,110,57,114],[57,115,57,119],[57,59,57,69],[57,70,57,75],[57,76,57,83],[58,115,58,119],[58,120,58,123],[57,50,57,54],[57,43,57,49],[58,43,58,49],[56,2,56,8],[56,9,56,13],[56,14,56,17],[56,18,56,22],[56,124,56,132],[57,2,57,8],[57,9,57,13],[57,14,57,17],[57,18,57,22],[57,23,57,28],[57,29,57,36],[56,94,56,100],[56,101,56,105],[56,106,56,109],[56,110,56,114],[56,115,56,119],[56,120,56,123],[56,90,56,93],[56,59,56,69],[56,70,56,75],[56,76,56,83],[56,23,56,28],[56,29,56,36],[57,120,57,123],[57,124,57,132],[56,50,56,54],[56,43,56,49],[55,101,55,105],[55,106,55,109],[55,110,55,114],[55,115,55,119],[55,120,55,123],[55,124,55,132],[55,90,55,93],[55,94,55,100],[55,59,55,69],[55,70,55,75],[55,76,55,83],[55,29,55,36],[55,2,55,8],[55,9,55,13],[55,14,55,17],[55,18,55,22],[55,23,55,28],[55,43,55,49],[55,50,55,54],[55,55,55,58],[53,29,53,36],[54,101,54,105],[54,106,54,109],[54,110,54,114],[54,115,54,119],[54,120,54,123],[54,124,54,132],[54,90,54,93],[54,94,54,100],[54,59,54,69],[54,70,54,75],[54,76,54,83],[54,29,54,36],[53,106,53,109],[53,110,53,114],[53,115,53,119],[53,120,53,123],[53,124,53,132],[53,43,53,49],[54,43,54,49],[53,50,53,54],[54,50,54,54],[53,55,53,58],[54,55,54,58],[52,106,52,109],[52,110,52,114],[52,115,52,119],[52,120,52,123],[52,124,52,132],[52,90,52,93],[52,94,52,100],[52,59,52,69],[52,70,52,75],[52,76,52,83],[52,29,52,36],[51,106,51,109],[51,110,51,114],[51,115,51,119],[51,120,51,123],[51,124,51,132],[54,2,54,8],[54,9,54,13],[54,14,54,17],[54,18,54,22],[54,23,54,28],[53,90,53,93],[53,94,53,100],[53,101,53,105],[53,70,53,75],[53,76,53,83],[53,59,53,69],[53,2,53,8],[53,9,53,13],[53,14,53,17],[53,18,53,22],[53,23,53,28],[52,2,52,8],[52,9,52,13],[52,14,52,17],[52,18,52,22],[52,23,52,28],[51,90,51,93],[51,94,51,100],[51,101,51,105],[51,70,51,75],[51,76,51,83],[51,59,51,69],[51,2,51,8],[51,9,51,13],[51,14,51,17],[51,18,51,22],[51,23,51,28],[51,29,51,36],[52,101,52,105],[51,50,51,54],[51,43,51,49],[52,43,52,49],[52,50,52,54],[52,55,52,58],[49,29,49,36],[50,101,50,105],[50,106,50,109],[50,110,50,114],[50,115,50,119],[50,120,50,123],[50,124,50,132],[50,90,50,93],[50,94,50,100],[50,59,50,69],[50,70,50,75],[50,76,50,83],[50,29,50,36],[49,106,49,109],[49,110,49,114],[49,115,49,119],[49,120,49,123],[49,124,49,132],[49,50,49,54],[50,50,50,54],[50,43,50,49],[49,55,49,58],[48,106,48,109],[48,110,48,114],[48,115,48,119],[48,120,48,123],[48,124,48,132],[48,90,48,93],[48,94,48,100],[48,59,48,69],[48,70,48,75],[48,76,48,83],[48,29,48,36],[47,106,47,109],[47,110,47,114],[47,115,47,119],[47,120,47,123],[47,124,47,132],[50,2,50,8],[50,9,50,13],[50,14,50,17],[50,18,50,22],[50,23,50,28],[49,90,49,93],[49,94,49,100],[49,101,49,105],[49,70,49,75],[49,76,49,83],[49,59,49,69],[49,2,49,8],[49,9,49,13],[49,14,49,17],[49,18,49,22],[49,23,49,28],[48,2,48,8],[48,9,48,13],[48,14,48,17],[48,18,48,22],[48,23,48,28],[47,90,47,93],[47,94,47,100],[47,101,47,105],[47,70,47,75],[47,76,47,83],[47,59,47,69],[47,2,47,8],[47,9,47,13],[47,14,47,17],[47,18,47,22],[47,23,47,28],[47,29,47,36],[48,101,48,105],[47,50,47,54],[48,50,48,54],[47,43,47,49],[48,55,48,58],[47,55,47,58],[45,29,45,36],[46,101,46,105],[46,106,46,109],[46,110,46,114],[46,115,46,119],[46,120,46,123],[46,124,46,132],[46,90,46,93],[46,94,46,100],[46,59,46,69],[46,70,46,75],[46,76,46,83],[46,29,46,36],[45,106,45,109],[45,110,45,114],[45,115,45,119],[45,120,45,123],[45,124,45,132],[46,50,46,54],[45,50,45,54],[45,43,45,49],[46,43,46,49],[45,55,45,58],[46,55,46,58],[44,106,44,109],[44,110,44,114],[44,115,44,119],[44,120,44,123],[44,124,44,132],[44,90,44,93],[44,94,44,100],[44,59,44,69],[44,70,44,75],[44,76,44,83],[44,29,44,36],[43,106,43,109],[43,110,43,114],[43,115,43,119],[43,120,43,123],[43,124,43,132],[46,2,46,8],[46,9,46,13],[46,14,46,17],[46,18,46,22],[46,23,46,28],[45,90,45,93],[45,94,45,100],[45,101,45,105],[45,70,45,75],[45,76,45,83],[45,59,45,69],[45,2,45,8],[45,9,45,13],[45,14,45,17],[45,18,45,22],[45,23,45,28],[44,2,44,8],[44,9,44,13],[44,14,44,17],[44,18,44,22],[44,23,44,28],[43,90,43,93],[43,94,43,100],[43,101,43,105],[43,70,43,75],[43,76,43,83],[43,59,43,69],[43,2,43,8],[43,9,43,13],[43,14,43,17],[43,18,43,22],[43,23,43,28],[43,29,43,36],[44,101,44,105],[43,50,43,54],[44,50,44,54],[44,43,44,49],[43,55,43,58],[44,55,44,58],[41,29,41,36],[42,101,42,105],[42,106,42,109],[42,110,42,114],[42,115,42,119],[42,120,42,123],[42,124,42,132],[42,90,42,93],[42,94,42,100],[42,59,42,69],[42,70,42,75],[42,76,42,83],[42,29,42,36],[41,106,41,109],[41,110,41,114],[41,115,41,119],[41,120,41,123],[41,124,41,132],[41,50,41,54],[42,50,42,54],[41,55,41,58],[42,55,42,58],[40,106,40,109],[40,110,40,114],[40,115,40,119],[40,120,40,123],[40,124,40,132],[40,90,40,93],[40,94,40,100],[40,59,40,69],[40,70,40,75],[40,76,40,83],[40,29,40,36],[39,106,39,109],[39,110,39,114],[39,115,39,119],[39,120,39,123],[39,124,39,132],[42,2,42,8],[42,9,42,13],[42,14,42,17],[42,18,42,22],[42,23,42,28],[41,90,41,93],[41,94,41,100],[41,101,41,105],[41,70,41,75],[41,76,41,83],[41,59,41,69],[41,2,41,8],[41,9,41,13],[41,14,41,17],[41,18,41,22],[41,23,41,28],[40,2,40,8],[40,9,40,13],[40,14,40,17],[40,18,40,22],[40,23,40,28],[39,90,39,93],[39,94,39,100],[39,101,39,105],[39,70,39,75],[39,76,39,83],[39,59,39,69],[39,2,39,8],[39,9,39,13],[39,14,39,17],[39,18,39,22],[39,23,39,28],[39,29,39,36],[40,101,40,105],[40,50,40,54],[39,50,39,54],[39,55,39,58],[40,55,40,58],[37,29,37,36],[38,101,38,105],[38,106,38,109],[38,110,38,114],[38,115,38,119],[38,120,38,123],[38,124,38,132],[38,90,38,93],[38,94,38,100],[38,59,38,69],[38,70,38,75],[38,76,38,83],[38,29,38,36],[37,106,37,109],[37,110,37,114],[37,115,37,119],[37,120,37,123],[37,124,37,132],[37,50,37,54],[38,50,38,54],[38,55,38,58],[37,55,37,58],[36,106,36,109],[36,110,36,114],[36,115,36,119],[36,120,36,123],[36,124,36,132],[36,90,36,93],[36,94,36,100],[36,59,36,69],[36,70,36,75],[36,76,36,83],[36,29,36,36],[35,106,35,109],[35,110,35,114],[35,115,35,119],[35,120,35,123],[35,124,35,132],[38,2,38,8],[38,9,38,13],[38,14,38,17],[38,18,38,22],[38,23,38,28],[37,90,37,93],[37,94,37,100],[37,101,37,105],[37,70,37,75],[37,76,37,83],[37,59,37,69],[37,2,37,8],[37,9,37,13],[37,14,37,17],[37,18,37,22],[37,23,37,28],[36,2,36,8],[36,9,36,13],[36,14,36,17],[36,18,36,22],[36,23,36,28],[35,90,35,93],[35,94,35,100],[35,101,35,105],[35,70,35,75],[35,76,35,83],[35,59,35,69],[35,2,35,8],[35,9,35,13],[35,14,35,17],[35,18,35,22],[35,23,35,28],[35,29,35,36],[36,101,36,105],[35,50,35,54],[36,50,36,54],[35,55,35,58],[36,55,36,58],[33,29,33,36],[34,101,34,105],[34,106,34,109],[34,110,34,114],[34,115,34,119],[34,120,34,123],[34,124,34,132],[34,90,34,93],[34,94,34,100],[34,59,34,69],[34,70,34,75],[34,76,34,83],[34,29,34,36],[33,106,33,109],[33,110,33,114],[33,115,33,119],[33,120,33,123],[33,124,33,132],[33,50,33,54],[34,50,34,54],[33,55,33,58],[34,55,34,58],[32,106,32,109],[32,110,32,114],[32,115,32,119],[32,120,32,123],[32,124,32,132],[32,90,32,93],[32,94,32,100],[32,59,32,69],[32,70,32,75],[32,76,32,83],[32,29,32,36],[31,106,31,109],[31,110,31,114],[31,115,31,119],[31,120,31,123],[31,124,31,132],[34,2,34,8],[34,9,34,13],[34,14,34,17],[34,18,34,22],[34,23,34,28],[33,90,33,93],[33,94,33,100],[33,101,33,105],[33,70,33,75],[33,76,33,83],[33,59,33,69],[33,2,33,8],[33,9,33,13],[33,14,33,17],[33,18,33,22],[33,23,33,28],[32,2,32,8],[32,9,32,13],[32,14,32,17],[32,18,32,22],[32,23,32,28],[31,90,31,93],[31,94,31,100],[31,101,31,105],[31,70,31,75],[31,76,31,83],[31,59,31,69],[31,2,31,8],[31,9,31,13],[31,14,31,17],[31,18,31,22],[31,23,31,28],[31,29,31,36],[32,101,32,105],[31,50,31,54],[32,50,32,54],[31,55,31,58],[32,55,32,58],[29,29,29,36],[30,101,30,105],[30,106,30,109],[30,110,30,114],[30,115,30,119],[30,120,30,123],[30,124,30,132],[30,90,30,93],[30,94,30,100],[30,59,30,69],[30,70,30,75],[30,76,30,83],[30,29,30,36],[29,106,29,109],[29,110,29,114],[29,115,29,119],[29,120,29,123],[29,124,29,132],[29,55,29,58],[30,55,30,58],[29,50,29,54],[30,50,30,54],[28,106,28,109],[28,110,28,114],[28,115,28,119],[28,120,28,123],[28,124,28,132],[28,90,28,93],[28,94,28,100],[28,59,28,69],[28,70,28,75],[28,76,28,83],[28,29,28,36],[27,106,27,109],[27,110,27,114],[27,115,27,119],[27,120,27,123],[27,124,27,132],[30,2,30,8],[30,9,30,13],[30,14,30,17],[30,18,30,22],[30,23,30,28],[29,90,29,93],[29,94,29,100],[29,101,29,105],[29,70,29,75],[29,76,29,83],[29,59,29,69],[29,2,29,8],[29,9,29,13],[29,14,29,17],[29,18,29,22],[29,23,29,28],[28,2,28,8],[28,9,28,13],[28,14,28,17],[28,18,28,22],[28,23,28,28],[27,90,27,93],[27,94,27,100],[27,101,27,105],[27,70,27,75],[27,76,27,83],[27,59,27,69],[27,2,27,8],[27,9,27,13],[27,14,27,17],[27,18,27,22],[27,23,27,28],[27,29,27,36],[28,101,28,105]],"merged_total":1425,"flags":["merged_cut"]}
[null,null,null,null,null,null,null,null,null,null,null,null,null,null,null,null,null,null,null,null,null,null,null,null,null,null,null,null,null,null,null,null,null,null,null,null,null,null,null,null,null,null,null,null,null,null,null,null,null,null,null,null,null,null,null,null,null,null,null,null,null,null,null,null,null,null,null,null,null,null,null,null,null,null,null,null,null,null,null,null,null,null,null,null,null,null,null,null,null,null,null,null,null,null,null,null,null,null,null,null,null,null,null,null,null,null,null,null,null,null,"FED. RD.                               DIV. NO.",null,null,"STATE",null,null,"COUNTY",null,null,null,null,null,null,null,null,"PROJECT ID",null,null,null,"ROAD/ROUTE NO.",null,null,null,null,null,null,"SHEET NO."]
[null,null,null,null,null,null,null,null,null,null,null,null,null,null,null,null,null,null,null,null,null,null,null,null,null,null,null,null,null,null,null,null,null,null,null,null,null,null,null,null,null,null,null,null,null,null,null,null,null,null,null,null,null,null,null,null,null,null,null,null,null,null,null,null,null,null,null,null,null,null,null,null,null,null,null,null,null,null,null,null,null,null,null,null,null,null,null,null,null,null,null,null,null,null,null,null,null,null,null,null,null,null,null,null,null,null,null,null,null,null,3,null,null,"SC",null,null,{"$f":"SUMMARY!C8","v":0},null,null,null,null,null,null,null,null,{"$f":"SUMMARY!C6","v":0},null,null,null,{"$f":"SUMMARY!C5","v":0},null,null,null,null,null,null,"5B"]
[]
[null,null,"PROPERTY MONUMENTS FOUND",null,null,null,null,null,null,null,null,null,null,null,null,null,null,null,null,null,null,null,null,null,null,null,null,null,null,null,null,null,null,null,null,null,null,null,null,null,null,null,null,"PROPERTY MONUMENTS FOUND",null,null,null,null,null,null,null,null,null,null,null,null,null,null,null,null,null,null,null,null,null,null,null,null,null,null,null,null,null,null,null,null,null,null,null,null,null,null,null,null,null,null,null,null,null,null,"SURVEY CONTROL POINTS"]
[]
[null,null,"ALIGNMENT",null,null,null,null,null,null,"STATION",null,null,null,null,"OFFSET",null,null,null,"NORTHING",null,null,null,null,"EASTING",null,null,null,null,null,"DESCRIPTION",null,null,null,null,null,null,null,null,null,null,null,null,null,"ALIGNMENT",null,null,null,null,null,null,"STATION",null,null,null,null,"OFFSET",null,null,null,"NORTHING",null,null,null,null,null,null,null,null,null,null,"EASTING",null,null,null,null,null,"DESCRIPTION",null,null,null,null,null,null,null,null,null,null,null,null,null,"POINT ID",null,null,null,"ALIGNMENT",null,null,null,null,null,null,"STATION",null,null,null,null,"OFFSET",null,null,null,"NORTHING",null,null,null,null,"EASTING",null,null,null,null,"ELEV.",null,null,null,"DESCRIPTION"]
[]
[null,null,{"$f":"'PROPERTY MONUMENTS'!B91","v":0},null,null,null,null,null,null,{"$f":"'PROPERTY MONUMENTS'!C91","v":0},null,null,null,null,{"$f":"'PROPERTY MONUMENTS'!D91","v":0},null,null,null,{"$f":"'PROPERTY MONUMENTS'!E91","v":0},null,null,null,null,{"$f":"'PROPERTY MONUMENTS'!F91","v":0},null,null,null,null,null,{"$f":"'PROPERTY MONUMENTS'!H91","v":0},null,null,null,null,null,null,null,null,null,null,null,null,null,{"$f":"'PROPERTY MONUMENTS'!B171","v":0},null,null,null,null,null,null,{"$f":"'PROPERTY MONUMENTS'!C171","v":0},null,null,null,null,{"$f":"'PROPERTY MONUMENTS'!D171","v":0},null,null,null,{"$f":"'PROPERTY MONUMENTS'!E171","v":0},null,null,null,null,null,null,null,null,null,null,{"$f":"'PROPERTY MONUMENTS'!F171","v":0},null,null,null,null,null,{"$f":"'PROPERTY MONUMENTS'!H171","v":0},null,null,null,null,null,null,null,null,null,null,null,null,null,{"$f":"CONTROL!A74","v":0},null,null,null,{"$f":"CONTROL!B74","v":0},null,null,null,null,null,null,{"$f":"CONTROL!C74","v":0},null,null,null,null,{"$f":"CONTROL!D74","v":0},null,null,null,{"$f":"CONTROL!E74","v":0},null,null,null,null,{"$f":"CONTROL!F74","v":0},null,null,null,null,{"$f":"CONTROL!G74","v":0},null,null,null,{"$f":"CONTROL!H74","v":0}]
[null,null,{"$f":"'PROPERTY MONUMENTS'!B92","v":0},null,null,null,null,null,null,{"$f":"'PROPERTY MONUMENTS'!C92","v":0},null,null,null,null,{"$f":"'PROPERTY MONUMENTS'!D92","v":0},null,null,null,{"$f":"'PROPERTY MONUMENTS'!E92","v":0},null,null,null,null,{"$f":"'PROPERTY MONUMENTS'!F92","v":0},null,null,null,null,null,{"$f":"'PROPERTY MONUMENTS'!H92","v":0},null,null,null,null,null,null,null,null,null,null,null,null,null,{"$f":"'PROPERTY MONUMENTS'!B172","v":0},null,null,null,null,null,null,{"$f":"'PROPERTY MONUMENTS'!C172","v":0},null,null,null,null,{"$f":"'PROPERTY MONUMENTS'!D172","v":0},null,null,null,{"$f":"'PROPERTY MONUMENTS'!E172","v":0},null,null,null,null,null,null,null,null,null,null,{"$f":"'PROPERTY MONUMENTS'!F172","v":0},null,null,null,null,null,{"$f":"'PROPERTY MONUMENTS'!H172","v":0},null,null,null,null,null,null,null,null,null,null,null,null,null,{"$f":"CONTROL!A75","v":0},null,null,null,{"$f":"CONTROL!B75","v":0},null,null,null,null,null,null,{"$f":"CONTROL!C75","v":0},null,null,null,null,{"$f":"CONTROL!D75","v":0},null,null,null,{"$f":"CONTROL!E75","v":0},null,null,null,null,{"$f":"CONTROL!F75","v":0},null,null,null,null,{"$f":"CONTROL!G75","v":0},null,null,null,{"$f":"CONTROL!H75","v":0}]
[null,null,{"$f":"'PROPERTY MONUMENTS'!B93","v":0},null,null,null,null,null,null,{"$f":"'PROPERTY MONUMENTS'!C93","v":0},null,null,null,null,{"$f":"'PROPERTY MONUMENTS'!D93","v":0},null,null,null,{"$f":"'PROPERTY MONUMENTS'!E93","v":0},null,null,null,null,{"$f":"'PROPERTY MONUMENTS'!F93","v":0},null,null,null,null,null,{"$f":"'PROPERTY MONUMENTS'!H93","v":0},null,null,null,null,null,null,null,null,null,null,null,null,null,{"$f":"'PROPERTY MONUMENTS'!B173","v":0},null,null,null,null,null,null,{"$f":"'PROPERTY MONUMENTS'!C173","v":0},null,null,null,null,{"$f":"'PROPERTY MONUMENTS'!D173","v":0},null,null,null,{"$f":"'PROPERTY MONUMENTS'!E173","v":0},null,null,null,null,null,null,null,null,null,null,{"$f":"'PROPERTY MONUMENTS'!F173","v":0},null,null,null,null,null,{"$f":"'PROPERTY MONUMENTS'!H173","v":0},null,null,null,null,null,null,null,null,null,null,null,null,null,{"$f":"CONTROL!A76","v":0},null,null,null,{"$f":"CONTROL!B76","v":0},null,null,null,null,null,null,{"$f":"CONTROL!C76","v":0},null,null,null,null,{"$f":"CONTROL!D76","v":0},null,null,null,{"$f":"CONTROL!E76","v":0},null,null,null,null,{"$f":"CONTROL!F76","v":0},null,null,null,null,{"$f":"CONTROL!G76","v":0},null,null,null,{"$f":"CONTROL!H76","v":0}]
[null,null,{"$f":"'PROPERTY MONUMENTS'!B94","v":0},null,null,null,null,null,null,{"$f":"'PROPERTY MONUMENTS'!C94","v":0},null,null,null,null,{"$f":"'PROPERTY MONUMENTS'!D94","v":0},null,null,null,{"$f":"'PROPERTY MONUMENTS'!E94","v":0},null,null,null,null,{"$f":"'PROPERTY MONUMENTS'!F94","v":0},null,null,null,null,null,{"$f":"'PROPERTY MONUMENTS'!H94","v":0},null,null,null,null,null,null,null,null,null,null,null,null,null,{"$f":"'PROPERTY MONUMENTS'!B174","v":0},null,null,null,null,null,null,{"$f":"'PROPERTY MONUMENTS'!C174","v":0},null,null,null,null,{"$f":"'PROPERTY MONUMENTS'!D174","v":0},null,null,null,{"$f":"'PROPERTY MONUMENTS'!E174","v":0},null,null,null,null,null,null,null,null,null,null,{"$f":"'PROPERTY MONUMENTS'!F174","v":0},null,null,null,null,null,{"$f":"'PROPERTY MONUMENTS'!H174","v":0},null,null,null,null,null,null,null,null,null,null,null,null,null,{"$f":"CONTROL!A77","v":0},null,null,null,{"$f":"CONTROL!B77","v":0},null,null,null,null,null,null,{"$f":"CONTROL!C77","v":0},null,null,null,null,{"$f":"CONTROL!D77","v":0},null,null,null,{"$f":"CONTROL!E77","v":0},null,null,null,null,{"$f":"CONTROL!F77","v":0},null,null,null,null,{"$f":"CONTROL!G77","v":0},null,null,null,{"$f":"CONTROL!H77","v":0}]
[null,null,{"$f":"'PROPERTY MONUMENTS'!B95","v":0},null,null,null,null,null,null,{"$f":"'PROPERTY MONUMENTS'!C95","v":0},null,null,null,null,{"$f":"'PROPERTY MONUMENTS'!D95","v":0},null,null,null,{"$f":"'PROPERTY MONUMENTS'!E95","v":0},null,null,null,null,{"$f":"'PROPERTY MONUMENTS'!F95","v":0},null,null,null,null,null,{"$f":"'PROPERTY MONUMENTS'!H95","v":0},null,null,null,null,null,null,null,null,null,null,null,null,null,{"$f":"'PROPERTY MONUMENTS'!B175","v":0},null,null,null,null,null,null,{"$f":"'PROPERTY MONUMENTS'!C175","v":0},null,null,null,null,{"$f":"'PROPERTY MONUMENTS'!D175","v":0},null,null,null,{"$f":"'PROPERTY MONUMENTS'!E175","v":0},null,null,null,null,null,null,null,null,null,null,{"$f":"'PROPERTY MONUMENTS'!F175","v":0},null,null,null,null,null,{"$f":"'PROPERTY MONUMENTS'!H175","v":0},null,null,null,null,null,null,null,null,null,null,null,null,null,{"$f":"CONTROL!A78","v":0},null,null,null,{"$f":"CONTROL!B78","v":0},null,null,null,null,null,null,{"$f":"CONTROL!C78","v":0},null,null,null,null,{"$f":"CONTROL!D78","v":0},null,null,null,{"$f":"CONTROL!E78","v":0},null,null,null,null,{"$f":"CONTROL!F78","v":0},null,null,null,null,{"$f":"CONTROL!G78","v":0},null,null,null,{"$f":"CONTROL!H78","v":0}]
[null,null,{"$f":"'PROPERTY MONUMENTS'!B96","v":0},null,null,null,null,null,null,{"$f":"'PROPERTY MONUMENTS'!C96","v":0},null,null,null,null,{"$f":"'PROPERTY MONUMENTS'!D96","v":0},null,null,null,{"$f":"'PROPERTY MONUMENTS'!E96","v":0},null,null,null,null,{"$f":"'PROPERTY MONUMENTS'!F96","v":0},null,null,null,null,null,{"$f":"'PROPERTY MONUMENTS'!H96","v":0},null,null,null,null,null,null,null,null,null,null,null,null,null,{"$f":"'PROPERTY MONUMENTS'!B176","v":0},null,null,null,null,null,null,{"$f":"'PROPERTY MONUMENTS'!C176","v":0},null,null,null,null,{"$f":"'PROPERTY MONUMENTS'!D176","v":0},null,null,null,{"$f":"'PROPERTY MONUMENTS'!E176","v":0},null,null,null,null,null,null,null,null,null,null,{"$f":"'PROPERTY MONUMENTS'!F176","v":0},null,null,null,null,null,{"$f":"'PROPERTY MONUMENTS'!H176","v":0},null,null,null,null,null,null,null,null,null,null,null,null,null,{"$f":"CONTROL!A79","v":0},null,null,null,{"$f":"CONTROL!B79","v":0},null,null,null,null,null,null,{"$f":"CONTROL!C79","v":0},null,null,null,null,{"$f":"CONTROL!D79","v":0},null,null,null,{"$f":"CONTROL!E79","v":0},null,null,null,null,{"$f":"CONTROL!F79","v":0},null,null,null,null,{"$f":"CONTROL!G79","v":0},null,null,null,{"$f":"CONTROL!H79","v":0}]
[null,null,{"$f":"'PROPERTY MONUMENTS'!B97","v":0},null,null,null,null,null,null,{"$f":"'PROPERTY MONUMENTS'!C97","v":0},null,null,null,null,{"$f":"'PROPERTY MONUMENTS'!D97","v":0},null,null,null,{"$f":"'PROPERTY MONUMENTS'!E97","v":0},null,null,null,null,{"$f":"'PROPERTY MONUMENTS'!F97","v":0},null,null,null,null,null,{"$f":"'PROPERTY MONUMENTS'!H97","v":0},null,null,null,null,null,null,null,null,null,null,null,null,null,{"$f":"'PROPERTY MONUMENTS'!B177","v":0},null,null,null,null,null,null,{"$f":"'PROPERTY MONUMENTS'!C177","v":0},null,null,null,null,{"$f":"'PROPERTY MONUMENTS'!D177","v":0},null,null,null,{"$f":"'PROPERTY MONUMENTS'!E177","v":0},null,null,null,null,null,null,null,null,null,null,{"$f":"'PROPERTY MONUMENTS'!F177","v":0},null,null,null,null,null,{"$f":"'PROPERTY MONUMENTS'!H177","v":0},null,null,null,null,null,null,null,null,null,null,null,null,null,{"$f":"CONTROL!A80","v":0},null,null,null,{"$f":"CONTROL!B80","v":0},null,null,null,null,null,null,{"$f":"CONTROL!C80","v":0},null,null,null,null,{"$f":"CONTROL!D80","v":0},null,null,null,{"$f":"CONTROL!E80","v":0},null,null,null,null,{"$f":"CONTROL!F80","v":0},null,null,null,null,{"$f":"CONTROL!G80","v":0},null,null,null,{"$f":"CONTROL!H80","v":0}]
[null,null,{"$f":"'PROPERTY MONUMENTS'!B98","v":0},null,null,null,null,null,null,{"$f":"'PROPERTY MONUMENTS'!C98","v":0},null,null,null,null,{"$f":"'PROPERTY MONUMENTS'!D98","v":0},null,null,null,{"$f":"'PROPERTY MONUMENTS'!E98","v":0},null,null,null,null,{"$f":"'PROPERTY MONUMENTS'!F98","v":0},null,null,null,null,null,{"$f":"'PROPERTY MONUMENTS'!H98","v":0},null,null,null,null,null,null,null,null,null,null,null,null,null,{"$f":"'PROPERTY MONUMENTS'!B178","v":0},null,null,null,null,null,null,{"$f":"'PROPERTY MONUMENTS'!C178","v":0},null,null,null,null,{"$f":"'PROPERTY MONUMENTS'!D178","v":0},null,null,null,{"$f":"'PROPERTY MONUMENTS'!E178","v":0},null,null,null,null,null,null,null,null,null,null,{"$f":"'PROPERTY MONUMENTS'!F178","v":0},null,null,null,null,null,{"$f":"'PROPERTY MONUMENTS'!H178","v":0},null,null,null,null,null,null,null,null,null,null,null,null,null,{"$f":"CONTROL!A81","v":0},null,null,null,{"$f":"CONTROL!B81","v":0},null,null,null,null,null,null,{"$f":"CONTROL!C81","v":0},null,null,null,null,{"$f":"CONTROL!D81","v":0},null,null,null,{"$f":"CONTROL!E81","v":0},null,null,null,null,{"$f":"CONTROL!F81","v":0},null,null,null,null,{"$f":"CONTROL!G81","v":0},null,null,null,{"$f":"CONTROL!H81","v":0}]
[null,null,{"$f":"'PROPERTY MONUMENTS'!B99","v":0},null,null,null,null,null,null,{"$f":"'PROPERTY MONUMENTS'!C99","v":0},null,null,null,null,{"$f":"'PROPERTY MONUMENTS'!D99","v":0},null,null,null,{"$f":"'PROPERTY MONUMENTS'!E99","v":0},null,null,null,null,{"$f":"'PROPERTY MONUMENTS'!F99","v":0},null,null,null,null,null,{"$f":"'PROPERTY MONUMENTS'!H99","v":0},null,null,null,null,null,null,null,null,null,null,null,null,null,{"$f":"'PROPERTY MONUMENTS'!B179","v":0},null,null,null,null,null,null,{"$f":"'PROPERTY MONUMENTS'!C179","v":0},null,null,null,null,{"$f":"'PROPERTY MONUMENTS'!D179","v":0},null,null,null,{"$f":"'PROPERTY MONUMENTS'!E179","v":0},null,null,null,null,null,null,null,null,null,null,{"$f":"'PROPERTY MONUMENTS'!F179","v":0},null,null,null,null,null,{"$f":"'PROPERTY MONUMENTS'!H179","v":0},null,null,null,null,null,null,null,null,null,null,null,null,null,{"$f":"CONTROL!A82","v":0},null,null,null,{"$f":"CONTROL!B82","v":0},null,null,null,null,null,null,{"$f":"CONTROL!C82","v":0},null,null,null,null,{"$f":"CONTROL!D82","v":0},null,null,null,{"$f":"CONTROL!E82","v":0},null,null,null,null,{"$f":"CONTROL!F82","v":0},null,null,null,null,{"$f":"CONTROL!G82","v":0},null,null,null,{"$f":"CONTROL!H82","v":0}]
[null,null,{"$f":"'PROPERTY MONUMENTS'!B100","v":0},null,null,null,null,null,null,{"$f":"'PROPERTY MONUMENTS'!C100","v":0},null,null,null,null,{"$f":"'PROPERTY MONUMENTS'!D100","v":0},null,null,null,{"$f":"'PROPERTY MONUMENTS'!E100","v":0},null,null,null,null,{"$f":"'PROPERTY MONUMENTS'!F100","v":0},null,null,null,null,null,{"$f":"'PROPERTY MONUMENTS'!H100","v":0},null,null,null,null,null,null,null,null,null,null,null,null,null,{"$f":"'PROPERTY MONUMENTS'!B180","v":0},null,null,null,null,null,null,{"$f":"'PROPERTY MONUMENTS'!C180","v":0},null,null,null,null,{"$f":"'PROPERTY MONUMENTS'!D180","v":0},null,null,null,{"$f":"'PROPERTY MONUMENTS'!E180","v":0},null,null,null,null,null,null,null,null,null,null,{"$f":"'PROPERTY MONUMENTS'!F180","v":0},null,null,null,null,null,{"$f":"'PROPERTY MONUMENTS'!H180","v":0},null,null,null,null,null,null,null,null,null,null,null,null,null,{"$f":"CONTROL!A83","v":0},null,null,null,{"$f":"CONTROL!B83","v":0},null,null,null,null,null,null,{"$f":"CONTROL!C83","v":0},null,null,null,null,{"$f":"CONTROL!D83","v":0},null,null,null,{"$f":"CONTROL!E83","v":0},null,null,null,null,{"$f":"CONTROL!F83","v":0},null,null,null,null,{"$f":"CONTROL!G83","v":0},null,null,null,{"$f":"CONTROL!H83","v":0}]
[null,null,{"$f":"'PROPERTY MONUMENTS'!B101","v":0},null,null,null,null,null,null,{"$f":"'PROPERTY MONUMENTS'!C101","v":0},null,null,null,null,{"$f":"'PROPERTY MONUMENTS'!D101","v":0},null,null,null,{"$f":"'PROPERTY MONUMENTS'!E101","v":0},null,null,null,null,{"$f":"'PROPERTY MONUMENTS'!F101","v":0},null,null,null,null,null,{"$f":"'PROPERTY MONUMENTS'!H101","v":0},null,null,null,null,null,null,null,null,null,null,null,null,null,{"$f":"'PROPERTY MONUMENTS'!B181","v":0},null,null,null,null,null,null,{"$f":"'PROPERTY MONUMENTS'!C181","v":0},null,null,null,null,{"$f":"'PROPERTY MONUMENTS'!D181","v":0},null,null,null,{"$f":"'PROPERTY MONUMENTS'!E181","v":0},null,null,null,null,null,null,null,null,null,null,{"$f":"'PROPERTY MONUMENTS'!F181","v":0},null,null,null,null,null,{"$f":"'PROPERTY MONUMENTS'!H181","v":0},null,null,null,null,null,null,null,null,null,null,null,null,null,{"$f":"CONTROL!A84","v":0},null,null,null,{"$f":"CONTROL!B84","v":0},null,null,null,null,null,null,{"$f":"CONTROL!C84","v":0},null,null,null,null,{"$f":"CONTROL!D84","v":0},null,null,null,{"$f":"CONTROL!E84","v":0},null,null,null,null,{"$f":"CONTROL!F84","v":0},null,null,null,null,{"$f":"CONTROL!G84","v":0},null,null,null,{"$f":"CONTROL!H84","v":0}]
[null,null,{"$f":"'PROPERTY MONUMENTS'!B102","v":0},null,null,null,null,null,null,{"$f":"'PROPERTY MONUMENTS'!C102","v":0},null,null,null,null,{"$f":"'PROPERTY MONUMENTS'!D102","v":0},null,null,null,{"$f":"'PROPERTY MONUMENTS'!E102","v":0},null,null,null,null,{"$f":"'PROPERTY MONUMENTS'!F102","v":0},null,null,null,null,null,{"$f":"'PROPERTY MONUMENTS'!H102","v":0},null,null,null,null,null,null,null,null,null,null,null,null,null,{"$f":"'PROPERTY MONUMENTS'!B182","v":0},null,null,null,null,null,null,{"$f":"'PROPERTY MONUMENTS'!C182","v":0},null,null,null,null,{"$f":"'PROPERTY MONUMENTS'!D182","v":0},null,null,null,{"$f":"'PROPERTY MONUMENTS'!E182","v":0},null,null,null,null,null,null,null,null,null,null,{"$f":"'PROPERTY MONUMENTS'!F182","v":0},null,null,null,null,null,{"$f":"'PROPERTY MONUMENTS'!H182","v":0},null,null,null,null,null,null,null,null,null,null,null,null,null,{"$f":"CONTROL!A85","v":0},null,null,null,{"$f":"CONTROL!B85","v":0},null,null,null,null,null,null,{"$f":"CONTROL!C85","v":0},null,null,null,null,{"$f":"CONTROL!D85","v":0},null,null,null,{"$f":"CONTROL!E85","v":0},null,null,null,null,{"$f":"CONTROL!F85","v":0},null,null,null,null,{"$f":"CONTROL!G85","v":0},null,null,null,{"$f":"CONTROL!H85","v":0}]
[null,null,{"$f":"'PROPERTY MONUMENTS'!B103","v":0},null,null,null,null,null,null,{"$f":"'PROPERTY MONUMENTS'!C103","v":0},null,null,null,null,{"$f":"'PROPERTY MONUMENTS'!D103","v":0},null,null,null,{"$f":"'PROPERTY MONUMENTS'!E103","v":0},null,null,null,null,{"$f":"'PROPERTY MONUMENTS'!F103","v":0},null,null,null,null,null,{"$f":"'PROPERTY MONUMENTS'!H103","v":0},null,null,null,null,null,null,null,null,null,null,null,null,null,{"$f":"'PROPERTY MONUMENTS'!B183","v":0},null,null,null,null,null,null,{"$f":"'PROPERTY MONUMENTS'!C183","v":0},null,null,null,null,{"$f":"'PROPERTY MONUMENTS'!D183","v":0},null,null,null,{"$f":"'PROPERTY MONUMENTS'!E183","v":0},null,null,null,null,null,null,null,null,null,null,{"$f":"'PROPERTY MONUMENTS'!F183","v":0},null,null,null,null,null,{"$f":"'PROPERTY MONUMENTS'!H183","v":0},null,null,null,null,null,null,null,null,null,null,null,null,null,{"$f":"CONTROL!A86","v":0},null,null,null,{"$f":"CONTROL!B86","v":0},null,null,null,null,null,null,{"$f":"CONTROL!C86","v":0},null,null,null,null,{"$f":"CONTROL!D86","v":0},null,null,null,{"$f":"CONTROL!E86","v":0},null,null,null,null,{"$f":"CONTROL!F86","v":0},null,null,null,null,{"$f":"CONTROL!G86","v":0},null,null,null,{"$f":"CONTROL!H86","v":0}]
[null,null,{"$f":"'PROPERTY MONUMENTS'!B104","v":0},null,null,null,null,null,null,{"$f":"'PROPERTY MONUMENTS'!C104","v":0},null,null,null,null,{"$f":"'PROPERTY MONUMENTS'!D104","v":0},null,null,null,{"$f":"'PROPERTY MONUMENTS'!E104","v":0},null,null,null,null,{"$f":"'PROPERTY MONUMENTS'!F104","v":0},null,null,null,null,null,{"$f":"'PROPERTY MONUMENTS'!H104","v":0},null,null,null,null,null,null,null,null,null,null,null,null,null,{"$f":"'PROPERTY MONUMENTS'!B184","v":0},null,null,null,null,null,null,{"$f":"'PROPERTY MONUMENTS'!C184","v":0},null,null,null,null,{"$f":"'PROPERTY MONUMENTS'!D184","v":0},null,null,null,{"$f":"'PROPERTY MONUMENTS'!E184","v":0},null,null,null,null,null,null,null,null,null,null,{"$f":"'PROPERTY MONUMENTS'!F184","v":0},null,null,null,null,null,{"$f":"'PROPERTY MONUMENTS'!H184","v":0},null,null,null,null,null,null,null,null,null,null,null,null,null,{"$f":"CONTROL!A87","v":0},null,null,null,{"$f":"CONTROL!B87","v":0},null,null,null,null,null,null,{"$f":"CONTROL!C87","v":0},null,null,null,null,{"$f":"CONTROL!D87","v":0},null,null,null,{"$f":"CONTROL!E87","v":0},null,null,null,null,{"$f":"CONTROL!F87","v":0},null,null,null,null,{"$f":"CONTROL!G87","v":0},null,null,null,{"$f":"CONTROL!H87","v":0}]
[null,null,{"$f":"'PROPERTY MONUMENTS'!B105","v":0},null,null,null,null,null,null,{"$f":"'PROPERTY MONUMENTS'!C105","v":0},null,null,null,null,{"$f":"'PROPERTY MONUMENTS'!D105","v":0},null,null,null,{"$f":"'PROPERTY MONUMENTS'!E105","v":0},null,null,null,null,{"$f":"'PROPERTY MONUMENTS'!F105","v":0},null,null,null,null,null,{"$f":"'PROPERTY MONUMENTS'!H105","v":0},null,null,null,null,null,null,null,null,null,null,null,null,null,{"$f":"'PROPERTY MONUMENTS'!B185","v":0},null,null,null,null,null,null,{"$f":"'PROPERTY MONUMENTS'!C185","v":0},null,null,null,null,{"$f":"'PROPERTY MONUMENTS'!D185","v":0},null,null,null,{"$f":"'PROPERTY MONUMENTS'!E185","v":0},null,null,null,null,null,null,null,null,null,null,{"$f":"'PROPERTY MONUMENTS'!F185","v":0},null,null,null,null,null,{"$f":"'PROPERTY MONUMENTS'!H185","v":0},null,null,null,null,null,null,null,null,null,null,null,null,null,{"$f":"CONTROL!A88","v":0},null,null,null,{"$f":"CONTROL!B88","v":0},null,null,null,null,null,null,{"$f":"CONTROL!C88","v":0},null,null,null,null,{"$f":"CONTROL!D88","v":0},null,null,null,{"$f":"CONTROL!E88","v":0},null,null,null,null,{"$f":"CONTROL!F88","v":0},null,null,null,null,{"$f":"CONTROL!G88","v":0},null,null,null,{"$f":"CONTROL!H88","v":0}]
[null,null,{"$f":"'PROPERTY MONUMENTS'!B106","v":0},null,null,null,null,null,null,{"$f":"'PROPERTY MONUMENTS'!C106","v":0},null,null,null,null,{"$f":"'PROPERTY MONUMENTS'!D106","v":0},null,null,null,{"$f":"'PROPERTY MONUMENTS'!E106","v":0},null,null,null,null,{"$f":"'PROPERTY MONUMENTS'!F106","v":0},null,null,null,null,null,{"$f":"'PROPERTY MONUMENTS'!H106","v":0},null,null,null,null,null,null,null,null,null,null,null,null,null,{"$f":"'PROPERTY MONUMENTS'!B186","v":0},null,null,null,null,null,null,{"$f":"'PROPERTY MONUMENTS'!C186","v":0},null,null,null,null,{"$f":"'PROPERTY MONUMENTS'!D186","v":0},null,null,null,{"$f":"'PROPERTY MONUMENTS'!E186","v":0},null,null,null,null,null,null,null,null,null,null,{"$f":"'PROPERTY MONUMENTS'!F186","v":0},null,null,null,null,null,{"$f":"'PROPERTY MONUMENTS'!H186","v":0},null,null,null,null,null,null,null,null,null,null,null,null,null,{"$f":"CONTROL!A89","v":0},null,null,null,{"$f":"CONTROL!B89","v":0},null,null,null,null,null,null,{"$f":"CONTROL!C89","v":0},null,null,null,null,{"$f":"CONTROL!D89","v":0},null,null,null,{"$f":"CONTROL!E89","v":0},null,null,null,null,{"$f":"CONTROL!F89","v":0},null,null,null,null,{"$f":"CONTROL!G89","v":0},null,null,null,{"$f":"CONTROL!H89","v":0}]
[null,null,{"$f":"'PROPERTY MONUMENTS'!B107","v":0},null,null,null,null,null,null,{"$f":"'PROPERTY MONUMENTS'!C107","v":0},null,null,null,null,{"$f":"'PROPERTY MONUMENTS'!D107","v":0},null,null,null,{"$f":"'PROPERTY MONUMENTS'!E107","v":0},null,null,null,null,{"$f":"'PROPERTY MONUMENTS'!F107","v":0},null,null,null,null,null,{"$f":"'PROPERTY MONUMENTS'!H107","v":0},null,null,null,null,null,null,null,null,null,null,null,null,null,{"$f":"'PROPERTY MONUMENTS'!B187","v":0},null,null,null,null,null,null,{"$f":"'PROPERTY MONUMENTS'!C187","v":0},null,null,null,null,{"$f":"'PROPERTY MONUMENTS'!D187","v":0},null,null,null,{"$f":"'PROPERTY MONUMENTS'!E187","v":0},null,null,null,null,null,null,null,null,null,null,{"$f":"'PROPERTY MONUMENTS'!F187","v":0},null,null,null,null,null,{"$f":"'PROPERTY MONUMENTS'!H187","v":0},null,null,null,null,null,null,null,null,null,null,null,null,null,{"$f":"CONTROL!A90","v":0},null,null,null,{"$f":"CONTROL!B90","v":0},null,null,null,null,null,null,{"$f":"CONTROL!C90","v":0},null,null,null,null,{"$f":"CONTROL!D90","v":0},null,null,null,{"$f":"CONTROL!E90","v":0},null,null,null,null,{"$f":"CONTROL!F90","v":0},null,null,null,null,{"$f":"CONTROL!G90","v":0},null,null,null,{"$f":"CONTROL!H90","v":0}]
[{"$f":"CELL(\"filename\")","v":"C:\\Users\\dawsonmh\\Desktop\\[Survey_Project_Report_ver21.0.xlsm]SUMMARY"},null,{"$f":"'PROPERTY MONUMENTS'!B108","v":0},null,null,null,null,null,null,{"$f":"'PROPERTY MONUMENTS'!C108","v":0},null,null,null,null,{"$f":"'PROPERTY MONUMENTS'!D108","v":0},null,null,null,{"$f":"'PROPERTY MONUMENTS'!E108","v":0},null,null,null,null,{"$f":"'PROPERTY MONUMENTS'!F108","v":0},null,null,null,null,null,{"$f":"'PROPERTY MONUMENTS'!H108","v":0},null,null,null,null,null,null,null,null,null,null,null,null,null,{"$f":"'PROPERTY MONUMENTS'!B188","v":0},null,null,null,null,null,null,{"$f":"'PROPERTY MONUMENTS'!C188","v":0},null,null,null,null,{"$f":"'PROPERTY MONUMENTS'!D188","v":0},null,null,null,{"$f":"'PROPERTY MONUMENTS'!E188","v":0},null,null,null,null,null,null,null,null,null,null,{"$f":"'PROPERTY MONUMENTS'!F188","v":0},null,null,null,null,null,{"$f":"'PROPERTY MONUMENTS'!H188","v":0},null,null,null,null,null,null,null,null,null,null,null,null,null,{"$f":"CONTROL!A91","v":0},null,null,null,{"$f":"CONTROL!B91","v":0},null,null,null,null,null,null,{"$f":"CONTROL!C91","v":0},null,null,null,null,{"$f":"CONTROL!D91","v":0},null,null,null,{"$f":"CONTROL!E91","v":0},null,null,null,null,{"$f":"CONTROL!F91","v":0},null,null,null,null,{"$f":"CONTROL!G91","v":0},null,null,null,{"$f":"CONTROL!H91","v":0}]
[null,null,{"$f":"'PROPERTY MONUMENTS'!B109","v":0},null,null,null,null,null,null,{"$f":"'PROPERTY MONUMENTS'!C109","v":0},null,null,null,null,{"$f":"'PROPERTY MONUMENTS'!D109","v":0},null,null,null,{"$f":"'PROPERTY MONUMENTS'!E109","v":0},null,null,null,null,{"$f":"'PROPERTY MONUMENTS'!F109","v":0},null,null,null,null,null,{"$f":"'PROPERTY MONUMENTS'!H109","v":0},null,null,null,null,null,null,null,null,null,null,null,null,null,{"$f":"'PROPERTY MONUMENTS'!B189","v":0},null,null,null,null,null,null,{"$f":"'PROPERTY MONUMENTS'!C189","v":0},null,null,null,null,{"$f":"'PROPERTY MONUMENTS'!D189","v":0},null,null,null,{"$f":"'PROPERTY MONUMENTS'!E189","v":0},null,null,null,null,null,null,null,null,null,null,{"$f":"'PROPERTY MONUMENTS'!F189","v":0},null,null,null,null,null,{"$f":"'PROPERTY MONUMENTS'!H189","v":0},null,null,null,null,null,null,null,null,null,null,null,null,null,{"$f":"CONTROL!A92","v":0},null,null,null,{"$f":"CONTROL!B92","v":0},null,null,null,null,null,null,{"$f":"CONTROL!C92","v":0},null,null,null,null,{"$f":"CONTROL!D92","v":0},null,null,null,{"$f":"CONTROL!E92","v":0},null,null,null,null,{"$f":"CONTROL!F92","v":0},null,null,null,null,{"$f":"CONTROL!G92","v":0},null,null,null,{"$f":"CONTROL!H92","v":0}]
[null,null,{"$f":"'PROPERTY MONUMENTS'!B110","v":0},null,null,null,null,null,null,{"$f":"'PROPERTY MONUMENTS'!C110","v":0},null,null,null,null,{"$f":"'PROPERTY MONUMENTS'!D110","v":0},null,null,null,{"$f":"'PROPERTY MONUMENTS'!E110","v":0},null,null,null,null,{"$f":"'PROPERTY MONUMENTS'!F110","v":0},null,null,null,null,null,{"$f":"'PROPERTY MONUMENTS'!H110","v":0},null,null,null,null,null,null,null,null,null,null,null,null,null,{"$f":"'PROPERTY MONUMENTS'!B190","v":0},null,null,null,null,null,null,{"$f":"'PROPERTY MONUMENTS'!C190","v":0},null,null,null,null,{"$f":"'PROPERTY MONUMENTS'!D190","v":0},null,null,null,{"$f":"'PROPERTY MONUMENTS'!E190","v":0},null,null,null,null,null,null,null,null,null,null,{"$f":"'PROPERTY MONUMENTS'!F190","v":0},null,null,null,null,null,{"$f":"'PROPERTY MONUMENTS'!H190","v":0},null,null,null,null,null,null,null,null,null,null,null,null,null,{"$f":"CONTROL!A93","v":0},null,null,null,{"$f":"CONTROL!B93","v":0},null,null,null,null,null,null,{"$f":"CONTROL!C93","v":0},null,null,null,null,{"$f":"CONTROL!D93","v":0},null,null,null,{"$f":"CONTROL!E93","v":0},null,null,null,null,{"$f":"CONTROL!F93","v":0},null,null,null,null,{"$f":"CONTROL!G93","v":0},null,null,null,{"$f":"CONTROL!H93","v":0}]
[null,null,{"$f":"'PROPERTY MONUMENTS'!B111","v":0},null,null,null,null,null,null,{"$f":"'PROPERTY MONUMENTS'!C111","v":0},null,null,null,null,{"$f":"'PROPERTY MONUMENTS'!D111","v":0},null,null,null,{"$f":"'PROPERTY MONUMENTS'!E111","v":0},null,null,null,null,{"$f":"'PROPERTY MONUMENTS'!F111","v":0},null,null,null,null,null,{"$f":"'PROPERTY MONUMENTS'!H111","v":0},null,null,null,null,null,null,null,null,null,null,null,null,null,{"$f":"'PROPERTY MONUMENTS'!B191","v":0},null,null,null,null,null,null,{"$f":"'PROPERTY MONUMENTS'!C191","v":0},null,null,null,null,{"$f":"'PROPERTY MONUMENTS'!D191","v":0},null,null,null,{"$f":"'PROPERTY MONUMENTS'!E191","v":0},null,null,null,null,null,null,null,null,null,null,{"$f":"'PROPERTY MONUMENTS'!F191","v":0},null,null,null,null,null,{"$f":"'PROPERTY MONUMENTS'!H191","v":0},null,null,null,null,null,null,null,null,null,null,null,null,null,{"$f":"CONTROL!A94","v":0},null,null,null,{"$f":"CONTROL!B94","v":0},null,null,null,null,null,null,{"$f":"CONTROL!C94","v":0},null,null,null,null,{"$f":"CONTROL!D94","v":0},null,null,null,{"$f":"CONTROL!E94","v":0},null,null,null,null,{"$f":"CONTROL!F94","v":0},null,null,null,null,{"$f":"CONTROL!G94","v":0},null,null,null,{"$f":"CONTROL!H94","v":0}]
[null,null,{"$f":"'PROPERTY MONUMENTS'!B112","v":0},null,null,null,null,null,null,{"$f":"'PROPERTY MONUMENTS'!C112","v":0},null,null,null,null,{"$f":"'PROPERTY MONUMENTS'!D112","v":0},null,null,null,{"$f":"'PROPERTY MONUMENTS'!E112","v":0},null,null,null,null,{"$f":"'PROPERTY MONUMENTS'!F112","v":0},null,null,null,null,null,{"$f":"'PROPERTY MONUMENTS'!H112","v":0},null,null,null,null,null,null,null,null,null,null,null,null,null,{"$f":"'PROPERTY MONUMENTS'!B192","v":0},null,null,null,null,null,null,{"$f":"'PROPERTY MONUMENTS'!C192","v":0},null,null,null,null,{"$f":"'PROPERTY MONUMENTS'!D192","v":0},null,null,null,{"$f":"'PROPERTY MONUMENTS'!E192","v":0},null,null,null,null,null,null,null,null,null,null,{"$f":"'PROPERTY MONUMENTS'!F192","v":0},null,null,null,null,null,{"$f":"'PROPERTY MONUMENTS'!H192","v":0},null,null,null,null,null,null,null,null,null,null,null,null,null,{"$f":"CONTROL!A95","v":0},null,null,null,{"$f":"CONTROL!B95","v":0},null,null,null,null,null,null,{"$f":"CONTROL!C95","v":0},null,null,null,null,{"$f":"CONTROL!D95","v":0},null,null,null,{"$f":"CONTROL!E95","v":0},null,null,null,null,{"$f":"CONTROL!F95","v":0},null,null,null,null,{"$f":"CONTROL!G95","v":0},null,null,null,{"$f":"CONTROL!H95","v":0}]
[null,null,{"$f":"'PROPERTY MONUMENTS'!B113","v":0},null,null,null,null,null,null,{"$f":"'PROPERTY MONUMENTS'!C113","v":0},null,null,null,null,{"$f":"'PROPERTY MONUMENTS'!D113","v":0},null,null,null,{"$f":"'PROPERTY MONUMENTS'!E113","v":0},null,null,null,null,{"$f":"'PROPERTY MONUMENTS'!F113","v":0},null,null,null,null,null,{"$f":"'PROPERTY MONUMENTS'!H113","v":0},null,null,null,null,null,null,null,null,null,null,null,null,null,{"$f":"'PROPERTY MONUMENTS'!B193","v":0},null,null,null,null,null,null,{"$f":"'PROPERTY MONUMENTS'!C193","v":0},null,null,null,null,{"$f":"'PROPERTY MONUMENTS'!D193","v":0},null,null,null,{"$f":"'PROPERTY MONUMENTS'!E193","v":0},null,null,null,null,null,null,null,null,null,null,{"$f":"'PROPERTY MONUMENTS'!F193","v":0},null,null,null,null,null,{"$f":"'PROPERTY MONUMENTS'!H193","v":0},null,null,null,null,null,null,null,null,null,null,null,null,null,{"$f":"CONTROL!A96","v":0},null,null,null,{"$f":"CONTROL!B96","v":0},null,null,null,null,null,null,{"$f":"CONTROL!C96","v":0},null,null,null,null,{"$f":"CONTROL!D96","v":0},null,null,null,{"$f":"CONTROL!E96","v":0},null,null,null,null,{"$f":"CONTROL!F96","v":0},null,null,null,null,{"$f":"CONTROL!G96","v":0},null,null,null,{"$f":"CONTROL!H96","v":0}]
[null,null,{"$f":"'PROPERTY MONUMENTS'!B114","v":0},null,null,null,null,null,null,{"$f":"'PROPERTY MONUMENTS'!C114","v":0},null,null,null,null,{"$f":"'PROPERTY MONUMENTS'!D114","v":0},null,null,null,{"$f":"'PROPERTY MONUMENTS'!E114","v":0},null,null,null,null,{"$f":"'PROPERTY MONUMENTS'!F114","v":0},null,null,null,null,null,{"$f":"'PROPERTY MONUMENTS'!H114","v":0},null,null,null,null,null,null,null,null,null,null,null,null,null,{"$f":"'PROPERTY MONUMENTS'!B194","v":0},null,null,null,null,null,null,{"$f":"'PROPERTY MONUMENTS'!C194","v":0},null,null,null,null,{"$f":"'PROPERTY MONUMENTS'!D194","v":0},null,null,null,{"$f":"'PROPERTY MONUMENTS'!E194","v":0},null,null,null,null,null,null,null,null,null,null,{"$f":"'PROPERTY MONUMENTS'!F194","v":0},null,null,null,null,null,{"$f":"'PROPERTY MONUMENTS'!H194","v":0},null,null,null,null,null,null,null,null,null,null,null,null,null,{"$f":"CONTROL!A97","v":0},null,null,null,{"$f":"CONTROL!B97","v":0},null,null,null,null,null,null,{"$f":"CONTROL!C97","v":0},null,null,null,null,{"$f":"CONTROL!D97","v":0},null,null,null,{"$f":"CONTROL!E97","v":0},null,null,null,null,{"$f":"CONTROL!F97","v":0},null,null,null,null,{"$f":"CONTROL!G97","v":0},null,null,null,{"$f":"CONTROL!H97","v":0}]
[null,null,{"$f":"'PROPERTY MONUMENTS'!B115","v":0},null,null,null,null,null,null,{"$f":"'PROPERTY MONUMENTS'!C115","v":0},null,null,null,null,{"$f":"'PROPERTY MONUMENTS'!D115","v":0},null,null,null,{"$f":"'PROPERTY MONUMENTS'!E115","v":0},null,null,null,null,{"$f":"'PROPERTY MONUMENTS'!F115","v":0},null,null,null,null,null,{"$f":"'PROPERTY MONUMENTS'!H115","v":0},null,null,null,null,null,null,null,null,null,null,null,null,null,{"$f":"'PROPERTY MONUMENTS'!B195","v":0},null,null,null,null,null,null,{"$f":"'PROPERTY MONUMENTS'!C195","v":0},null,null,null,null,{"$f":"'PROPERTY MONUMENTS'!D195","v":0},null,null,null,{"$f":"'PROPERTY MONUMENTS'!E195","v":0},null,null,null,null,null,null,null,null,null,null,{"$f":"'PROPERTY MONUMENTS'!F195","v":0},null,null,null,null,null,{"$f":"'PROPERTY MONUMENTS'!H195","v":0},null,null,null,null,null,null,null,null,null,null,null,null,null,{"$f":"CONTROL!A98","v":0},null,null,null,{"$f":"CONTROL!B98","v":0},null,null,null,null,null,null,{"$f":"CONTROL!C98","v":0},null,null,null,null,{"$f":"CONTROL!D98","v":0},null,null,null,{"$f":"CONTROL!E98","v":0},null,null,null,null,{"$f":"CONTROL!F98","v":0},null,null,null,null,{"$f":"CONTROL!G98","v":0},null,null,null,{"$f":"CONTROL!H98","v":0}]
[null,null,{"$f":"'PROPERTY MONUMENTS'!B116","v":0},null,null,null,null,null,null,{"$f":"'PROPERTY MONUMENTS'!C116","v":0},null,null,null,null,{"$f":"'PROPERTY MONUMENTS'!D116","v":0},null,null,null,{"$f":"'PROPERTY MONUMENTS'!E116","v":0},null,null,null,null,{"$f":"'PROPERTY MONUMENTS'!F116","v":0},null,null,null,null,null,{"$f":"'PROPERTY MONUMENTS'!H116","v":0},null,null,null,null,null,null,null,null,null,null,null,null,null,{"$f":"'PROPERTY MONUMENTS'!B196","v":0},null,null,null,null,null,null,{"$f":"'PROPERTY MONUMENTS'!C196","v":0},null,null,null,null,{"$f":"'PROPERTY MONUMENTS'!D196","v":0},null,null,null,{"$f":"'PROPERTY MONUMENTS'!E196","v":0},null,null,null,null,null,null,null,null,null,null,{"$f":"'PROPERTY MONUMENTS'!F196","v":0},null,null,null,null,null,{"$f":"'PROPERTY MONUMENTS'!H196","v":0},null,null,null,null,null,null,null,null,null,null,null,null,null,{"$f":"CONTROL!A99","v":0},null,null,null,{"$f":"CONTROL!B99","v":0},null,null,null,null,null,null,{"$f":"CONTROL!C99","v":0},null,null,null,null,{"$f":"CONTROL!D99","v":0},null,null,null,{"$f":"CONTROL!E99","v":0},null,null,null,null,{"$f":"CONTROL!F99","v":0},null,null,null,null,{"$f":"CONTROL!G99","v":0},null,null,null,{"$f":"CONTROL!H99","v":0}]
[null,null,{"$f":"'PROPERTY MONUMENTS'!B117","v":0},null,null,null,null,null,null,{"$f":"'PROPERTY MONUMENTS'!C117","v":0},null,null,null,null,{"$f":"'PROPERTY MONUMENTS'!D117","v":0},null,null,null,{"$f":"'PROPERTY MONUMENTS'!E117","v":0},null,null,null,null,{"$f":"'PROPERTY MONUMENTS'!F117","v":0},null,null,null,null,null,{"$f":"'PROPERTY MONUMENTS'!H117","v":0},null,null,null,null,null,null,null,null,null,null,null,null,null,{"$f":"'PROPERTY MONUMENTS'!B197","v":0},null,null,null,null,null,null,{"$f":"'PROPERTY MONUMENTS'!C197","v":0},null,null,null,null,{"$f":"'PROPERTY MONUMENTS'!D197","v":0},null,null,null,{"$f":"'PROPERTY MONUMENTS'!E197","v":0},null,null,null,null,null,null,null,null,null,null,{"$f":"'PROPERTY MONUMENTS'!F197","v":0},null,null,null,null,null,{"$f":"'PROPERTY MONUMENTS'!H197","v":0},null,null,null,null,null,null,null,null,null,null,null,null,null,{"$f":"CONTROL!A100","v":0},null,null,null,{"$f":"CONTROL!B100","v":0},null,null,null,null,null,null,{"$f":"CONTROL!C100","v":0},null,null,null,null,{"$f":"CONTROL!D100","v":0},null,null,null,{"$f":"CONTROL!E100","v":0},null,null,null,null,{"$f":"CONTROL!F100","v":0},null,null,null,null,{"$f":"CONTROL!G100","v":0},null,null,null,{"$f":"CONTROL!H100","v":0}]
[null,null,{"$f":"'PROPERTY MONUMENTS'!B118","v":0},null,null,null,null,null,null,{"$f":"'PROPERTY MONUMENTS'!C118","v":0},null,null,null,null,{"$f":"'PROPERTY MONUMENTS'!D118","v":0},null,null,null,{"$f":"'PROPERTY MONUMENTS'!E118","v":0},null,null,null,null,{"$f":"'PROPERTY MONUMENTS'!F118","v":0},null,null,null,null,null,{"$f":"'PROPERTY MONUMENTS'!H118","v":0},null,null,null,null,null,null,null,null,null,null,null,null,null,{"$f":"'PROPERTY MONUMENTS'!B198","v":0},null,null,null,null,null,null,{"$f":"'PROPERTY MONUMENTS'!C198","v":0},null,null,null,null,{"$f":"'PROPERTY MONUMENTS'!D198","v":0},null,null,null,{"$f":"'PROPERTY MONUMENTS'!E198","v":0},null,null,null,null,null,null,null,null,null,null,{"$f":"'PROPERTY MONUMENTS'!F198","v":0},null,null,null,null,null,{"$f":"'PROPERTY MONUMENTS'!H198","v":0},null,null,null,null,null,null,null,null,null,null,null,null,null,{"$f":"CONTROL!A101","v":0},null,null,null,{"$f":"CONTROL!B101","v":0},null,null,null,null,null,null,{"$f":"CONTROL!C101","v":0},null,null,null,null,{"$f":"CONTROL!D101","v":0},null,null,null,{"$f":"CONTROL!E101","v":0},null,null,null,null,{"$f":"CONTROL!F101","v":0},null,null,null,null,{"$f":"CONTROL!G101","v":0},null,null,null,{"$f":"CONTROL!H101","v":0}]
[null,null,{"$f":"'PROPERTY MONUMENTS'!B119","v":0},null,null,null,null,null,null,{"$f":"'PROPERTY MONUMENTS'!C119","v":0},null,null,null,null,{"$f":"'PROPERTY MONUMENTS'!D119","v":0},null,null,null,{"$f":"'PROPERTY MONUMENTS'!E119","v":0},null,null,null,null,{"$f":"'PROPERTY MONUMENTS'!F119","v":0},null,null,null,null,null,{"$f":"'PROPERTY MONUMENTS'!H119","v":0},null,null,null,null,null,null,null,null,null,null,null,null,null,{"$f":"'PROPERTY MONUMENTS'!B199","v":0},null,null,null,null,null,null,{"$f":"'PROPERTY MONUMENTS'!C199","v":0},null,null,null,null,{"$f":"'PROPERTY MONUMENTS'!D199","v":0},null,null,null,{"$f":"'PROPERTY MONUMENTS'!E199","v":0},null,null,null,null,null,null,null,null,null,null,{"$f":"'PROPERTY MONUMENTS'!F199","v":0},null,null,null,null,null,{"$f":"'PROPERTY MONUMENTS'!H199","v":0},null,null,null,null,null,null,null,null,null,null,null,null,null,{"$f":"CONTROL!A102","v":0},null,null,null,{"$f":"CONTROL!B102","v":0},null,null,null,null,null,null,{"$f":"CONTROL!C102","v":0},null,null,null,null,{"$f":"CONTROL!D102","v":0},null,null,null,{"$f":"CONTROL!E102","v":0},null,null,null,null,{"$f":"CONTROL!F102","v":0},null,null,null,null,{"$f":"CONTROL!G102","v":0},null,null,null,{"$f":"CONTROL!H102","v":0}]
[null,null,{"$f":"'PROPERTY MONUMENTS'!B120","v":0},null,null,null,null,null,null,{"$f":"'PROPERTY MONUMENTS'!C120","v":0},null,null,null,null,{"$f":"'PROPERTY MONUMENTS'!D120","v":0},null,null,null,{"$f":"'PROPERTY MONUMENTS'!E120","v":0},null,null,null,null,{"$f":"'PROPERTY MONUMENTS'!F120","v":0},null,null,null,null,null,{"$f":"'PROPERTY MONUMENTS'!H120","v":0},null,null,null,null,null,null,null,null,null,null,null,null,null,{"$f":"'PROPERTY MONUMENTS'!B200","v":0},null,null,null,null,null,null,{"$f":"'PROPERTY MONUMENTS'!C200","v":0},null,null,null,null,{"$f":"'PROPERTY MONUMENTS'!D200","v":0},null,null,null,{"$f":"'PROPERTY MONUMENTS'!E200","v":0},null,null,null,null,null,null,null,null,null,null,{"$f":"'PROPERTY MONUMENTS'!F200","v":0},null,null,null,null,null,{"$f":"'PROPERTY MONUMENTS'!H200","v":0},null,null,null,null,null,null,null,null,null,null,null,null,null,{"$f":"CONTROL!A103","v":0},null,null,null,{"$f":"CONTROL!B103","v":0},null,null,null,null,null,null,{"$f":"CONTROL!C103","v":0},null,null,null,null,{"$f":"CONTROL!D103","v":0},null,null,null,{"$f":"CONTROL!E103","v":0},null,null,null,null,{"$f":"CONTROL!F103","v":0},null,null,null,null,{"$f":"CONTROL!G103","v":0},null,null,null,{"$f":"CONTROL!H103","v":0}]
[null,null,{"$f":"'PROPERTY MONUMENTS'!B121","v":0},null,null,null,null,null,null,{"$f":"'PROPERTY MONUMENTS'!C121","v":0},null,null,null,null,{"$f":"'PROPERTY MONUMENTS'!D121","v":0},null,null,null,{"$f":"'PROPERTY MONUMENTS'!E121","v":0},null,null,null,null,{"$f":"'PROPERTY MONUMENTS'!F121","v":0},null,null,null,null,null,{"$f":"'PROPERTY MONUMENTS'!H121","v":0},null,null,null,null,null,null,null,null,null,null,null,null,null,{"$f":"'PROPERTY MONUMENTS'!B201","v":0},null,null,null,null,null,null,{"$f":"'PROPERTY MONUMENTS'!C201","v":0},null,null,null,null,{"$f":"'PROPERTY MONUMENTS'!D201","v":0},null,null,null,{"$f":"'PROPERTY MONUMENTS'!E201","v":0},null,null,null,null,null,null,null,null,null,null,{"$f":"'PROPERTY MONUMENTS'!F201","v":0},null,null,null,null,null,{"$f":"'PROPERTY MONUMENTS'!H201","v":0},null,null,null,null,null,null,null,null,null,null,null,null,null,{"$f":"CONTROL!A104","v":0},null,null,null,{"$f":"CONTROL!B104","v":0},null,null,null,null,null,null,{"$f":"CONTROL!C104","v":0},null,null,null,null,{"$f":"CONTROL!D104","v":0},null,null,null,{"$f":"CONTROL!E104","v":0},null,null,null,null,{"$f":"CONTROL!F104","v":0},null,null,null,null,{"$f":"CONTROL!G104","v":0},null,null,null,{"$f":"CONTROL!H104","v":0}]
[null,null,{"$f":"'PROPERTY MONUMENTS'!B122","v":0},null,null,null,null,null,null,{"$f":"'PROPERTY MONUMENTS'!C122","v":0},null,null,null,null,{"$f":"'PROPERTY MONUMENTS'!D122","v":0},null,null,null,{"$f":"'PROPERTY MONUMENTS'!E122","v":0},null,null,null,null,{"$f":"'PROPERTY MONUMENTS'!F122","v":0},null,null,null,null,null,{"$f":"'PROPERTY MONUMENTS'!H122","v":0},null,null,null,null,null,null,null,null,null,null,null,null,null,{"$f":"'PROPERTY MONUMENTS'!B202","v":0},null,null,null,null,null,null,{"$f":"'PROPERTY MONUMENTS'!C202","v":0},null,null,null,null,{"$f":"'PROPERTY MONUMENTS'!D202","v":0},null,null,null,{"$f":"'PROPERTY MONUMENTS'!E202","v":0},null,null,null,null,null,null,null,null,null,null,{"$f":"'PROPERTY MONUMENTS'!F202","v":0},null,null,null,null,null,{"$f":"'PROPERTY MONUMENTS'!H202","v":0},null,null,null,null,null,null,null,null,null,null,null,null,null,{"$f":"CONTROL!A105","v":0},null,null,null,{"$f":"CONTROL!B105","v":0},null,null,null,null,null,null,{"$f":"CONTROL!C105","v":0},null,null,null,null,{"$f":"CONTROL!D105","v":0},null,null,null,{"$f":"CONTROL!E105","v":0},null,null,null,null,{"$f":"CONTROL!F105","v":0},null,null,null,null,{"$f":"CONTROL!G105","v":0},null,null,null,{"$f":"CONTROL!H105","v":0}]
[null,null,{"$f":"'PROPERTY MONUMENTS'!B123","v":0},null,null,null,null,null,null,{"$f":"'PROPERTY MONUMENTS'!C123","v":0},null,null,null,null,{"$f":"'PROPERTY MONUMENTS'!D123","v":0},null,null,null,{"$f":"'PROPERTY MONUMENTS'!E123","v":0},null,null,null,null,{"$f":"'PROPERTY MONUMENTS'!F123","v":0},null,null,null,null,null,{"$f":"'PROPERTY MONUMENTS'!H123","v":0},null,null,null,null,null,null,null,null,null,null,null,null,null,{"$f":"'PROPERTY MONUMENTS'!B203","v":0},null,null,null,null,null,null,{"$f":"'PROPERTY MONUMENTS'!C203","v":0},null,null,null,null,{"$f":"'PROPERTY MONUMENTS'!D203","v":0},null,null,null,{"$f":"'PROPERTY MONUMENTS'!E203","v":0},null,null,null,null,null,null,null,null,null,null,{"$f":"'PROPERTY MONUMENTS'!F203","v":0},null,null,null,null,null,{"$f":"'PROPERTY MONUMENTS'!H203","v":0},null,null,null,null,null,null,null,null,null,null,null,null,null,{"$f":"CONTROL!A106","v":0},null,null,null,{"$f":"CONTROL!B106","v":0},null,null,null,null,null,null,{"$f":"CONTROL!C106","v":0},null,null,null,null,{"$f":"CONTROL!D106","v":0},null,null,null,{"$f":"CONTROL!E106","v":0},null,null,null,null,{"$f":"CONTROL!F106","v":0},null,null,null,null,{"$f":"CONTROL!G106","v":0},null,null,null,{"$f":"CONTROL!H106","v":0}]
[null,null,{"$f":"'PROPERTY MONUMENTS'!B124","v":0},null,null,null,null,null,null,{"$f":"'PROPERTY MONUMENTS'!C124","v":0},null,null,null,null,{"$f":"'PROPERTY MONUMENTS'!D124","v":0},null,null,null,{"$f":"'PROPERTY MONUMENTS'!E124","v":0},null,null,null,null,{"$f":"'PROPERTY MONUMENTS'!F124","v":0},null,null,null,null,null,{"$f":"'PROPERTY MONUMENTS'!H124","v":0},null,null,null,null,null,null,null,null,null,null,null,null,null,{"$f":"'PROPERTY MONUMENTS'!B204","v":0},null,null,null,null,null,null,{"$f":"'PROPERTY MONUMENTS'!C204","v":0},null,null,null,null,{"$f":"'PROPERTY MONUMENTS'!D204","v":0},null,null,null,{"$f":"'PROPERTY MONUMENTS'!E204","v":0},null,null,null,null,null,null,null,null,null,null,{"$f":"'PROPERTY MONUMENTS'!F204","v":0},null,null,null,null,null,{"$f":"'PROPERTY MONUMENTS'!H204","v":0},null,null,null,null,null,null,null,null,null,null,null,null,null,{"$f":"CONTROL!A107","v":0},null,null,null,{"$f":"CONTROL!B107","v":0},null,null,null,null,null,null,{"$f":"CONTROL!C107","v":0},null,null,null,null,{"$f":"CONTROL!D107","v":0},null,null,null,{"$f":"CONTROL!E107","v":0},null,null,null,null,{"$f":"CONTROL!F107","v":0},null,null,null,null,{"$f":"CONTROL!G107","v":0},null,null,null,{"$f":"CONTROL!H107","v":0}]
[null,null,{"$f":"'PROPERTY MONUMENTS'!B125","v":0},null,null,null,null,null,null,{"$f":"'PROPERTY MONUMENTS'!C125","v":0},null,null,null,null,{"$f":"'PROPERTY MONUMENTS'!D125","v":0},null,null,null,{"$f":"'PROPERTY MONUMENTS'!E125","v":0},null,null,null,null,{"$f":"'PROPERTY MONUMENTS'!F125","v":0},null,null,null,null,null,{"$f":"'PROPERTY MONUMENTS'!H125","v":0},null,null,null,null,null,null,null,null,null,null,null,null,null,{"$f":"'PROPERTY MONUMENTS'!B205","v":0},null,null,null,null,null,null,{"$f":"'PROPERTY MONUMENTS'!C205","v":0},null,null,null,null,{"$f":"'PROPERTY MONUMENTS'!D205","v":0},null,null,null,{"$f":"'PROPERTY MONUMENTS'!E205","v":0},null,null,null,null,null,null,null,null,null,null,{"$f":"'PROPERTY MONUMENTS'!F205","v":0},null,null,null,null,null,{"$f":"'PROPERTY MONUMENTS'!H205","v":0},null,null,null,null,null,null,null,null,null,null,null,null,null,{"$f":"CONTROL!A108","v":0},null,null,null,{"$f":"CONTROL!B108","v":0},null,null,null,null,null,null,{"$f":"CONTROL!C108","v":0},null,null,null,null,{"$f":"CONTROL!D108","v":0},null,null,null,{"$f":"CONTROL!E108","v":0},null,null,null,null,{"$f":"CONTROL!F108","v":0},null,null,null,null,{"$f":"CONTROL!G108","v":0},null,null,null,{"$f":"CONTROL!H108","v":0}]
[null,null,{"$f":"'PROPERTY MONUMENTS'!B126","v":0},null,null,null,null,null,null,{"$f":"'PROPERTY MONUMENTS'!C126","v":0},null,null,null,null,{"$f":"'PROPERTY MONUMENTS'!D126","v":0},null,null,null,{"$f":"'PROPERTY MONUMENTS'!E126","v":0},null,null,null,null,{"$f":"'PROPERTY MONUMENTS'!F126","v":0},null,null,null,null,null,{"$f":"'PROPERTY MONUMENTS'!H126","v":0},null,null,null,null,null,null,null,null,null,null,null,null,null,{"$f":"'PROPERTY MONUMENTS'!B206","v":0},null,null,null,null,null,null,{"$f":"'PROPERTY MONUMENTS'!C206","v":0},null,null,null,null,{"$f":"'PROPERTY MONUMENTS'!D206","v":0},null,null,null,{"$f":"'PROPERTY MONUMENTS'!E206","v":0},null,null,null,null,null,null,null,null,null,null,{"$f":"'PROPERTY MONUMENTS'!F206","v":0},null,null,null,null,null,{"$f":"'PROPERTY MONUMENTS'!H206","v":0},null,null,null,null,null,null,null,null,null,null,null,null,null,{"$f":"CONTROL!A109","v":0},null,null,null,{"$f":"CONTROL!B109","v":0},null,null,null,null,null,null,{"$f":"CONTROL!C109","v":0},null,null,null,null,{"$f":"CONTROL!D109","v":0},null,null,null,{"$f":"CONTROL!E109","v":0},null,null,null,null,{"$f":"CONTROL!F109","v":0},null,null,null,null,{"$f":"CONTROL!G109","v":0},null,null,null,{"$f":"CONTROL!H109","v":0}]
[null,null,{"$f":"'PROPERTY MONUMENTS'!B127","v":0},null,null,null,null,null,null,{"$f":"'PROPERTY MONUMENTS'!C127","v":0},null,null,null,null,{"$f":"'PROPERTY MONUMENTS'!D127","v":0},null,null,null,{"$f":"'PROPERTY MONUMENTS'!E127","v":0},null,null,null,null,{"$f":"'PROPERTY MONUMENTS'!F127","v":0},null,null,null,null,null,{"$f":"'PROPERTY MONUMENTS'!H127","v":0},null,null,null,null,null,null,null,null,null,null,null,null,null,{"$f":"'PROPERTY MONUMENTS'!B207","v":0},null,null,null,null,null,null,{"$f":"'PROPERTY MONUMENTS'!C207","v":0},null,null,null,null,{"$f":"'PROPERTY MONUMENTS'!D207","v":0},null,null,null,{"$f":"'PROPERTY MONUMENTS'!E207","v":0},null,null,null,null,null,null,null,null,null,null,{"$f":"'PROPERTY MONUMENTS'!F207","v":0},null,null,null,null,null,{"$f":"'PROPERTY MONUMENTS'!H207","v":0},null,null,null,null,null,null,null,null,null,null,null,null,null,{"$f":"CONTROL!A110","v":0},null,null,null,{"$f":"CONTROL!B110","v":0},null,null,null,null,null,null,{"$f":"CONTROL!C110","v":0},null,null,null,null,{"$f":"CONTROL!D110","v":0},null,null,null,{"$f":"CONTROL!E110","v":0},null,null,null,null,{"$f":"CONTROL!F110","v":0},null,null,null,null,{"$f":"CONTROL!G110","v":0},null,null,null,{"$f":"CONTROL!H110","v":0}]
[null,null,{"$f":"'PROPERTY MONUMENTS'!B128","v":0},null,null,null,null,null,null,{"$f":"'PROPERTY MONUMENTS'!C128","v":0},null,null,null,null,{"$f":"'PROPERTY MONUMENTS'!D128","v":0},null,null,null,{"$f":"'PROPERTY MONUMENTS'!E128","v":0},null,null,null,null,{"$f":"'PROPERTY MONUMENTS'!F128","v":0},null,null,null,null,null,{"$f":"'PROPERTY MONUMENTS'!H128","v":0},null,null,null,null,null,null,null,null,null,null,null,null,null,{"$f":"'PROPERTY MONUMENTS'!B208","v":0},null,null,null,null,null,null,{"$f":"'PROPERTY MONUMENTS'!C208","v":0},null,null,null,null,{"$f":"'PROPERTY MONUMENTS'!D208","v":0},null,null,null,{"$f":"'PROPERTY MONUMENTS'!E208","v":0},null,null,null,null,null,null,null,null,null,null,{"$f":"'PROPERTY MONUMENTS'!F208","v":0},null,null,null,null,null,{"$f":"'PROPERTY MONUMENTS'!H208","v":0},null,null,null,null,null,null,null,null,null,null,null,null,null,{"$f":"CONTROL!A111","v":0},null,null,null,{"$f":"CONTROL!B111","v":0},null,null,null,null,null,null,{"$f":"CONTROL!C111","v":0},null,null,null,null,{"$f":"CONTROL!D111","v":0},null,null,null,{"$f":"CONTROL!E111","v":0},null,null,null,null,{"$f":"CONTROL!F111","v":0},null,null,null,null,{"$f":"CONTROL!G111","v":0},null,null,null,{"$f":"CONTROL!H111","v":0}]
[null,null,{"$f":"'PROPERTY MONUMENTS'!B129","v":0},null,null,null,null,null,null,{"$f":"'PROPERTY MONUMENTS'!C129","v":0},null,null,null,null,{"$f":"'PROPERTY MONUMENTS'!D129","v":0},null,null,null,{"$f":"'PROPERTY MONUMENTS'!E129","v":0},null,null,null,null,{"$f":"'PROPERTY MONUMENTS'!F129","v":0},null,null,null,null,null,{"$f":"'PROPERTY MONUMENTS'!H129","v":0},null,null,null,null,null,null,null,null,null,null,null,null,null,{"$f":"'PROPERTY MONUMENTS'!B209","v":0},null,null,null,null,null,null,{"$f":"'PROPERTY MONUMENTS'!C209","v":0},null,null,null,null,{"$f":"'PROPERTY MONUMENTS'!D209","v":0},null,null,null,{"$f":"'PROPERTY MONUMENTS'!E209","v":0},null,null,null,null,null,null,null,null,null,null,{"$f":"'PROPERTY MONUMENTS'!F209","v":0},null,null,null,null,null,{"$f":"'PROPERTY MONUMENTS'!H209","v":0},null,null,null,null,null,null,null,null,null,null,null,null,null,{"$f":"CONTROL!A112","v":0},null,null,null,{"$f":"CONTROL!B112","v":0},null,null,null,null,null,null,{"$f":"CONTROL!C112","v":0},null,null,null,null,{"$f":"CONTROL!D112","v":0},null,null,null,{"$f":"CONTROL!E112","v":0},null,null,null,null,{"$f":"CONTROL!F112","v":0},null,null,null,null,{"$f":"CONTROL!G112","v":0},null,null,null,{"$f":"CONTROL!H112","v":0}]
[null,null,{"$f":"'PROPERTY MONUMENTS'!B130","v":0},null,null,null,null,null,null,{"$f":"'PROPERTY MONUMENTS'!C130","v":0},null,null,null,null,{"$f":"'PROPERTY MONUMENTS'!D130","v":0},null,null,null,{"$f":"'PROPERTY MONUMENTS'!E130","v":0},null,null,null,null,{"$f":"'PROPERTY MONUMENTS'!F130","v":0},null,null,null,null,null,{"$f":"'PROPERTY MONUMENTS'!H130","v":0},null,null,null,null,null,null,null,null,null,null,null,null,null,{"$f":"'PROPERTY MONUMENTS'!B210","v":0},null,null,null,null,null,null,{"$f":"'PROPERTY MONUMENTS'!C210","v":0},null,null,null,null,{"$f":"'PROPERTY MONUMENTS'!D210","v":0},null,null,null,{"$f":"'PROPERTY MONUMENTS'!E210","v":0},null,null,null,null,null,null,null,null,null,null,{"$f":"'PROPERTY MONUMENTS'!F210","v":0},null,null,null,null,null,{"$f":"'PROPERTY MONUMENTS'!H210","v":0},null,null,null,null,null,null,null,null,null,null,null,null,null,{"$f":"CONTROL!A113","v":0},null,null,null,{"$f":"CONTROL!B113","v":0},null,null,null,null,null,null,{"$f":"CONTROL!C113","v":0},null,null,null,null,{"$f":"CONTROL!D113","v":0},null,null,null,{"$f":"CONTROL!E113","v":0},null,null,null,null,{"$f":"CONTROL!F113","v":0},null,null,null,null,{"$f":"CONTROL!G113","v":0},null,null,null,{"$f":"CONTROL!H113","v":0}]
[null,null,{"$f":"'PROPERTY MONUMENTS'!B131","v":0},null,null,null,null,null,null,{"$f":"'PROPERTY MONUMENTS'!C131","v":0},null,null,null,null,{"$f":"'PROPERTY MONUMENTS'!D131","v":0},null,null,null,{"$f":"'PROPERTY MONUMENTS'!E131","v":0},null,null,null,null,{"$f":"'PROPERTY MONUMENTS'!F131","v":0},null,null,null,null,null,{"$f":"'PROPERTY MONUMENTS'!H131","v":0},null,null,null,null,null,null,null,null,null,null,null,null,null,{"$f":"'PROPERTY MONUMENTS'!B211","v":0},null,null,null,null,null,null,{"$f":"'PROPERTY MONUMENTS'!C211","v":0},null,null,null,null,{"$f":"'PROPERTY MONUMENTS'!D211","v":0},null,null,null,{"$f":"'PROPERTY MONUMENTS'!E211","v":0},null,null,null,null,null,null,null,null,null,null,{"$f":"'PROPERTY MONUMENTS'!F211","v":0},null,null,null,null,null,{"$f":"'PROPERTY MONUMENTS'!H211","v":0},null,null,null,null,null,null,null,null,null,null,null,null,null,{"$f":"CONTROL!A114","v":0},null,null,null,{"$f":"CONTROL!B114","v":0},null,null,null,null,null,null,{"$f":"CONTROL!C114","v":0},null,null,null,null,{"$f":"CONTROL!D114","v":0},null,null,null,{"$f":"CONTROL!E114","v":0},null,null,null,null,{"$f":"CONTROL!F114","v":0},null,null,null,null,{"$f":"CONTROL!G114","v":0},null,null,null,{"$f":"CONTROL!H114","v":0}]
[null,null,{"$f":"'PROPERTY MONUMENTS'!B132","v":0},null,null,null,null,null,null,{"$f":"'PROPERTY MONUMENTS'!C132","v":0},null,null,null,null,{"$f":"'PROPERTY MONUMENTS'!D132","v":0},null,null,null,{"$f":"'PROPERTY MONUMENTS'!E132","v":0},null,null,null,null,{"$f":"'PROPERTY MONUMENTS'!F132","v":0},null,null,null,null,null,{"$f":"'PROPERTY MONUMENTS'!H132","v":0},null,null,null,null,null,null,null,null,null,null,null,null,null,{"$f":"'PROPERTY MONUMENTS'!B212","v":0},null,null,null,null,null,null,{"$f":"'PROPERTY MONUMENTS'!C212","v":0},null,null,null,null,{"$f":"'PROPERTY MONUMENTS'!D212","v":0},null,null,null,{"$f":"'PROPERTY MONUMENTS'!E212","v":0},null,null,null,null,null,null,null,null,null,null,{"$f":"'PROPERTY MONUMENTS'!F212","v":0},null,null,null,null,null,{"$f":"'PROPERTY MONUMENTS'!H212","v":0},null,null,null,null,null,null,null,null,null,null,null,null,null,{"$f":"CONTROL!A115","v":0},null,null,null,{"$f":"CONTROL!B115","v":0},null,null,null,null,null,null,{"$f":"CONTROL!C115","v":0},null,null,null,null,{"$f":"CONTROL!D115","v":0},null,null,null,{"$f":"CONTROL!E115","v":0},null,null,null,null,{"$f":"CONTROL!F115","v":0},null,null,null,null,{"$f":"CONTROL!G115","v":0},null,null,null,{"$f":"CONTROL!H115","v":0}]
[null,null,{"$f":"'PROPERTY MONUMENTS'!B133","v":0},null,null,null,null,null,null,{"$f":"'PROPERTY MONUMENTS'!C133","v":0},null,null,null,null,{"$f":"'PROPERTY MONUMENTS'!D133","v":0},null,null,null,{"$f":"'PROPERTY MONUMENTS'!E133","v":0},null,null,null,null,{"$f":"'PROPERTY MONUMENTS'!F133","v":0},null,null,null,null,null,{"$f":"'PROPERTY MONUMENTS'!H133","v":0},null,null,null,null,null,null,null,null,null,null,null,null,null,{"$f":"'PROPERTY MONUMENTS'!B213","v":0},null,null,null,null,null,null,{"$f":"'PROPERTY MONUMENTS'!C213","v":0},null,null,null,null,{"$f":"'PROPERTY MONUMENTS'!D213","v":0},null,null,null,{"$f":"'PROPERTY MONUMENTS'!E213","v":0},null,null,null,null,null,null,null,null,null,null,{"$f":"'PROPERTY MONUMENTS'!F213","v":0},null,null,null,null,null,{"$f":"'PROPERTY MONUMENTS'!H213","v":0},null,null,null,null,null,null,null,null,null,null,null,null,null,{"$f":"CONTROL!A116","v":0},null,null,null,{"$f":"CONTROL!B116","v":0},null,null,null,null,null,null,{"$f":"CONTROL!C116","v":0},null,null,null,null,{"$f":"CONTROL!D116","v":0},null,null,null,{"$f":"CONTROL!E116","v":0},null,null,null,null,{"$f":"CONTROL!F116","v":0},null,null,null,null,{"$f":"CONTROL!G116","v":0},null,null,null,{"$f":"CONTROL!H116","v":0}]
[null,null,{"$f":"'PROPERTY MONUMENTS'!B134","v":0},null,null,null,null,null,null,{"$f":"'PROPERTY MONUMENTS'!C134","v":0},null,null,null,null,{"$f":"'PROPERTY MONUMENTS'!D134","v":0},null,null,null,{"$f":"'PROPERTY MONUMENTS'!E134","v":0},null,null,null,null,{"$f":"'PROPERTY MONUMENTS'!F134","v":0},null,null,null,null,null,{"$f":"'PROPERTY MONUMENTS'!H134","v":0},null,null,null,null,null,null,null,null,null,null,null,null,null,{"$f":"'PROPERTY MONUMENTS'!B214","v":0},null,null,null,null,null,null,{"$f":"'PROPERTY MONUMENTS'!C214","v":0},null,null,null,null,{"$f":"'PROPERTY MONUMENTS'!D214","v":0},null,null,null,{"$f":"'PROPERTY MONUMENTS'!E214","v":0},null,null,null,null,null,null,null,null,null,null,{"$f":"'PROPERTY MONUMENTS'!F214","v":0},null,null,null,null,null,{"$f":"'PROPERTY MONUMENTS'!H214","v":0},null,null,null,null,null,null,null,null,null,null,null,null,null,{"$f":"CONTROL!A117","v":0},null,null,null,{"$f":"CONTROL!B117","v":0},null,null,null,null,null,null,{"$f":"CONTROL!C117","v":0},null,null,null,null,{"$f":"CONTROL!D117","v":0},null,null,null,{"$f":"CONTROL!E117","v":0},null,null,null,null,{"$f":"CONTROL!F117","v":0},null,null,null,null,{"$f":"CONTROL!G117","v":0},null,null,null,{"$f":"CONTROL!H117","v":0}]
[null,null,{"$f":"'PROPERTY MONUMENTS'!B135","v":0},null,null,null,null,null,null,{"$f":"'PROPERTY MONUMENTS'!C135","v":0},null,null,null,null,{"$f":"'PROPERTY MONUMENTS'!D135","v":0},null,null,null,{"$f":"'PROPERTY MONUMENTS'!E135","v":0},null,null,null,null,{"$f":"'PROPERTY MONUMENTS'!F135","v":0},null,null,null,null,null,{"$f":"'PROPERTY MONUMENTS'!H135","v":0},null,null,null,null,null,null,null,null,null,null,null,null,null,{"$f":"'PROPERTY MONUMENTS'!B215","v":0},null,null,null,null,null,null,{"$f":"'PROPERTY MONUMENTS'!C215","v":0},null,null,null,null,{"$f":"'PROPERTY MONUMENTS'!D215","v":0},null,null,null,{"$f":"'PROPERTY MONUMENTS'!E215","v":0},null,null,null,null,null,null,null,null,null,null,{"$f":"'PROPERTY MONUMENTS'!F215","v":0},null,null,null,null,null,{"$f":"'PROPERTY MONUMENTS'!H215","v":0},null,null,null,null,null,null,null,null,null,null,null,null,null,{"$f":"CONTROL!A118","v":0},null,null,null,{"$f":"CONTROL!B118","v":0},null,null,null,null,null,null,{"$f":"CONTROL!C118","v":0},null,null,null,null,{"$f":"CONTROL!D118","v":0},null,null,null,{"$f":"CONTROL!E118","v":0},null,null,null,null,{"$f":"CONTROL!F118","v":0},null,null,null,null,{"$f":"CONTROL!G118","v":0},null,null,null,{"$f":"CONTROL!H118","v":0}]
[null,null,{"$f":"'PROPERTY MONUMENTS'!B136","v":0},null,null,null,null,null,null,{"$f":"'PROPERTY MONUMENTS'!C136","v":0},null,null,null,null,{"$f":"'PROPERTY MONUMENTS'!D136","v":0},null,null,null,{"$f":"'PROPERTY MONUMENTS'!E136","v":0},null,null,null,null,{"$f":"'PROPERTY MONUMENTS'!F136","v":0},null,null,null,null,null,{"$f":"'PROPERTY MONUMENTS'!H136","v":0},null,null,null,null,null,null,null,null,null,null,null,null,null,{"$f":"'PROPERTY MONUMENTS'!B216","v":0},null,null,null,null,null,null,{"$f":"'PROPERTY MONUMENTS'!C216","v":0},null,null,null,null,{"$f":"'PROPERTY MONUMENTS'!D216","v":0},null,null,null,{"$f":"'PROPERTY MONUMENTS'!E216","v":0},null,null,null,null,null,null,null,null,null,null,{"$f":"'PROPERTY MONUMENTS'!F216","v":0},null,null,null,null,null,{"$f":"'PROPERTY MONUMENTS'!H216","v":0},null,null,null,null,null,null,null,null,null,null,null,null,null,{"$f":"CONTROL!A119","v":0},null,null,null,{"$f":"CONTROL!B119","v":0},null,null,null,null,null,null,{"$f":"CONTROL!C119","v":0},null,null,null,null,{"$f":"CONTROL!D119","v":0},null,null,null,{"$f":"CONTROL!E119","v":0},null,null,null,null,{"$f":"CONTROL!F119","v":0},null,null,null,null,{"$f":"CONTROL!G119","v":0},null,null,null,{"$f":"CONTROL!H119","v":0}]
[null,null,{"$f":"'PROPERTY MONUMENTS'!B137","v":0},null,null,null,null,null,null,{"$f":"'PROPERTY MONUMENTS'!C137","v":0},null,null,null,null,{"$f":"'PROPERTY MONUMENTS'!D137","v":0},null,null,null,{"$f":"'PROPERTY MONUMENTS'!E137","v":0},null,null,null,null,{"$f":"'PROPERTY MONUMENTS'!F137","v":0},null,null,null,null,null,{"$f":"'PROPERTY MONUMENTS'!H137","v":0},null,null,null,null,null,null,null,null,null,null,null,null,null,{"$f":"'PROPERTY MONUMENTS'!B217","v":0},null,null,null,null,null,null,{"$f":"'PROPERTY MONUMENTS'!C217","v":0},null,null,null,null,{"$f":"'PROPERTY MONUMENTS'!D217","v":0},null,null,null,{"$f":"'PROPERTY MONUMENTS'!E217","v":0},null,null,null,null,null,null,null,null,null,null,{"$f":"'PROPERTY MONUMENTS'!F217","v":0},null,null,null,null,null,{"$f":"'PROPERTY MONUMENTS'!H217","v":0},null,null,null,null,null,null,null,null,null,null,null,null,null,{"$f":"CONTROL!A120","v":0},null,null,null,{"$f":"CONTROL!B120","v":0},null,null,null,null,null,null,{"$f":"CONTROL!C120","v":0},null,null,null,null,{"$f":"CONTROL!D120","v":0},null,null,null,{"$f":"CONTROL!E120","v":0},null,null,null,null,{"$f":"CONTROL!F120","v":0},null,null,null,null,{"$f":"CONTROL!G120","v":0},null,null,null,{"$f":"CONTROL!H120","v":0}]
[null,null,{"$f":"'PROPERTY MONUMENTS'!B138","v":0},null,null,null,null,null,null,{"$f":"'PROPERTY MONUMENTS'!C138","v":0},null,null,null,null,{"$f":"'PROPERTY MONUMENTS'!D138","v":0},null,null,null,{"$f":"'PROPERTY MONUMENTS'!E138","v":0},null,null,null,null,{"$f":"'PROPERTY MONUMENTS'!F138","v":0},null,null,null,null,null,{"$f":"'PROPERTY MONUMENTS'!H138","v":0},null,null,null,null,null,null,null,null,null,null,null,null,null,{"$f":"'PROPERTY MONUMENTS'!B218","v":0},null,null,null,null,null,null,{"$f":"'PROPERTY MONUMENTS'!C218","v":0},null,null,null,null,{"$f":"'PROPERTY MONUMENTS'!D218","v":0},null,null,null,{"$f":"'PROPERTY MONUMENTS'!E218","v":0},null,null,null,null,null,null,null,null,null,null,{"$f":"'PROPERTY MONUMENTS'!F218","v":0},null,null,null,null,null,{"$f":"'PROPERTY MONUMENTS'!H218","v":0},null,null,null,null,null,null,null,null,null,null,null,null,null,{"$f":"CONTROL!A121","v":0},null,null,null,{"$f":"CONTROL!B121","v":0},null,null,null,null,null,null,{"$f":"CONTROL!C121","v":0},null,null,null,null,{"$f":"CONTROL!D121","v":0},null,null,null,{"$f":"CONTROL!E121","v":0},null,null,null,null,{"$f":"CONTROL!F121","v":0},null,null,null,null,{"$f":"CONTROL!G121","v":0},null,null,null,{"$f":"CONTROL!H121","v":0}]
[null,null,{"$f":"'PROPERTY MONUMENTS'!B139","v":0},null,null,null,null,null,null,{"$f":"'PROPERTY MONUMENTS'!C139","v":0},null,null,null,null,{"$f":"'PROPERTY MONUMENTS'!D139","v":0},null,null,null,{"$f":"'PROPERTY MONUMENTS'!E139","v":0},null,null,null,null,{"$f":"'PROPERTY MONUMENTS'!F139","v":0},null,null,null,null,null,{"$f":"'PROPERTY MONUMENTS'!H139","v":0},null,null,null,null,null,null,null,null,null,null,null,null,null,{"$f":"'PROPERTY MONUMENTS'!B219","v":0},null,null,null,null,null,null,{"$f":"'PROPERTY MONUMENTS'!C219","v":0},null,null,null,null,{"$f":"'PROPERTY MONUMENTS'!D219","v":0},null,null,null,{"$f":"'PROPERTY MONUMENTS'!E219","v":0},null,null,null,null,null,null,null,null,null,null,{"$f":"'PROPERTY MONUMENTS'!F219","v":0},null,null,null,null,null,{"$f":"'PROPERTY MONUMENTS'!H219","v":0},null,null,null,null,null,null,null,null,null,null,null,null,null,{"$f":"CONTROL!A122","v":0},null,null,null,{"$f":"CONTROL!B122","v":0},null,null,null,null,null,null,{"$f":"CONTROL!C122","v":0},null,null,null,null,{"$f":"CONTROL!D122","v":0},null,null,null,{"$f":"CONTROL!E122","v":0},null,null,null,null,{"$f":"CONTROL!F122","v":0},null,null,null,null,{"$f":"CONTROL!G122","v":0},null,null,null,{"$f":"CONTROL!H122","v":0}]
[null,null,{"$f":"'PROPERTY MONUMENTS'!B140","v":0},null,null,null,null,null,null,{"$f":"'PROPERTY MONUMENTS'!C140","v":0},null,null,null,null,{"$f":"'PROPERTY MONUMENTS'!D140","v":0},null,null,null,{"$f":"'PROPERTY MONUMENTS'!E140","v":0},null,null,null,null,{"$f":"'PROPERTY MONUMENTS'!F140","v":0},null,null,null,null,null,{"$f":"'PROPERTY MONUMENTS'!H140","v":0},null,null,null,null,null,null,null,null,null,null,null,null,null,{"$f":"'PROPERTY MONUMENTS'!B220","v":0},null,null,null,null,null,null,{"$f":"'PROPERTY MONUMENTS'!C220","v":0},null,null,null,null,{"$f":"'PROPERTY MONUMENTS'!D220","v":0},null,null,null,{"$f":"'PROPERTY MONUMENTS'!E220","v":0},null,null,null,null,null,null,null,null,null,null,{"$f":"'PROPERTY MONUMENTS'!F220","v":0},null,null,null,null,null,{"$f":"'PROPERTY MONUMENTS'!H220","v":0},null,null,null,null,null,null,null,null,null,null,null,null,null,{"$f":"CONTROL!A123","v":0},null,null,null,{"$f":"CONTROL!B123","v":0},null,null,null,null,null,null,{"$f":"CONTROL!C123","v":0},null,null,null,null,{"$f":"CONTROL!D123","v":0},null,null,null,{"$f":"CONTROL!E123","v":0},null,null,null,null,{"$f":"CONTROL!F123","v":0},null,null,null,null,{"$f":"CONTROL!G123","v":0},null,null,null,{"$f":"CONTROL!H123","v":0}]
[null,null,{"$f":"'PROPERTY MONUMENTS'!B141","v":0},null,null,null,null,null,null,{"$f":"'PROPERTY MONUMENTS'!C141","v":0},null,null,null,null,{"$f":"'PROPERTY MONUMENTS'!D141","v":0},null,null,null,{"$f":"'PROPERTY MONUMENTS'!E141","v":0},null,null,null,null,{"$f":"'PROPERTY MONUMENTS'!F141","v":0},null,null,null,null,null,{"$f":"'PROPERTY MONUMENTS'!H141","v":0},null,null,null,null,null,null,null,null,null,null,null,null,null,{"$f":"'PROPERTY MONUMENTS'!B221","v":0},null,null,null,null,null,null,{"$f":"'PROPERTY MONUMENTS'!C221","v":0},null,null,null,null,{"$f":"'PROPERTY MONUMENTS'!D221","v":0},null,null,null,{"$f":"'PROPERTY MONUMENTS'!E221","v":0},null,null,null,null,null,null,null,null,null,null,{"$f":"'PROPERTY MONUMENTS'!F221","v":0},null,null,null,null,null,{"$f":"'PROPERTY MONUMENTS'!H221","v":0},null,null,null,null,null,null,null,null,null,null,null,null,null,{"$f":"CONTROL!A124","v":0},null,null,null,{"$f":"CONTROL!B124","v":0},null,null,null,null,null,null,{"$f":"CONTROL!C124","v":0},null,null,null,null,{"$f":"CONTROL!D124","v":0},null,null,null,{"$f":"CONTROL!E124","v":0},null,null,null,null,{"$f":"CONTROL!F124","v":0},null,null,null,null,{"$f":"CONTROL!G124","v":0},null,null,null,{"$f":"CONTROL!H124","v":0}]
[null,null,{"$f":"'PROPERTY MONUMENTS'!B142","v":0},null,null,null,null,null,null,{"$f":"'PROPERTY MONUMENTS'!C142","v":0},null,null,null,null,{"$f":"'PROPERTY MONUMENTS'!D142","v":0},null,null,null,{"$f":"'PROPERTY MONUMENTS'!E142","v":0},null,null,null,null,{"$f":"'PROPERTY MONUMENTS'!F142","v":0},null,null,null,null,null,{"$f":"'PROPERTY MONUMENTS'!H142","v":0},null,null,null,null,null,null,null,null,null,null,null,null,null,{"$f":"'PROPERTY MONUMENTS'!B222","v":0},null,null,null,null,null,null,{"$f":"'PROPERTY MONUMENTS'!C222","v":0},null,null,null,null,{"$f":"'PROPERTY MONUMENTS'!D222","v":0},null,null,null,{"$f":"'PROPERTY MONUMENTS'!E222","v":0},null,null,null,null,null,null,null,null,null,null,{"$f":"'PROPERTY MONUMENTS'!F222","v":0},null,null,null,null,null,{"$f":"'PROPERTY MONUMENTS'!H222","v":0},null,null,null,null,null,null,null,null,null,null,null,null,null,{"$f":"CONTROL!A125","v":0},null,null,null,{"$f":"CONTROL!B125","v":0},null,null,null,null,null,null,{"$f":"CONTROL!C125","v":0},null,null,null,null,{"$f":"CONTROL!D125","v":0},null,null,null,{"$f":"CONTROL!E125","v":0},null,null,null,null,{"$f":"CONTROL!F125","v":0},null,null,null,null,{"$f":"CONTROL!G125","v":0},null,null,null,{"$f":"CONTROL!H125","v":0}]
[null,null,{"$f":"'PROPERTY MONUMENTS'!B143","v":0},null,null,null,null,null,null,{"$f":"'PROPERTY MONUMENTS'!C143","v":0},null,null,null,null,{"$f":"'PROPERTY MONUMENTS'!D143","v":0},null,null,null,{"$f":"'PROPERTY MONUMENTS'!E143","v":0},null,null,null,null,{"$f":"'PROPERTY MONUMENTS'!F143","v":0},null,null,null,null,null,{"$f":"'PROPERTY MONUMENTS'!H143","v":0},null,null,null,null,null,null,null,null,null,null,null,null,null,{"$f":"'PROPERTY MONUMENTS'!B223","v":0},null,null,null,null,null,null,{"$f":"'PROPERTY MONUMENTS'!C223","v":0},null,null,null,null,{"$f":"'PROPERTY MONUMENTS'!D223","v":0},null,null,null,{"$f":"'PROPERTY MONUMENTS'!E223","v":0},null,null,null,null,null,null,null,null,null,null,{"$f":"'PROPERTY MONUMENTS'!F223","v":0},null,null,null,null,null,{"$f":"'PROPERTY MONUMENTS'!H223","v":0},null,null,null,null,null,null,null,null,null,null,null,null,null,{"$f":"CONTROL!A126","v":0},null,null,null,{"$f":"CONTROL!B126","v":0},null,null,null,null,null,null,{"$f":"CONTROL!C126","v":0},null,null,null,null,{"$f":"CONTROL!D126","v":0},null,null,null,{"$f":"CONTROL!E126","v":0},null,null,null,null,{"$f":"CONTROL!F126","v":0},null,null,null,null,{"$f":"CONTROL!G126","v":0},null,null,null,{"$f":"CONTROL!H126","v":0}]
[null,null,{"$f":"'PROPERTY MONUMENTS'!B144","v":0},null,null,null,null,null,null,{"$f":"'PROPERTY MONUMENTS'!C144","v":0},null,null,null,null,{"$f":"'PROPERTY MONUMENTS'!D144","v":0},null,null,null,{"$f":"'PROPERTY MONUMENTS'!E144","v":0},null,null,null,null,{"$f":"'PROPERTY MONUMENTS'!F144","v":0},null,null,null,null,null,{"$f":"'PROPERTY MONUMENTS'!H144","v":0},null,null,null,null,null,null,null,null,null,null,null,null,null,{"$f":"'PROPERTY MONUMENTS'!B224","v":0},null,null,null,null,null,null,{"$f":"'PROPERTY MONUMENTS'!C224","v":0},null,null,null,null,{"$f":"'PROPERTY MONUMENTS'!D224","v":0},null,null,null,{"$f":"'PROPERTY MONUMENTS'!E224","v":0},null,null,null,null,null,null,null,null,null,null,{"$f":"'PROPERTY MONUMENTS'!F224","v":0},null,null,null,null,null,{"$f":"'PROPERTY MONUMENTS'!H224","v":0},null,null,null,null,null,null,null,null,null,null,null,null,null,{"$f":"CONTROL!A127","v":0},null,null,null,{"$f":"CONTROL!B127","v":0},null,null,null,null,null,null,{"$f":"CONTROL!C127","v":0},null,null,null,null,{"$f":"CONTROL!D127","v":0},null,null,null,{"$f":"CONTROL!E127","v":0},null,null,null,null,{"$f":"CONTROL!F127","v":0},null,null,null,null,{"$f":"CONTROL!G127","v":0},null,null,null,{"$f":"CONTROL!H127","v":0}]
[null,null,{"$f":"'PROPERTY MONUMENTS'!B145","v":0},null,null,null,null,null,null,{"$f":"'PROPERTY MONUMENTS'!C145","v":0},null,null,null,null,{"$f":"'PROPERTY MONUMENTS'!D145","v":0},null,null,null,{"$f":"'PROPERTY MONUMENTS'!E145","v":0},null,null,null,null,{"$f":"'PROPERTY MONUMENTS'!F145","v":0},null,null,null,null,null,{"$f":"'PROPERTY MONUMENTS'!H145","v":0},null,null,null,null,null,null,null,null,null,null,null,null,null,{"$f":"'PROPERTY MONUMENTS'!B225","v":0},null,null,null,null,null,null,{"$f":"'PROPERTY MONUMENTS'!C225","v":0},null,null,null,null,{"$f":"'PROPERTY MONUMENTS'!D225","v":0},null,null,null,{"$f":"'PROPERTY MONUMENTS'!E225","v":0},null,null,null,null,null,null,null,null,null,null,{"$f":"'PROPERTY MONUMENTS'!F225","v":0},null,null,null,null,null,{"$f":"'PROPERTY MONUMENTS'!H225","v":0},null,null,null,null,null,null,null,null,null,null,null,null,null,{"$f":"CONTROL!A128","v":0},null,null,null,{"$f":"CONTROL!B128","v":0},null,null,null,null,null,null,{"$f":"CONTROL!C128","v":0},null,null,null,null,{"$f":"CONTROL!D128","v":0},null,null,null,{"$f":"CONTROL!E128","v":0},null,null,null,null,{"$f":"CONTROL!F128","v":0},null,null,null,null,{"$f":"CONTROL!G128","v":0},null,null,null,{"$f":"CONTROL!H128","v":0}]
[null,null,{"$f":"'PROPERTY MONUMENTS'!B146","v":0},null,null,null,null,null,null,{"$f":"'PROPERTY MONUMENTS'!C146","v":0},null,null,null,null,{"$f":"'PROPERTY MONUMENTS'!D146","v":0},null,null,null,{"$f":"'PROPERTY MONUMENTS'!E146","v":0},null,null,null,null,{"$f":"'PROPERTY MONUMENTS'!F146","v":0},null,null,null,null,null,{"$f":"'PROPERTY MONUMENTS'!H146","v":0},null,null,null,null,null,null,null,null,null,null,null,null,null,{"$f":"'PROPERTY MONUMENTS'!B226","v":0},null,null,null,null,null,null,{"$f":"'PROPERTY MONUMENTS'!C226","v":0},null,null,null,null,{"$f":"'PROPERTY MONUMENTS'!D226","v":0},null,null,null,{"$f":"'PROPERTY MONUMENTS'!E226","v":0},null,null,null,null,null,null,null,null,null,null,{"$f":"'PROPERTY MONUMENTS'!F226","v":0},null,null,null,null,null,{"$f":"'PROPERTY MONUMENTS'!H226","v":0},null,null,null,null,null,null,null,null,null,null,null,null,null,{"$f":"CONTROL!A129","v":0},null,null,null,{"$f":"CONTROL!B129","v":0},null,null,null,null,null,null,{"$f":"CONTROL!C129","v":0},null,null,null,null,{"$f":"CONTROL!D129","v":0},null,null,null,{"$f":"CONTROL!E129","v":0},null,null,null,null,{"$f":"CONTROL!F129","v":0},null,null,null,null,{"$f":"CONTROL!G129","v":0},null,null,null,{"$f":"CONTROL!H129","v":0}]
[null,null,{"$f":"'PROPERTY MONUMENTS'!B147","v":0},null,null,null,null,null,null,{"$f":"'PROPERTY MONUMENTS'!C147","v":0},null,null,null,null,{"$f":"'PROPERTY MONUMENTS'!D147","v":0},null,null,null,{"$f":"'PROPERTY MONUMENTS'!E147","v":0},null,null,null,null,{"$f":"'PROPERTY MONUMENTS'!F147","v":0},null,null,null,null,null,{"$f":"'PROPERTY MONUMENTS'!H147","v":0},null,null,null,null,null,null,null,null,null,null,null,null,null,{"$f":"'PROPERTY MONUMENTS'!B227","v":0},null,null,null,null,null,null,{"$f":"'PROPERTY MONUMENTS'!C227","v":0},null,null,null,null,{"$f":"'PROPERTY MONUMENTS'!D227","v":0},null,null,null,{"$f":"'PROPERTY MONUMENTS'!E227","v":0},null,null,null,null,null,null,null,null,null,null,{"$f":"'PROPERTY MONUMENTS'!F227","v":0},null,null,null,null,null,{"$f":"'PROPERTY MONUMENTS'!H227","v":0},null,null,null,null,null,null,null,null,null,null,null,null,null,{"$f":"CONTROL!A130","v":0},null,null,null,{"$f":"CONTROL!B130","v":0},null,null,null,null,null,null,{"$f":"CONTROL!C130","v":0},null,null,null,null,{"$f":"CONTROL!D130","v":0},null,null,null,{"$f":"CONTROL!E130","v":0},null,null,null,null,{"$f":"CONTROL!F130","v":0},null,null,null,null,{"$f":"CONTROL!G130","v":0},null,null,null,{"$f":"CONTROL!H130","v":0}]
[null,null,{"$f":"'PROPERTY MONUMENTS'!B148","v":0},null,null,null,null,null,null,{"$f":"'PROPERTY MONUMENTS'!C148","v":0},null,null,null,null,{"$f":"'PROPERTY MONUMENTS'!D148","v":0},null,null,null,{"$f":"'PROPERTY MONUMENTS'!E148","v":0},null,null,null,null,{"$f":"'PROPERTY MONUMENTS'!F148","v":0},null,null,null,null,null,{"$f":"'PROPERTY MONUMENTS'!H148","v":0},null,null,null,null,null,null,null,null,null,null,null,null,null,{"$f":"'PROPERTY MONUMENTS'!B228","v":0},null,null,null,null,null,null,{"$f":"'PROPERTY MONUMENTS'!C228","v":0},null,null,null,null,{"$f":"'PROPERTY MONUMENTS'!D228","v":0},null,null,null,{"$f":"'PROPERTY MONUMENTS'!E228","v":0},null,null,null,null,null,null,null,null,null,null,{"$f":"'PROPERTY MONUMENTS'!F228","v":0},null,null,null,null,null,{"$f":"'PROPERTY MONUMENTS'!H228","v":0},null,null,null,null,null,null,null,null,null,null,null,null,null,{"$f":"CONTROL!A131","v":0},null,null,null,{"$f":"CONTROL!B131","v":0},null,null,null,null,null,null,{"$f":"CONTROL!C131","v":0},null,null,null,null,{"$f":"CONTROL!D131","v":0},null,null,null,{"$f":"CONTROL!E131","v":0},null,null,null,null,{"$f":"CONTROL!F131","v":0},null,null,null,null,{"$f":"CONTROL!G131","v":0},null,null,null,{"$f":"CONTROL!H131","v":0}]
[null,null,{"$f":"'PROPERTY MONUMENTS'!B149","v":0},null,null,null,null,null,null,{"$f":"'PROPERTY MONUMENTS'!C149","v":0},null,null,null,null,{"$f":"'PROPERTY MONUMENTS'!D149","v":0},null,null,null,{"$f":"'PROPERTY MONUMENTS'!E149","v":0},null,null,null,null,{"$f":"'PROPERTY MONUMENTS'!F149","v":0},null,null,null,null,null,{"$f":"'PROPERTY MONUMENTS'!H149","v":0},null,null,null,null,null,null,null,null,null,null,null,null,null,{"$f":"'PROPERTY MONUMENTS'!B229","v":0},null,null,null,null,null,null,{"$f":"'PROPERTY MONUMENTS'!C229","v":0},null,null,null,null,{"$f":"'PROPERTY MONUMENTS'!D229","v":0},null,null,null,{"$f":"'PROPERTY MONUMENTS'!E229","v":0},null,null,null,null,null,null,null,null,null,null,{"$f":"'PROPERTY MONUMENTS'!F229","v":0},null,null,null,null,null,{"$f":"'PROPERTY MONUMENTS'!H229","v":0},null,null,null,null,null,null,null,null,null,null,null,null,null,{"$f":"CONTROL!A132","v":0},null,null,null,{"$f":"CONTROL!B132","v":0},null,null,null,null,null,null,{"$f":"CONTROL!C132","v":0},null,null,null,null,{"$f":"CONTROL!D132","v":0},null,null,null,{"$f":"CONTROL!E132","v":0},null,null,null,null,{"$f":"CONTROL!F132","v":0},null,null,null,null,{"$f":"CONTROL!G132","v":0},null,null,null,{"$f":"CONTROL!H132","v":0}]
[null,null,{"$f":"'PROPERTY MONUMENTS'!B150","v":0},null,null,null,null,null,null,{"$f":"'PROPERTY MONUMENTS'!C150","v":0},null,null,null,null,{"$f":"'PROPERTY MONUMENTS'!D150","v":0},null,null,null,{"$f":"'PROPERTY MONUMENTS'!E150","v":0},null,null,null,null,{"$f":"'PROPERTY MONUMENTS'!F150","v":0},null,null,null,null,null,{"$f":"'PROPERTY MONUMENTS'!H150","v":0},null,null,null,null,null,null,null,null,null,null,null,null,null,{"$f":"'PROPERTY MONUMENTS'!B230","v":0},null,null,null,null,null,null,{"$f":"'PROPERTY MONUMENTS'!C230","v":0},null,null,null,null,{"$f":"'PROPERTY MONUMENTS'!D230","v":0},null,null,null,{"$f":"'PROPERTY MONUMENTS'!E230","v":0},null,null,null,null,null,null,null,null,null,null,{"$f":"'PROPERTY MONUMENTS'!F230","v":0},null,null,null,null,null,{"$f":"'PROPERTY MONUMENTS'!H230","v":0},null,null,null,null,null,null,null,null,null,null,null,null,null,{"$f":"CONTROL!A133","v":0},null,null,null,{"$f":"CONTROL!B133","v":0},null,null,null,null,null,null,{"$f":"CONTROL!C133","v":0},null,null,null,null,{"$f":"CONTROL!D133","v":0},null,null,null,{"$f":"CONTROL!E133","v":0},null,null,null,null,{"$f":"CONTROL!F133","v":0},null,null,null,null,{"$f":"CONTROL!G133","v":0},null,null,null,{"$f":"CONTROL!H133","v":0}]
[null,null,{"$f":"'PROPERTY MONUMENTS'!B151","v":0},null,null,null,null,null,null,{"$f":"'PROPERTY MONUMENTS'!C151","v":0},null,null,null,null,{"$f":"'PROPERTY MONUMENTS'!D151","v":0},null,null,null,{"$f":"'PROPERTY MONUMENTS'!E151","v":0},null,null,null,null,{"$f":"'PROPERTY MONUMENTS'!F151","v":0},null,null,null,null,null,{"$f":"'PROPERTY MONUMENTS'!H151","v":0},null,null,null,null,null,null,null,null,null,null,null,null,null,{"$f":"'PROPERTY MONUMENTS'!B231","v":0},null,null,null,null,null,null,{"$f":"'PROPERTY MONUMENTS'!C231","v":0},null,null,null,null,{"$f":"'PROPERTY MONUMENTS'!D231","v":0},null,null,null,{"$f":"'PROPERTY MONUMENTS'!E231","v":0},null,null,null,null,null,null,null,null,null,null,{"$f":"'PROPERTY MONUMENTS'!F231","v":0},null,null,null,null,null,{"$f":"'PROPERTY MONUMENTS'!H231","v":0},null,null,null,null,null,null,null,null,null,null,null,null,null,{"$f":"CONTROL!A134","v":0},null,null,null,{"$f":"CONTROL!B134","v":0},null,null,null,null,null,null,{"$f":"CONTROL!C134","v":0},null,null,null,null,{"$f":"CONTROL!D134","v":0},null,null,null,{"$f":"CONTROL!E134","v":0},null,null,null,null,{"$f":"CONTROL!F134","v":0},null,null,null,null,{"$f":"CONTROL!G134","v":0},null,null,null,{"$f":"CONTROL!H134","v":0}]
[null,null,{"$f":"'PROPERTY MONUMENTS'!B152","v":0},null,null,null,null,null,null,{"$f":"'PROPERTY MONUMENTS'!C152","v":0},null,null,null,null,{"$f":"'PROPERTY MONUMENTS'!D152","v":0},null,null,null,{"$f":"'PROPERTY MONUMENTS'!E152","v":0},null,null,null,null,{"$f":"'PROPERTY MONUMENTS'!F152","v":0},null,null,null,null,null,{"$f":"'PROPERTY MONUMENTS'!H152","v":0},null,null,null,null,null,null,null,null,null,null,null,null,null,{"$f":"'PROPERTY MONUMENTS'!B232","v":0},null,null,null,null,null,null,{"$f":"'PROPERTY MONUMENTS'!C232","v":0},null,null,null,null,{"$f":"'PROPERTY MONUMENTS'!D232","v":0},null,null,null,{"$f":"'PROPERTY MONUMENTS'!E232","v":0},null,null,null,null,null,null,null,null,null,null,{"$f":"'PROPERTY MONUMENTS'!F232","v":0},null,null,null,null,null,{"$f":"'PROPERTY MONUMENTS'!H232","v":0},null,null,null,null,null,null,null,null,null,null,null,null,null,{"$f":"CONTROL!A135","v":0},null,null,null,{"$f":"CONTROL!B135","v":0},null,null,null,null,null,null,{"$f":"CONTROL!C135","v":0},null,null,null,null,{"$f":"CONTROL!D135","v":0},null,null,null,{"$f":"CONTROL!E135","v":0},null,null,null,null,{"$f":"CONTROL!F135","v":0},null,null,null,null,{"$f":"CONTROL!G135","v":0},null,null,null,{"$f":"CONTROL!H135","v":0}]
[null,null,{"$f":"'PROPERTY MONUMENTS'!B153","v":0},null,null,null,null,null,null,{"$f":"'PROPERTY MONUMENTS'!C153","v":0},null,null,null,null,{"$f":"'PROPERTY MONUMENTS'!D153","v":0},null,null,null,{"$f":"'PROPERTY MONUMENTS'!E153","v":0},null,null,null,null,{"$f":"'PROPERTY MONUMENTS'!F153","v":0},null,null,null,null,null,{"$f":"'PROPERTY MONUMENTS'!H153","v":0},null,null,null,null,null,null,null,null,null,null,null,null,null,{"$f":"'PROPERTY MONUMENTS'!B233","v":0},null,null,null,null,null,null,{"$f":"'PROPERTY MONUMENTS'!C233","v":0},null,null,null,null,{"$f":"'PROPERTY MONUMENTS'!D233","v":0},null,null,null,{"$f":"'PROPERTY MONUMENTS'!E233","v":0},null,null,null,null,null,null,null,null,null,null,{"$f":"'PROPERTY MONUMENTS'!F233","v":0},null,null,null,null,null,{"$f":"'PROPERTY MONUMENTS'!H233","v":0},null,null,null,null,null,null,null,null,null,null,null,null,null,{"$f":"CONTROL!A136","v":0},null,null,null,{"$f":"CONTROL!B136","v":0},null,null,null,null,null,null,{"$f":"CONTROL!C136","v":0},null,null,null,null,{"$f":"CONTROL!D136","v":0},null,null,null,{"$f":"CONTROL!E136","v":0},null,null,null,null,{"$f":"CONTROL!F136","v":0},null,null,null,null,{"$f":"CONTROL!G136","v":0},null,null,null,{"$f":"CONTROL!H136","v":0}]
[null,null,{"$f":"'PROPERTY MONUMENTS'!B154","v":0},null,null,null,null,null,null,{"$f":"'PROPERTY MONUMENTS'!C154","v":0},null,null,null,null,{"$f":"'PROPERTY MONUMENTS'!D154","v":0},null,null,null,{"$f":"'PROPERTY MONUMENTS'!E154","v":0},null,null,null,null,{"$f":"'PROPERTY MONUMENTS'!F154","v":0},null,null,null,null,null,{"$f":"'PROPERTY MONUMENTS'!H154","v":0}]
[null,null,{"$f":"'PROPERTY MONUMENTS'!B155","v":0},null,null,null,null,null,null,{"$f":"'PROPERTY MONUMENTS'!C155","v":0},null,null,null,null,{"$f":"'PROPERTY MONUMENTS'!D155","v":0},null,null,null,{"$f":"'PROPERTY MONUMENTS'!E155","v":0},null,null,null,null,{"$f":"'PROPERTY MONUMENTS'!F155","v":0},null,null,null,null,null,{"$f":"'PROPERTY MONUMENTS'!H155","v":0},null,null,null,null,null,null,null,null,"NOTES:",null,null,null,null,null,null,null,null,null,null,null,null,null,null,null,null,null,null,null,null,null,null,null,null,null,null,null,null,null,null,null,null,null,null,null,null,null,null,null,null,null,null,null,null,null,null,null,null,null,null,null,null,null,null,null,null,null,null,null,null,null,null,null,null,"SURVEY CONTROL DATA"]
[null,null,{"$f":"'PROPERTY MONUMENTS'!B156","v":0},null,null,null,null,null,null,{"$f":"'PROPERTY MONUMENTS'!C156","v":0},null,null,null,null,{"$f":"'PROPERTY MONUMENTS'!D156","v":0},null,null,null,{"$f":"'PROPERTY MONUMENTS'!E156","v":0},null,null,null,null,{"$f":"'PROPERTY MONUMENTS'!F156","v":0},null,null,null,null,null,{"$f":"'PROPERTY MONUMENTS'!H156","v":0}]
[null,null,{"$f":"'PROPERTY MONUMENTS'!B157","v":0},null,null,null,null,null,null,{"$f":"'PROPERTY MONUMENTS'!C157","v":0},null,null,null,null,{"$f":"'PROPERTY MONUMENTS'!D157","v":0},null,null,null,{"$f":"'PROPERTY MONUMENTS'!E157","v":0},null,null,null,null,{"$f":"'PROPERTY MONUMENTS'!F157","v":0},null,null,null,null,null,{"$f":"'PROPERTY MONUMENTS'!H157","v":0},null,null,null,null,null,null,null,null,"1. The alignment Station and Offset are referenced to the existing Survey Centerline."]
[null,null,{"$f":"'PROPERTY MONUMENTS'!B158","v":0},null,null,null,null,null,null,{"$f":"'PROPERTY MONUMENTS'!C158","v":0},null,null,null,null,{"$f":"'PROPERTY MONUMENTS'!D158","v":0},null,null,null,{"$f":"'PROPERTY MONUMENTS'!E158","v":0},null,null,null,null,{"$f":"'PROPERTY MONUMENTS'!F158","v":0},null,null,null,null,null,{"$f":"'PROPERTY MONUMENTS'!H158","v":0},null,null,null,null,null,null,null,null,"2. Date of Survey:",null,null,null,null,null,null,null,null,null,null,null,null,null,null,null,null,null,null,null,null,null,null,null,null,null,null,null,null,null,null,null,null,null,null,null,null,null,null,null,null,null,null,null,null,null,"PROJECT DESCRIPTION"]
[null,null,{"$f":"'PROPERTY MONUMENTS'!B159","v":0},null,null,null,null,null,null,{"$f":"'PROPERTY MONUMENTS'!C159","v":0},null,null,null,null,{"$f":"'PROPERTY MONUMENTS'!D159","v":0},null,null,null,{"$f":"'PROPERTY MONUMENTS'!E159","v":0},null,null,null,null,{"$f":"'PROPERTY MONUMENTS'!F159","v":0},null,null,null,null,null,{"$f":"'PROPERTY MONUMENTS'!H159","v":0}]
[null,null,{"$f":"'PROPERTY MONUMENTS'!B160","v":0},null,null,null,null,null,null,{"$f":"'PROPERTY MONUMENTS'!C160","v":0},null,null,null,null,{"$f":"'PROPERTY MONUMENTS'!D160","v":0},null,null,null,{"$f":"'PROPERTY MONUMENTS'!E160","v":0},null,null,null,null,{"$f":"'PROPERTY MONUMENTS'!F160","v":0},null,null,null,null,null,{"$f":"'PROPERTY MONUMENTS'!H160","v":0}]
[null,null,{"$f":"'PROPERTY MONUMENTS'!B161","v":0},null,null,null,null,null,null,{"$f":"'PROPERTY MONUMENTS'!C161","v":0},null,null,null,null,{"$f":"'PROPERTY MONUMENTS'!D161","v":0},null,null,null,{"$f":"'PROPERTY MONUMENTS'!E161","v":0},null,null,null,null,{"$f":"'PROPERTY MONUMENTS'!F161","v":0},null,null,null,null,null,{"$f":"'PROPERTY MONUMENTS'!H161","v":0}]
[null,null,{"$f":"'PROPERTY MONUMENTS'!B162","v":0},null,null,null,null,null,null,{"$f":"'PROPERTY MONUMENTS'!C162","v":0},null,null,null,null,{"$f":"'PROPERTY MONUMENTS'!D162","v":0},null,null,null,{"$f":"'PROPERTY MONUMENTS'!E162","v":0},null,null,null,null,{"$f":"'PROPERTY MONUMENTS'!F162","v":0},null,null,null,null,null,{"$f":"'PROPERTY MONUMENTS'!H162","v":0},null,null,null,null,null,null,null,null,null,null,null,null,null,null,null,null,null,null,null,null,null,null,null,null,null,null,null,null,null,null,null,null,null,null,null,null,null,null,null,null,null,null,null,null,null,null,null,null,null,null,null,null,null,null,"DATUM DESCRIPTION"]
[null,null,{"$f":"'PROPERTY MONUMENTS'!B163","v":0},null,null,null,null,null,null,{"$f":"'PROPERTY MONUMENTS'!C163","v":0},null,null,null,null,{"$f":"'PROPERTY MONUMENTS'!D163","v":0},null,null,null,{"$f":"'PROPERTY MONUMENTS'!E163","v":0},null,null,null,null,{"$f":"'PROPERTY MONUMENTS'!F163","v":0},null,null,null,null,null,{"$f":"'PROPERTY MONUMENTS'!H163","v":0},null,null,null,null,null,null,null,null,null,null,null,null,null,null,null,null,null,null,null,null,null,null,null,null,null,null,null,null,null,null,null,null,null,null,null,null,null,null,null,null,null,null,null,null,null,null,null,null,null,null,null,null,null,null,{"$f":"DATUM!A71","v":"This GRID Coordinate System developed for this project is based on NAD83(2011)  South Carolina State Plane Coordinate System. A Combined Scale Factor (CSF) for each Survey Control Point must be computed and applied to horizontal ground distances. Elevations for this project are based on NAVD88 for  with an Elevation of 0.00"}]
[null,null,{"$f":"'PROPERTY MONUMENTS'!B164","v":0},null,null,null,null,null,null,{"$f":"'PROPERTY MONUMENTS'!C164","v":0},null,null,null,null,{"$f":"'PROPERTY MONUMENTS'!D164","v":0},null,null,null,{"$f":"'PROPERTY MONUMENTS'!E164","v":0},null,null,null,null,{"$f":"'PROPERTY MONUMENTS'!F164","v":0},null,null,null,null,null,{"$f":"'PROPERTY MONUMENTS'!H164","v":0}]
[null,null,{"$f":"'PROPERTY MONUMENTS'!B165","v":0},null,null,null,null,null,null,{"$f":"'PROPERTY MONUMENTS'!C165","v":0},null,null,null,null,{"$f":"'PROPERTY MONUMENTS'!D165","v":0},null,null,null,{"$f":"'PROPERTY MONUMENTS'!E165","v":0},null,null,null,null,{"$f":"'PROPERTY MONUMENTS'!F165","v":0},null,null,null,null,null,{"$f":"'PROPERTY MONUMENTS'!H165","v":0}]
[null,null,{"$f":"'PROPERTY MONUMENTS'!B166","v":0},null,null,null,null,null,null,{"$f":"'PROPERTY MONUMENTS'!C166","v":0},null,null,null,null,{"$f":"'PROPERTY MONUMENTS'!D166","v":0},null,null,null,{"$f":"'PROPERTY MONUMENTS'!E166","v":0},null,null,null,null,{"$f":"'PROPERTY MONUMENTS'!F166","v":0},null,null,null,null,null,{"$f":"'PROPERTY MONUMENTS'!H166","v":0},null,null,null,null,null,null,null,null,"The Property Monuments Found listed on this sheet are assumed to be property corner monuments, field located during "]
[null,null,{"$f":"'PROPERTY MONUMENTS'!B167","v":0},null,null,null,null,null,null,{"$f":"'PROPERTY MONUMENTS'!C167","v":0},null,null,null,null,{"$f":"'PROPERTY MONUMENTS'!D167","v":0},null,null,null,{"$f":"'PROPERTY MONUMENTS'!E167","v":0},null,null,null,null,{"$f":"'PROPERTY MONUMENTS'!F167","v":0},null,null,null,null,null,{"$f":"'PROPERTY MONUMENTS'!H167","v":0},null,null,null,null,null,null,null,null,"the course of this survey. The Department makes no claim that these located monuments are the true position of any "]
[null,null,{"$f":"'PROPERTY MONUMENTS'!B168","v":0},null,null,null,null,null,null,{"$f":"'PROPERTY MONUMENTS'!C168","v":0},null,null,null,null,{"$f":"'PROPERTY MONUMENTS'!D168","v":0},null,null,null,{"$f":"'PROPERTY MONUMENTS'!E168","v":0},null,null,null,null,{"$f":"'PROPERTY MONUMENTS'!F168","v":0},null,null,null,null,null,{"$f":"'PROPERTY MONUMENTS'!H168","v":0},null,null,null,null,null,null,null,null,"property and takes no responsibility for this information being used as such. These monuments are tied to the control of this"]
[null,null,{"$f":"'PROPERTY MONUMENTS'!B169","v":0},null,null,null,null,null,null,{"$f":"'PROPERTY MONUMENTS'!C169","v":0},null,null,null,null,{"$f":"'PROPERTY MONUMENTS'!D169","v":0},null,null,null,{"$f":"'PROPERTY MONUMENTS'!E169","v":0},null,null,null,null,{"$f":"'PROPERTY MONUMENTS'!F169","v":0},null,null,null,null,null,{"$f":"'PROPERTY MONUMENTS'!H169","v":0},null,null,null,null,null,null,null,null,"project in an effort to document and preserve their location in the event they are disturbed or destroyed during the"]
[null,null,{"$f":"'PROPERTY MONUMENTS'!B170","v":0},null,null,null,null,null,null,{"$f":"'PROPERTY MONUMENTS'!C170","v":0},null,null,null,null,{"$f":"'PROPERTY MONUMENTS'!D170","v":0},null,null,null,{"$f":"'PROPERTY MONUMENTS'!E170","v":0},null,null,null,null,{"$f":"'PROPERTY MONUMENTS'!F170","v":0},null,null,null,null,null,{"$f":"'PROPERTY MONUMENTS'!H170","v":0},null,null,null,null,null,null,null,null,"construction of the project."]

{"sheet":"SCDS 5C","index":17,"n_rows":87,"n_cols":137,"rows_kept":87,"cut":false,"hidden":false,"merged":[[78,84,78,120],[78,38,78,83],[79,38,79,83],[80,38,80,83],[81,38,81,83],[82,38,82,83],[83,38,83,83],[84,38,84,83],[85,38,85,83],[86,38,86,83],[86,2,86,8],[86,9,86,13],[86,14,86,17],[86,18,86,22],[86,23,86,28],[86,29,86,36],[85,2,85,8],[85,9,85,13],[85,14,85,17],[85,18,85,22],[85,23,85,28],[85,29,85,36],[84,2,84,8],[84,9,84,13],[84,14,84,17],[84,18,84,22],[84,23,84,28],[84,29,84,36],[83,14,83,17],[83,18,83,22],[83,23,83,28],[83,29,83,36],[77,18,77,22],[77,23,77,28],[77,29,77,36],[82,2,82,8],[82,9,82,13],[82,14,82,17],[82,18,82,22],[82,23,82,28],[82,29,82,36],[80,9,80,13],[80,14,80,17],[80,18,80,22],[80,23,80,28],[80,29,80,36],[81,2,81,8],[81,9,81,13],[81,14,81,17],[81,18,81,22],[81,23,81,28],[81,29,81,36],[83,2,83,8],[83,9,83,13],[74,84,74,120],[75,2,75,8],[75,9,75,13],[75,14,75,17],[75,18,75,22],[75,23,75,28],[75,29,75,36],[75,84,77,120],[74,2,74,8],[74,9,74,13],[74,14,74,17],[74,18,74,22],[74,23,74,28],[74,29,74,36],[79,2,79,8],[79,9,79,13],[79,14,79,17],[79,18,79,22],[79,23,79,28],[79,29,79,36],[79,84,86,120],[80,2,80,8],[78,2,78,8],[78,9,78,13],[78,14,78,17],[78,18,78,22],[78,23,78,28],[78,29,78,36],[77,2,77,8],[77,14,77,17],[73,9,73,13],[73,14,73,17],[73,18,73,22],[73,23,73,28],[73,29,73,36],[73,38,73,83],[74,38,74,83],[75,38,75,83],[76,38,76,83],[77,38,77,83],[71,84,73,102],[71,103,73,120],[72,2,72,8],[72,9,72,13],[72,14,72,17],[72,18,72,22],[72,23,72,28],[72,29,72,36],[73,2,73,8],[71,2,71,8],[71,9,71,13],[71,14,71,17],[71,18,71,22],[71,23,71,28],[71,29,71,36],[76,2,76,8],[76,9,76,13],[76,14,76,17],[76,18,76,22],[76,23,76,28],[76,29,76,36],[77,9,77,13],[70,2,70,8],[70,9,70,13],[70,14,70,17],[70,18,70,22],[70,23,70,28],[70,29,70,36],[71,38,72,83],[69,101,69,105],[69,106,69,109],[69,110,69,114],[69,115,69,119],[69,120,69,123],[69,124,69,132],[69,55,69,58],[69,59,69,69],[69,70,69,75],[69,76,69,83],[69,90,69,93],[69,94,69,100],[68,120,68,123],[68,124,68,132],[69,2,69,8],[69,9,69,13],[69,14,69,17],[69,18,69,22],[69,23,69,28],[69,29,69,36],[69,43,69,49],[69,50,69,54],[68,90,68,93],[68,94,68,100],[68,101,68,105],[68,106,68,109],[68,110,68,114],[68,115,68,119],[68,43,68,49],[68,50,68,54],[68,55,68,58],[68,59,68,69],[68,70,68,75],[68,76,68,83],[68,2,68,8],[68,9,68,13],[68,14,68,17],[68,18,68,22],[68,23,68,28],[68,29,68,36],[67,101,67,105],[67,106,67,109],[67,110,67,114],[67,115,67,119],[67,120,67,123],[67,124,67,132],[67,55,67,58],[67,59,67,69],[67,70,67,75],[67,76,67,83],[67,90,67,93],[67,94,67,100],[66,120,66,123],[66,124,66,132],[67,2,67,8],[67,9,67,13],[67,14,67,17],[67,18,67,22],[67,23,67,28],[67,29,67,36],[67,43,67,49],[67,50,67,54],[66,90,66,93],[66,94,66,100],[66,101,66,105],[66,106,66,109],[66,110,66,114],[66,115,66,119],[66,43,66,49],[66,50,66,54],[66,55,66,58],[66,59,66,69],[66,70,66,75],[66,76,66,83],[66,2,66,8],[66,9,66,13],[66,14,66,17],[66,18,66,22],[66,23,66,28],[66,29,66,36],[65,101,65,105],[65,106,65,109],[65,110,65,114],[65,115,65,119],[65,120,65,123],[65,124,65,132],[65,55,65,58],[65,59,65,69],[65,70,65,75],[65,76,65,83],[65,90,65,93],[65,94,65,100],[64,120,64,123],[64,124,64,132],[65,2,65,8],[65,9,65,13],[65,14,65,17],[65,18,65,22],[65,23,65,28],[65,29,65,36],[65,43,65,49],[65,50,65,54],[64,90,64,93],[64,94,64,100],[64,101,64,105],[64,106,64,109],[64,110,64,114],[64,115,64,119],[64,43,64,49],[64,50,64,54],[64,55,64,58],[64,59,64,69],[64,70,64,75],[64,76,64,83],[64,2,64,8],[64,9,64,13],[64,14,64,17],[64,18,64,22],[64,23,64,28],[64,29,64,36],[63,101,63,105],[63,106,63,109],[63,110,63,114],[63,115,63,119],[63,120,63,123],[63,124,63,132],[63,55,63,58],[63,59,63,69],[63,70,63,75],[63,76,63,83],[63,90,63,93],[63,94,63,100],[62,120,62,123],[62,124,62,132],[63,2,63,8],[63,9,63,13],[63,14,63,17],[63,18,63,22],[63,23,63,28],[63,29,63,36],[63,43,63,49],[63,50,63,54],[62,90,62,93],[62,94,62,100],[62,101,62,105],[62,106,62,109],[62,110,62,114],[62,115,62,119],[62,43,62,49],[62,50,62,54],[62,55,62,58],[62,59,62,69],[62,70,62,75],[62,76,62,83],[62,2,62,8],[62,9,62,13],[62,14,62,17],[62,18,62,22],[62,23,62,28],[62,29,62,36],[61,101,61,105],[61,106,61,109],[61,110,61,114],[61,115,61,119],[61,120,61,123],[61,124,61,132],[61,55,61,58],[61,59,61,69],[61,70,61,75],[61,76,61,83],[61,90,61,93],[61,94,61,100],[60,120,60,123],[60,124,60,132],[61,2,61,8],[61,9,61,13],[61,14,61,17],[61,18,61,22],[61,23,61,28],[61,29,61,36],[61,43,61,49],[61,50,61,54],[60,90,60,93],[60,94,60,100],[60,101,60,105],[60,106,60,109],[60,110,60,114],[60,115,60,119],[60,43,60,49],[60,50,60,54],[60,55,60,58],[60,59,60,69],[60,70,60,75],[60,76,60,83],[60,2,60,8],[60,9,60,13],[60,14,60,17],[60,18,60,22],[60,23,60,28],[60,29,60,36],[59,101,59,105],[59,106,59,109],[59,110,59,114],[59,115,59,119],[59,120,59,123],[59,124,59,132],[59,55,59,58],[59,59,59,69],[59,70,59,75],[59,76,59,83],[59,90,59,93],[59,94,59,100],[58,120,58,123],[58,124,58,132],[59,2,59,8],[59,9,59,13],[59,14,59,17],[59,18,59,22],[59,23,59,28],[59,29,59,36],[59,43,59,49],[59,50,59,54],[58,90,58,93],[58,94,58,100],[58,101,58,105],[58,106,58,109],[58,110,58,114],[58,115,58,119],[58,43,58,49],[58,50,58,54],[58,55,58,58],[58,59,58,69],[58,70,58,75],[58,76,58,83],[58,2,58,8],[58,9,58,13],[58,14,58,17],[58,18,58,22],[58,23,58,28],[58,29,58,36],[57,101,57,105],[57,106,57,109],[57,110,57,114],[57,115,57,119],[57,120,57,123],[57,124,57,132],[57,55,57,58],[57,59,57,69],[57,70,57,75],[57,76,57,83],[57,90,57,93],[57,94,57,100],[56,120,56,123],[56,124,56,132],[57,2,57,8],[57,9,57,13],[57,14,57,17],[57,18,57,22],[57,23,57,28],[57,29,57,36],[57,43,57,49],[57,50,57,54],[56,90,56,93],[56,94,56,100],[56,101,56,105],[56,106,56,109],[56,110,56,114],[56,115,56,119],[56,43,56,49],[56,50,56,54],[56,55,56,58],[56,59,56,69],[56,70,56,75],[56,76,56,83],[56,2,56,8],[56,9,56,13],[56,14,56,17],[56,18,56,22],[56,23,56,28],[56,29,56,36],[54,124,54,132],[55,101,55,105],[55,106,55,109],[55,110,55,114],[55,115,55,119],[55,120,55,123],[55,124,55,132],[55,55,55,58],[55,59,55,69],[55,70,55,75],[55,76,55,83],[55,90,55,93],[55,94,55,100],[55,2,55,8],[55,9,55,13],[55,14,55,17],[55,18,55,22],[55,23,55,28],[55,29,55,36],[55,43,55,49],[55,50,55,54],[54,14,54,17],[54,18,54,22],[54,23,54,28],[54,29,54,36],[54,43,54,49],[54,94,54,100],[54,101,54,105],[54,106,54,109],[54,110,54,114],[54,115,54,119],[54,120,54,123],[53,124,53,132],[54,2,54,8],[54,9,54,13],[52,18,52,22],[52,23,52,28],[52,29,52,36],[52,43,52,49],[52,50,52,54],[52,55,52,58],[53,76,53,83],[53,90,53,93],[53,94,53,100],[53,101,53,105],[53,106,53,109],[53,110,53,114],[53,29,53,36],[53,43,53,49],[53,50,53,54],[53,55,53,58],[53,59,53,69],[53,70,53,75],[52,124,52,132],[53,2,53,8],[53,9,53,13],[53,14,53,17],[53,18,53,22],[53,23,53,28],[52,59,52,69],[52,70,52,75],[52,76,52,83],[52,90,52,93],[52,94,52,100],[51,90,51,93],[52,106,52,109],[52,110,52,114],[52,115,52,119],[52,120,52,123],[50,115,50,119],[50,120,50,123],[54,50,54,54],[54,55,54,58],[54,59,54,69],[54,70,54,75],[54,76,54,83],[54,90,54,93],[53,115,53,119],[52,2,52,8],[52,9,52,13],[52,14,52,17],[53,120,53,123],[52,101,52,105],[50,124,50,132],[51,2,51,8],[51,9,51,13],[51,14,51,17],[51,18,51,22],[51,23,51,28],[51,29,51,36],[51,43,51,49],[50,76,50,83],[50,90,50,93],[50,94,50,100],[50,101,50,105],[50,106,50,109],[50,110,50,114],[50,29,50,36],[50,43,50,49],[50,50,50,54],[50,55,50,58],[50,59,50,69],[50,70,50,75],[51,124,51,132],[51,94,51,100],[51,101,51,105],[51,106,51,109],[51,110,51,114],[51,115,51,119],[51,120,51,123],[51,50,51,54],[51,55,51,58],[51,59,51,69],[51,70,51,75],[51,76,51,83],[49,106,49,109],[49,110,49,114],[49,115,49,119],[49,120,49,123],[49,124,49,132],[50,2,50,8],[50,9,50,13],[50,14,50,17],[50,18,50,22],[50,23,50,28],[49,59,49,69],[49,70,49,75],[49,76,49,83],[49,90,49,93],[49,94,49,100],[49,101,49,105],[48,124,48,132],[49,2,49,8],[49,9,49,13],[49,14,49,17],[49,18,49,22],[49,23,49,28],[49,29,49,36],[49,43,49,49],[49,50,49,54],[49,55,49,58],[48,94,48,100],[48,101,48,105],[48,106,48,109],[48,110,48,114],[48,115,48,119],[48,120,48,123],[48,50,48,54],[48,55,48,58],[48,59,48,69],[48,70,48,75],[48,76,48,83],[48,90,48,93],[47,115,47,119],[47,120,47,123],[47,124,47,132],[48,2,48,8],[48,9,48,13],[48,14,48,17],[48,18,48,22],[48,23,48,28],[48,29,48,36],[48,43,48,49],[47,76,47,83],[47,90,47,93],[47,94,47,100],[47,101,47,105],[47,106,47,109],[47,110,47,114],[47,29,47,36],[47,43,47,49],[47,50,47,54],[47,55,47,58],[47,59,47,69],[47,70,47,75],[46,106,46,109],[46,110,46,114],[46,115,46,119],[46,120,46,123],[46,124,46,132],[47,2,47,8],[47,9,47,13],[47,14,47,17],[47,18,47,22],[47,23,47,28],[46,59,46,69],[46,70,46,75],[46,76,46,83],[46,90,46,93],[46,94,46,100],[46,101,46,105],[45,124,45,132],[46,2,46,8],[46,9,46,13],[46,14,46,17],[46,18,46,22],[46,23,46,28],[46,29,46,36],[46,43,46,49],[46,50,46,54],[46,55,46,58],[45,94,45,100],[45,101,45,105],[45,106,45,109],[45,110,45,114],[45,115,45,119],[45,120,45,123],[45,50,45,54],[45,55,45,58],[45,59,45,69],[45,70,45,75],[45,76,45,83],[45,90,45,93],[44,115,44,119],[44,120,44,123],[44,124,44,132],[45,2,45,8],[45,9,45,13],[45,14,45,17],[45,18,45,22],[45,23,45,28],[45,29,45,36],[45,43,45,49],[44,76,44,83],[44,90,44,93],[44,94,44,100],[44,101,44,105],[44,106,44,109],[44,110,44,114],[44,29,44,36],[44,43,44,49],[44,50,44,54],[44,55,44,58],[44,59,44,69],[44,70,44,75],[43,106,43,109],[43,110,43,114],[43,115,43,119],[43,120,43,123],[43,124,43,132],[44,2,44,8],[44,9,44,13],[44,14,44,17],[44,18,44,22],[44,23,44,28],[43,59,43,69],[43,70,43,75],[43,76,43,83],[43,90,43,93],[43,94,43,100],[43,101,43,105],[42,124,42,132],[43,2,43,8],[43,9,43,13],[43,14,43,17],[43,18,43,22],[43,23,43,28],[43,29,43,36],[43,43,43,49],[43,50,43,54],[43,55,43,58],[42,94,42,100],[42,101,42,105],[42,106,42,109],[42,110,42,114],[42,115,42,119],[42,120,42,123],[42,50,42,54],[42,55,42,58],[42,59,42,69],[42,70,42,75],[42,76,42,83],[42,90,42,93],[41,115,41,119],[41,120,41,123],[41,124,41,132],[42,2,42,8],[42,9,42,13],[42,14,42,17],[42,18,42,22],[42,23,42,28],[42,29,42,36],[42,43,42,49],[41,76,41,83],[41,90,41,93],[41,94,41,100],[41,101,41,105],[41,106,41,109],[41,110,41,114],[41,29,41,36],[41,43,41,49],[41,50,41,54],[41,55,41,58],[41,59,41,69],[41,70,41,75],[40,106,40,109],[40,110,40,114],[40,115,40,119],[40,120,40,123],[40,124,40,132],[41,2,41,8],[41,9,41,13],[41,14,41,17],[41,18,41,22],[41,23,41,28],[40,59,40,69],[40,70,40,75],[40,76,40,83],[40,90,40,93],[40,94,40,100],[40,101,40,105],[39,124,39,132],[40,2,40,8],[40,9,40,13],[40,14,40,17],[40,18,40,22],[40,23,40,28],[40,29,40,36],[40,43,40,49],[40,50,40,54],[40,55,40,58],[39,94,39,100],[39,101,39,105],[39,106,39,109],[39,110,39,114],[39,115,39,119],[39,120,39,123],[39,50,39,54],[39,55,39,58],[39,59,39,69],[39,70,39,75],[39,76,39,83],[39,90,39,93],[38,115,38,119],[38,120,38,123],[38,124,38,132],[39,2,39,8],[39,9,39,13],[39,14,39,17],[39,18,39,22],[39,23,39,28],[39,29,39,36],[39,43,39,49],[38,76,38,83],[38,90,38,93],[38,94,38,100],[38,101,38,105],[38,106,38,109],[38,110,38,114],[38,29,38,36],[38,43,38,49],[38,50,38,54],[38,55,38,58],[38,59,38,69],[38,70,38,75],[37,106,37,109],[37,110,37,114],[37,115,37,119],[37,120,37,123],[37,124,37,132],[38,2,38,8],[38,9,38,13],[38,14,38,17],[38,18,38,22],[38,23,38,28],[37,59,37,69],[37,70,37,75],[37,76,37,83],[37,90,37,93],[37,94,37,100],[37,101,37,105],[36,124,36,132],[37,2,37,8],[37,9,37,13],[37,14,37,17],[37,18,37,22],[37,23,37,28],[37,29,37,36],[37,43,37,49],[37,50,37,54],[37,55,37,58],[36,94,36,100],[36,101,36,105],[36,106,36,109],[36,110,36,114],[36,115,36,119],[36,120,36,123],[36,50,36,54],[36,55,36,58],[36,59,36,69],[36,70,36,75],[36,76,36,83],[36,90,36,93],[35,115,35,119],[35,120,35,123],[35,124,35,132],[36,2,36,8],[36,9,36,13],[36,14,36,17],[36,18,36,22],[36,23,36,28],[36,29,36,36],[36,43,36,49],[35,76,35,83],[35,90,35,93],[35,94,35,100],[35,101,35,105],[35,106,35,109],[35,110,35,114],[35,29,35,36],[35,43,35,49],[35,50,35,54],[35,55,35,58],[35,59,35,69],[35,70,35,75],[34,106,34,109],[34,110,34,114],[34,115,34,119],[34,120,34,123],[34,124,34,132],[35,2,35,8],[35,9,35,13],[35,14,35,17],[35,18,35,22],[35,23,35,28],[34,59,34,69],[34,70,34,75],[34,76,34,83],[34,90,34,93],[34,94,34,100],[34,101,34,105],[33,124,33,132],[34,2,34,8],[34,9,34,13],[34,14,34,17],[34,18,34,22],[34,23,34,28],[34,29,34,36],[34,43,34,49],[34,50,34,54],[34,55,34,58],[33,94,33,100],[33,101,33,105],[33,106,33,109],[33,110,33,114],[33,115,33,119],[33,120,33,123],[33,50,33,54],[33,55,33,58],[33,59,33,69],[33,70,33,75],[33,76,33,83],[33,90,33,93],[32,115,32,119],[32,120,32,123],[32,124,32,132],[33,2,33,8],[33,9,33,13],[33,14,33,17],[33,18,33,22],[33,23,33,28],[33,29,33,36],[33,43,33,49],[32,76,32,83],[32,90,32,93],[32,94,32,100],[32,101,32,105],[32,106,32,109],[32,110,32,114],[32,29,32,36],[32,43,32,49],[32,50,32,54],[32,55,32,58],[32,59,32,69],[32,70,32,75],[31,106,31,109],[31,110,31,114],[31,115,31,119],[31,120,31,123],[31,124,31,132],[32,2,32,8],[32,9,32,13],[32,14,32,17],[32,18,32,22],[32,23,32,28],[31,59,31,69],[31,70,31,75],[31,76,31,83],[31,90,31,93],[31,94,31,100],[31,101,31,105],[30,124,30,132],[31,2,31,8],[31,9,31,13],[31,14,31,17],[31,18,31,22],[31,23,31,28],[31,29,31,36],[31,43,31,49],[31,50,31,54],[31,55,31,58],[30,94,30,100],[30,101,30,105],[30,106,30,109],[30,110,30,114],[30,115,30,119],[30,120,30,123],[30,50,30,54],[30,55,30,58],[30,59,30,69],[30,70,30,75],[30,76,30,83],[30,90,30,93],[29,115,29,119],[29,120,29,123],[29,124,29,132],[30,2,30,8],[30,9,30,13],[30,14,30,17],[30,18,30,22],[30,23,30,28],[30,29,30,36],[30,43,30,49],[29,76,29,83],[29,90,29,93],[29,94,29,100],[29,101,29,105],[29,106,29,109],[29,110,29,114],[29,29,29,36],[29,43,29,49],[29,50,29,54],[29,55,29,58],[29,59,29,69],[29,70,29,75],[28,106,28,109],[28,110,28,114],[28,115,28,119],[28,120,28,123],[28,124,28,132],[29,2,29,8],[29,9,29,13],[29,14,29,17],[29,18,29,22],[29,23,29,28],[28,59,28,69],[28,70,28,75],[28,76,28,83],[28,90,28,93],[28,94,28,100],[28,101,28,105],[27,124,27,132],[28,2,28,8],[28,9,28,13],[28,14,28,17],[28,18,28,22],[28,23,28,28],[28,29,28,36],[28,43,28,49],[28,50,28,54],[28,55,28,58],[27,94,27,100],[27,101,27,105],[27,106,27,109],[27,110,27,114],[27,115,27,119],[27,120,27,123],[27,50,27,54],[27,55,27,58],[27,59,27,69],[27,70,27,75],[27,76,27,83],[27,90,27,93],[26,115,26,119],[26,120,26,123],[26,124,26,132],[27,2,27,8],[27,9,27,13],[27,14,27,17],[27,18,27,22],[27,23,27,28],[27,29,27,36],[27,43,27,49],[26,76,26,83],[26,90,26,93],[26,94,26,100],[26,101,26,105],[26,106,26,109],[26,110,26,114],[26,29,26,36],[26,43,26,49],[26,50,26,54],[26,55,26,58],[26,59,26,69],[26,70,26,75],[25,106,25,109],[25,110,25,114]],"merged_total":1425,"flags":["merged_cut"]}
[null,null,null,null,null,null,null,null,null,null,null,null,null,null,null,null,null,null,null,null,null,null,null,null,null,null,null,null,null,null,null,null,null,null,null,null,null,null,null,null,null,null,null,null,null,null,null,null,null,null,null,null,null,null,null,null,null,null,null,null,null,null,null,null,null,null,null,null,null,null,null,null,null,null,null,null,null,null,null,null,null,null,null,null,null,null,null,null,null,null,null,null,null,null,null,null,null,null,null,null,null,null,null,null,null,null,null,null,null,null,"FED. RD.                               DIV. NO.",null,null,"STATE",null,null,"COUNTY",null,null,null,null,null,null,null,null,"PROJECT ID",null,null,null,"ROAD/ROUTE NO.",null,null,null,null,null,null,"SHEET NO."]
[null,null,null,null,null,null,null,null,null,null,null,null,null,null,null,null,null,null,null,null,null,null,null,null,null,null,null,null,null,null,null,null,null,null,null,null,null,null,null,null,null,null,null,null,null,null,null,null,null,null,null,null,null,null,null,null,null,null,null,null,null,null,null,null,null,null,null,null,null,null,null,null,null,null,null,null,null,null,null,null,null,null,null,null,null,null,null,null,null,null,null,null,null,null,null,null,null,null,null,null,null,null,null,null,null,null,null,null,null,null,3,null,null,"SC",null,null,{"$f":"SUMMARY!C8","v":0},null,null,null,null,null,null,null,null,{"$f":"SUMMARY!C6","v":0},null,null,null,{"$f":"SUMMARY!C5","v":0},null,null,null,null,null,null,"5C"]
[]
[null,null,"PROPERTY MONUMENTS FOUND",null,null,null,null,null,null,null,null,null,null,null,null,null,null,null,null,null,null,null,null,null,null,null,null,null,null,null,null,null,null,null,null,null,null,null,null,null,null,null,null,"PROPERTY MONUMENTS FOUND",null,null,null,null,null,null,null,null,null,null,null,null,null,null,null,null,null,null,null,null,null,null,null,null,null,null,null,null,null,null,null,null,null,null,null,null,null,null,null,null,null,null,null,null,null,null,"SURVEY CONTROL POINTS"]
[]
[null,null,"ALIGNMENT",null,null,null,null,null,null,"STATION",null,null,null,null,"OFFSET",null,null,null,"NORTHING",null,null,null,null,"EASTING",null,null,null,null,null,"DESCRIPTION",null,null,null,null,null,null,null,null,null,null,null,null,null,"ALIGNMENT",null,null,null,null,null,null,"STATION",null,null,null,null,"OFFSET",null,null,null,"NORTHING",null,null,null,null,null,null,null,null,null,null,"EASTING",null,null,null,null,null,"DESCRIPTION",null,null,null,null,null,null,null,null,null,null,null,null,null,"POINT ID",null,null,null,"ALIGNMENT",null,null,null,null,null,null,"STATION",null,null,null,null,"OFFSET",null,null,null,"NORTHING",null,null,null,null,"EASTING",null,null,null,null,"ELEV.",null,null,null,"DESCRIPTION"]
[]
[null,null,{"$f":"'PROPERTY MONUMENTS'!B234","v":0},null,null,null,null,null,null,{"$f":"'PROPERTY MONUMENTS'!C234","v":0},null,null,null,null,{"$f":"'PROPERTY MONUMENTS'!D234","v":0},null,null,null,{"$f":"'PROPERTY MONUMENTS'!E234","v":0},null,null,null,null,{"$f":"'PROPERTY MONUMENTS'!F234","v":0},null,null,null,null,null,{"$f":"'PROPERTY MONUMENTS'!H234","v":0},null,null,null,null,null,null,null,null,null,null,null,null,null,{"$f":"'PROPERTY MONUMENTS'!B314","v":0},null,null,null,null,null,null,{"$f":"'PROPERTY MONUMENTS'!C314","v":0},null,null,null,null,{"$f":"'PROPERTY MONUMENTS'!D314","v":0},null,null,null,{"$f":"'PROPERTY MONUMENTS'!E314","v":0},null,null,null,null,null,null,null,null,null,null,{"$f":"'PROPERTY MONUMENTS'!F314","v":0},null,null,null,null,null,{"$f":"'PROPERTY MONUMENTS'!H314","v":0},null,null,null,null,null,null,null,null,null,null,null,null,null,{"$f":"CONTROL!A137","v":0},null,null,null,{"$f":"CONTROL!B137","v":0},null,null,null,null,null,null,{"$f":"CONTROL!C137","v":0},null,null,null,null,{"$f":"CONTROL!D137","v":0},null,null,null,{"$f":"CONTROL!E137","v":0},null,null,null,null,{"$f":"CONTROL!F137","v":0},null,null,null,null,{"$f":"CONTROL!G137","v":0},null,null,null,{"$f":"CONTROL!H137","v":0}]
[null,null,{"$f":"'PROPERTY MONUMENTS'!B235","v":0},null,null,null,null,null,null,{"$f":"'PROPERTY MONUMENTS'!C235","v":0},null,null,null,null,{"$f":"'PROPERTY MONUMENTS'!D235","v":0},null,null,null,{"$f":"'PROPERTY MONUMENTS'!E235","v":0},null,null,null,null,{"$f":"'PROPERTY MONUMENTS'!F235","v":0},null,null,null,null,null,{"$f":"'PROPERTY MONUMENTS'!H235","v":0},null,null,null,null,null,null,null,null,null,null,null,null,null,{"$f":"'PROPERTY MONUMENTS'!B315","v":0},null,null,null,null,null,null,{"$f":"'PROPERTY MONUMENTS'!C315","v":0},null,null,null,null,{"$f":"'PROPERTY MONUMENTS'!D315","v":0},null,null,null,{"$f":"'PROPERTY MONUMENTS'!E315","v":0},null,null,null,null,null,null,null,null,null,null,{"$f":"'PROPERTY MONUMENTS'!F315","v":0},null,null,null,null,null,{"$f":"'PROPERTY MONUMENTS'!H315","v":0},null,null,null,null,null,null,null,null,null,null,null,null,null,{"$f":"CONTROL!A138","v":0},null,null,null,{"$f":"CONTROL!B138","v":0},null,null,null,null,null,null,{"$f":"CONTROL!C138","v":0},null,null,null,null,{"$f":"CONTROL!D138","v":0},null,null,null,{"$f":"CONTROL!E138","v":0},null,null,null,null,{"$f":"CONTROL!F138","v":0},null,null,null,null,{"$f":"CONTROL!G138","v":0},null,null,null,{"$f":"CONTROL!H138","v":0}]
[null,null,{"$f":"'PROPERTY MONUMENTS'!B236","v":0},null,null,null,null,null,null,{"$f":"'PROPERTY MONUMENTS'!C236","v":0},null,null,null,null,{"$f":"'PROPERTY MONUMENTS'!D236","v":0},null,null,null,{"$f":"'PROPERTY MONUMENTS'!E236","v":0},null,null,null,null,{"$f":"'PROPERTY MONUMENTS'!F236","v":0},null,null,null,null,null,{"$f":"'PROPERTY MONUMENTS'!H236","v":0},null,null,null,null,null,null,null,null,null,null,null,null,null,{"$f":"'PROPERTY MONUMENTS'!B316","v":0},null,null,null,null,null,null,{"$f":"'PROPERTY MONUMENTS'!C316","v":0},null,null,null,null,{"$f":"'PROPERTY MONUMENTS'!D316","v":0},null,null,null,{"$f":"'PROPERTY MONUMENTS'!E316","v":0},null,null,null,null,null,null,null,null,null,null,{"$f":"'PROPERTY MONUMENTS'!F316","v":0},null,null,null,null,null,{"$f":"'PROPERTY MONUMENTS'!H316","v":0},null,null,null,null,null,null,null,null,null,null,null,null,null,{"$f":"CONTROL!A139","v":0},null,null,null,{"$f":"CONTROL!B139","v":0},null,null,null,null,null,null,{"$f":"CONTROL!C139","v":0},null,null,null,null,{"$f":"CONTROL!D139","v":0},null,null,null,{"$f":"CONTROL!E139","v":0},null,null,null,null,{"$f":"CONTROL!F139","v":0},null,null,null,null,{"$f":"CONTROL!G139","v":0},null,null,null,{"$f":"CONTROL!H139","v":0}]
[null,null,{"$f":"'PROPERTY MONUMENTS'!B237","v":0},null,null,null,null,null,null,{"$f":"'PROPERTY MONUMENTS'!C237","v":0},null,null,null,null,{"$f":"'PROPERTY MONUMENTS'!D237","v":0},null,null,null,{"$f":"'PROPERTY MONUMENTS'!E237","v":0},null,null,null,null,{"$f":"'PROPERTY MONUMENTS'!F237","v":0},null,null,null,null,null,{"$f":"'PROPERTY MONUMENTS'!H237","v":0},null,null,null,null,null,null,null,null,null,null,null,null,null,{"$f":"'PROPERTY MONUMENTS'!B317","v":0},null,null,null,null,null,null,{"$f":"'PROPERTY MONUMENTS'!C317","v":0},null,null,null,null,{"$f":"'PROPERTY MONUMENTS'!D317","v":0},null,null,null,{"$f":"'PROPERTY MONUMENTS'!E317","v":0},null,null,null,null,null,null,null,null,null,null,{"$f":"'PROPERTY MONUMENTS'!F317","v":0},null,null,null,null,null,{"$f":"'PROPERTY MONUMENTS'!H317","v":0},null,null,null,null,null,null,null,null,null,null,null,null,null,{"$f":"CONTROL!A140","v":0},null,null,null,{"$f":"CONTROL!B140","v":0},null,null,null,null,null,null,{"$f":"CONTROL!C140","v":0},null,null,null,null,{"$f":"CONTROL!D140","v":0},null,null,null,{"$f":"CONTROL!E140","v":0},null,null,null,null,{"$f":"CONTROL!F140","v":0},null,null,null,null,{"$f":"CONTROL!G140","v":0},null,null,null,{"$f":"CONTROL!H140","v":0}]
[null,null,{"$f":"'PROPERTY MONUMENTS'!B238","v":0},null,null,null,null,null,null,{"$f":"'PROPERTY MONUMENTS'!C238","v":0},null,null,null,null,{"$f":"'PROPERTY MONUMENTS'!D238","v":0},null,null,null,{"$f":"'PROPERTY MONUMENTS'!E238","v":0},null,null,null,null,{"$f":"'PROPERTY MONUMENTS'!F238","v":0},null,null,null,null,null,{"$f":"'PROPERTY MONUMENTS'!H238","v":0},null,null,null,null,null,null,null,null,null,null,null,null,null,{"$f":"'PROPERTY MONUMENTS'!B318","v":0},null,null,null,null,null,null,{"$f":"'PROPERTY MONUMENTS'!C318","v":0},null,null,null,null,{"$f":"'PROPERTY MONUMENTS'!D318","v":0},null,null,null,{"$f":"'PROPERTY MONUMENTS'!E318","v":0},null,null,null,null,null,null,null,null,null,null,{"$f":"'PROPERTY MONUMENTS'!F318","v":0},null,null,null,null,null,{"$f":"'PROPERTY MONUMENTS'!H318","v":0},null,null,null,null,null,null,null,null,null,null,null,null,null,{"$f":"CONTROL!A141","v":0},null,null,null,{"$f":"CONTROL!B141","v":0},null,null,null,null,null,null,{"$f":"CONTROL!C141","v":0},null,null,null,null,{"$f":"CONTROL!D141","v":0},null,null,null,{"$f":"CONTROL!E141","v":0},null,null,null,null,{"$f":"CONTROL!F141","v":0},null,null,null,null,{"$f":"CONTROL!G141","v":0},null,null,null,{"$f":"CONTROL!H141","v":0}]
[null,null,{"$f":"'PROPERTY MONUMENTS'!B239","v":0},null,null,null,null,null,null,{"$f":"'PROPERTY MONUMENTS'!C239","v":0},null,null,null,null,{"$f":"'PROPERTY MONUMENTS'!D239","v":0},null,null,null,{"$f":"'PROPERTY MONUMENTS'!E239","v":0},null,null,null,null,{"$f":"'PROPERTY MONUMENTS'!F239","v":0},null,null,null,null,null,{"$f":"'PROPERTY MONUMENTS'!H239","v":0},null,null,null,null,null,null,null,null,null,null,null,null,null,{"$f":"'PROPERTY MONUMENTS'!B319","v":0},null,null,null,null,null,null,{"$f":"'PROPERTY MONUMENTS'!C319","v":0},null,null,null,null,{"$f":"'PROPERTY MONUMENTS'!D319","v":0},null,null,null,{"$f":"'PROPERTY MONUMENTS'!E319","v":0},null,null,null,null,null,null,null,null,null,null,{"$f":"'PROPERTY MONUMENTS'!F319","v":0},null,null,null,null,null,{"$f":"'PROPERTY MONUMENTS'!H319","v":0},null,null,null,null,null,null,null,null,null,null,null,null,null,{"$f":"CONTROL!A142","v":0},null,null,null,{"$f":"CONTROL!B142","v":0},null,null,null,null,null,null,{"$f":"CONTROL!C142","v":0},null,null,null,null,{"$f":"CONTROL!D142","v":0},null,null,null,{"$f":"CONTROL!E142","v":0},null,null,null,null,{"$f":"CONTROL!F142","v":0},null,null,null,null,{"$f":"CONTROL!G142","v":0},null,null,null,{"$f":"CONTROL!H142","v":0}]
[null,null,{"$f":"'PROPERTY MONUMENTS'!B240","v":0},null,null,null,null,null,null,{"$f":"'PROPERTY MONUMENTS'!C240","v":0},null,null,null,null,{"$f":"'PROPERTY MONUMENTS'!D240","v":0},null,null,null,{"$f":"'PROPERTY MONUMENTS'!E240","v":0},null,null,null,null,{"$f":"'PROPERTY MONUMENTS'!F240","v":0},null,null,null,null,null,{"$f":"'PROPERTY MONUMENTS'!H240","v":0},null,null,null,null,null,null,null,null,null,null,null,null,null,{"$f":"'PROPERTY MONUMENTS'!B320","v":0},null,null,null,null,null,null,{"$f":"'PROPERTY MONUMENTS'!C320","v":0},null,null,null,null,{"$f":"'PROPERTY MONUMENTS'!D320","v":0},null,null,null,{"$f":"'PROPERTY MONUMENTS'!E320","v":0},null,null,null,null,null,null,null,null,null,null,{"$f":"'PROPERTY MONUMENTS'!F320","v":0},null,null,null,null,null,{"$f":"'PROPERTY MONUMENTS'!H320","v":0},null,null,null,null,null,null,null,null,null,null,null,null,null,{"$f":"CONTROL!A143","v":0},null,null,null,{"$f":"CONTROL!B143","v":0},null,null,null,null,null,null,{"$f":"CONTROL!C143","v":0},null,null,null,null,{"$f":"CONTROL!D143","v":0},null,null,null,{"$f":"CONTROL!E143","v":0},null,null,null,null,{"$f":"CONTROL!F143","v":0},null,null,null,null,{"$f":"CONTROL!G143","v":0},null,null,null,{"$f":"CONTROL!H143","v":0}]
[null,null,{"$f":"'PROPERTY MONUMENTS'!B241","v":0},null,null,null,null,null,null,{"$f":"'PROPERTY MONUMENTS'!C241","v":0},null,null,null,null,{"$f":"'PROPERTY MONUMENTS'!D241","v":0},null,null,null,{"$f":"'PROPERTY MONUMENTS'!E241","v":0},null,null,null,null,{"$f":"'PROPERTY MONUMENTS'!F241","v":0},null,null,null,null,null,{"$f":"'PROPERTY MONUMENTS'!H241","v":0},null,null,null,null,null,null,null,null,null,null,null,null,null,{"$f":"'PROPERTY MONUMENTS'!B321","v":0},null,null,null,null,null,null,{"$f":"'PROPERTY MONUMENTS'!C321","v":0},null,null,null,null,{"$f":"'PROPERTY MONUMENTS'!D321","v":0},null,null,null,{"$f":"'PROPERTY MONUMENTS'!E321","v":0},null,null,null,null,null,null,null,null,null,null,{"$f":"'PROPERTY MONUMENTS'!F321","v":0},null,null,null,null,null,{"$f":"'PROPERTY MONUMENTS'!H321","v":0},null,null,null,null,null,null,null,null,null,null,null,null,null,{"$f":"CONTROL!A144","v":0},null,null,null,{"$f":"CONTROL!B144","v":0},null,null,null,null,null,null,{"$f":"CONTROL!C144","v":0},null,null,null,null,{"$f":"CONTROL!D144","v":0},null,null,null,{"$f":"CONTROL!E144","v":0},null,null,null,null,{"$f":"CONTROL!F144","v":0},null,null,null,null,{"$f":"CONTROL!G144","v":0},null,null,null,{"$f":"CONTROL!H144","v":0}]
[null,null,{"$f":"'PROPERTY MONUMENTS'!B242","v":0},null,null,null,null,null,null,{"$f":"'PROPERTY MONUMENTS'!C242","v":0},null,null,null,null,{"$f":"'PROPERTY MONUMENTS'!D242","v":0},null,null,null,{"$f":"'PROPERTY MONUMENTS'!E242","v":0},null,null,null,null,{"$f":"'PROPERTY MONUMENTS'!F242","v":0},null,null,null,null,null,{"$f":"'PROPERTY MONUMENTS'!H242","v":0},null,null,null,null,null,null,null,null,null,null,null,null,null,{"$f":"'PROPERTY MONUMENTS'!B322","v":0},null,null,null,null,null,null,{"$f":"'PROPERTY MONUMENTS'!C322","v":0},null,null,null,null,{"$f":"'PROPERTY MONUMENTS'!D322","v":0},null,null,null,{"$f":"'PROPERTY MONUMENTS'!E322","v":0},null,null,null,null,null,null,null,null,null,null,{"$f":"'PROPERTY MONUMENTS'!F322","v":0},null,null,null,null,null,{"$f":"'PROPERTY MONUMENTS'!H322","v":0},null,null,null,null,null,null,null,null,null,null,null,null,null,{"$f":"CONTROL!A145","v":0},null,null,null,{"$f":"CONTROL!B145","v":0},null,null,null,null,null,null,{"$f":"CONTROL!C145","v":0},null,null,null,null,{"$f":"CONTROL!D145","v":0},null,null,null,{"$f":"CONTROL!E145","v":0},null,null,null,null,{"$f":"CONTROL!F145","v":0},null,null,null,null,{"$f":"CONTROL!G145","v":0},null,null,null,{"$f":"CONTROL!H145","v":0}]
[null,null,{"$f":"'PROPERTY MONUMENTS'!B243","v":0},null,null,null,null,null,null,{"$f":"'PROPERTY MONUMENTS'!C243","v":0},null,null,null,null,{"$f":"'PROPERTY MONUMENTS'!D243","v":0},null,null,null,{"$f":"'PROPERTY MONUMENTS'!E243","v":0},null,null,null,null,{"$f":"'PROPERTY MONUMENTS'!F243","v":0},null,null,null,null,null,{"$f":"'PROPERTY MONUMENTS'!H243","v":0},null,null,null,null,null,null,null,null,null,null,null,null,null,{"$f":"'PROPERTY MONUMENTS'!B323","v":0},null,null,null,null,null,null,{"$f":"'PROPERTY MONUMENTS'!C323","v":0},null,null,null,null,{"$f":"'PROPERTY MONUMENTS'!D323","v":0},null,null,null,{"$f":"'PROPERTY MONUMENTS'!E323","v":0},null,null,null,null,null,null,null,null,null,null,{"$f":"'PROPERTY MONUMENTS'!F323","v":0},null,null,null,null,null,{"$f":"'PROPERTY MONUMENTS'!H323","v":0},null,null,null,null,null,null,null,null,null,null,null,null,null,{"$f":"CONTROL!A146","v":0},null,null,null,{"$f":"CONTROL!B146","v":0},null,null,null,null,null,null,{"$f":"CONTROL!C146","v":0},null,null,null,null,{"$f":"CONTROL!D146","v":0},null,null,null,{"$f":"CONTROL!E146","v":0},null,null,null,null,{"$f":"CONTROL!F146","v":0},null,null,null,null,{"$f":"CONTROL!G146","v":0},null,null,null,{"$f":"CONTROL!H146","v":0}]
[null,null,{"$f":"'PROPERTY MONUMENTS'!B244","v":0},null,null,null,null,null,null,{"$f":"'PROPERTY MONUMENTS'!C244","v":0},null,null,null,null,{"$f":"'PROPERTY MONUMENTS'!D244","v":0},null,null,null,{"$f":"'PROPERTY MONUMENTS'!E244","v":0},null,null,null,null,{"$f":"'PROPERTY MONUMENTS'!F244","v":0},null,null,null,null,null,{"$f":"'PROPERTY MONUMENTS'!H244","v":0},null,null,null,null,null,null,null,null,null,null,null,null,null,{"$f":"'PROPERTY MONUMENTS'!B324","v":0},null,null,null,null,null,null,{"$f":"'PROPERTY MONUMENTS'!C324","v":0},null,null,null,null,{"$f":"'PROPERTY MONUMENTS'!D324","v":0},null,null,null,{"$f":"'PROPERTY MONUMENTS'!E324","v":0},null,null,null,null,null,null,null,null,null,null,{"$f":"'PROPERTY MONUMENTS'!F324","v":0},null,null,null,null,null,{"$f":"'PROPERTY MONUMENTS'!H324","v":0},null,null,null,null,null,null,null,null,null,null,null,null,null,{"$f":"CONTROL!A147","v":0},null,null,null,{"$f":"CONTROL!B147","v":0},null,null,null,null,null,null,{"$f":"CONTROL!C147","v":0},null,null,null,null,{"$f":"CONTROL!D147","v":0},null,null,null,{"$f":"CONTROL!E147","v":0},null,null,null,null,{"$f":"CONTROL!F147","v":0},null,null,null,null,{"$f":"CONTROL!G147","v":0},null,null,null,{"$f":"CONTROL!H147","v":0}]
[null,null,{"$f":"'PROPERTY MONUMENTS'!B245","v":0},null,null,null,null,null,null,{"$f":"'PROPERTY MONUMENTS'!C245","v":0},null,null,null,null,{"$f":"'PROPERTY MONUMENTS'!D245","v":0},null,null,null,{"$f":"'PROPERTY MONUMENTS'!E245","v":0},null,null,null,null,{"$f":"'PROPERTY MONUMENTS'!F245","v":0},null,null,null,null,null,{"$f":"'PROPERTY MONUMENTS'!H245","v":0},null,null,null,null,null,null,null,null,null,null,null,null,null,{"$f":"'PROPERTY MONUMENTS'!B325","v":0},null,null,null,null,null,null,{"$f":"'PROPERTY MONUMENTS'!C325","v":0},null,null,null,null,{"$f":"'PROPERTY MONUMENTS'!D325","v":0},null,null,null,{"$f":"'PROPERTY MONUMENTS'!E325","v":0},null,null,null,null,null,null,null,null,null,null,{"$f":"'PROPERTY MONUMENTS'!F325","v":0},null,null,null,null,null,{"$f":"'PROPERTY MONUMENTS'!H325","v":0},null,null,null,null,null,null,null,null,null,null,null,null,null,{"$f":"CONTROL!A148","v":0},null,null,null,{"$f":"CONTROL!B148","v":0},null,null,null,null,null,null,{"$f":"CONTROL!C148","v":0},null,null,null,null,{"$f":"CONTROL!D148","v":0},null,null,null,{"$f":"CONTROL!E148","v":0},null,null,null,null,{"$f":"CONTROL!F148","v":0},null,null,null,null,{"$f":"CONTROL!G148","v":0},null,null,null,{"$f":"CONTROL!H148","v":0}]
[null,null,{"$f":"'PROPERTY MONUMENTS'!B246","v":0},null,null,null,null,null,null,{"$f":"'PROPERTY MONUMENTS'!C246","v":0},null,null,null,null,{"$f":"'PROPERTY MONUMENTS'!D246","v":0},null,null,null,{"$f":"'PROPERTY MONUMENTS'!E246","v":0},null,null,null,null,{"$f":"'PROPERTY MONUMENTS'!F246","v":0},null,null,null,null,null,{"$f":"'PROPERTY MONUMENTS'!H246","v":0},null,null,null,null,null,null,null,null,null,null,null,null,null,{"$f":"'PROPERTY MONUMENTS'!B326","v":0},null,null,null,null,null,null,{"$f":"'PROPERTY MONUMENTS'!C326","v":0},null,null,null,null,{"$f":"'PROPERTY MONUMENTS'!D326","v":0},null,null,null,{"$f":"'PROPERTY MONUMENTS'!E326","v":0},null,null,null,null,null,null,null,null,null,null,{"$f":"'PROPERTY MONUMENTS'!F326","v":0},null,null,null,null,null,{"$f":"'PROPERTY MONUMENTS'!H326","v":0},null,null,null,null,null,null,null,null,null,null,null,null,null,{"$f":"CONTROL!A149","v":0},null,null,null,{"$f":"CONTROL!B149","v":0},null,null,null,null,null,null,{"$f":"CONTROL!C149","v":0},null,null,null,null,{"$f":"CONTROL!D149","v":0},null,null,null,{"$f":"CONTROL!E149","v":0},null,null,null,null,{"$f":"CONTROL!F149","v":0},null,null,null,null,{"$f":"CONTROL!G149","v":0},null,null,null,{"$f":"CONTROL!H149","v":0}]
[null,null,{"$f":"'PROPERTY MONUMENTS'!B247","v":0},null,null,null,null,null,null,{"$f":"'PROPERTY MONUMENTS'!C247","v":0},null,null,null,null,{"$f":"'PROPERTY MONUMENTS'!D247","v":0},null,null,null,{"$f":"'PROPERTY MONUMENTS'!E247","v":0},null,null,null,null,{"$f":"'PROPERTY MONUMENTS'!F247","v":0},null,null,null,null,null,{"$f":"'PROPERTY MONUMENTS'!H247","v":0},null,null,null,null,null,null,null,null,null,null,null,null,null,{"$f":"'PROPERTY MONUMENTS'!B327","v":0},null,null,null,null,null,null,{"$f":"'PROPERTY MONUMENTS'!C327","v":0},null,null,null,null,{"$f":"'PROPERTY MONUMENTS'!D327","v":0},null,null,null,{"$f":"'PROPERTY MONUMENTS'!E327","v":0},null,null,null,null,null,null,null,null,null,null,{"$f":"'PROPERTY MONUMENTS'!F327","v":0},null,null,null,null,null,{"$f":"'PROPERTY MONUMENTS'!H327","v":0},null,null,null,null,null,null,null,null,null,null,null,null,null,{"$f":"CONTROL!A150","v":0},null,null,null,{"$f":"CONTROL!B150","v":0},null,null,null,null,null,null,{"$f":"CONTROL!C150","v":0},null,null,null,null,{"$f":"CONTROL!D150","v":0},null,null,null,{"$f":"CONTROL!E150","v":0},null,null,null,null,{"$f":"CONTROL!F150","v":0},null,null,null,null,{"$f":"CONTROL!G150","v":0},null,null,null,{"$f":"CONTROL!H150","v":0}]
[null,null,{"$f":"'PROPERTY MONUMENTS'!B248","v":0},null,null,null,null,null,null,{"$f":"'PROPERTY MONUMENTS'!C248","v":0},null,null,null,null,{"$f":"'PROPERTY MONUMENTS'!D248","v":0},null,null,null,{"$f":"'PROPERTY MONUMENTS'!E248","v":0},null,null,null,null,{"$f":"'PROPERTY MONUMENTS'!F248","v":0},null,null,null,null,null,{"$f":"'PROPERTY MONUMENTS'!H248","v":0},null,null,null,null,null,null,null,null,null,null,null,null,null,{"$f":"'PROPERTY MONUMENTS'!B328","v":0},null,null,null,null,null,null,{"$f":"'PROPERTY MONUMENTS'!C328","v":0},null,null,null,null,{"$f":"'PROPERTY MONUMENTS'!D328","v":0},null,null,null,{"$f":"'PROPERTY MONUMENTS'!E328","v":0},null,null,null,null,null,null,null,null,null,null,{"$f":"'PROPERTY MONUMENTS'!F328","v":0},null,null,null,null,null,{"$f":"'PROPERTY MONUMENTS'!H328","v":0},null,null,null,null,null,null,null,null,null,null,null,null,null,{"$f":"CONTROL!A151","v":0},null,null,null,{"$f":"CONTROL!B151","v":0},null,null,null,null,null,null,{"$f":"CONTROL!C151","v":0},null,null,null,null,{"$f":"CONTROL!D151","v":0},null,null,null,{"$f":"CONTROL!E151","v":0},null,null,null,null,{"$f":"CONTROL!F151","v":0},null,null,null,null,{"$f":"CONTROL!G151","v":0},null,null,null,{"$f":"CONTROL!H151","v":0}]
[null,null,{"$f":"'PROPERTY MONUMENTS'!B249","v":0},null,null,null,null,null,null,{"$f":"'PROPERTY MONUMENTS'!C249","v":0},null,null,null,null,{"$f":"'PROPERTY MONUMENTS'!D249","v":0},null,null,null,{"$f":"'PROPERTY MONUMENTS'!E249","v":0},null,null,null,null,{"$f":"'PROPERTY MONUMENTS'!F249","v":0},null,null,null,null,null,{"$f":"'PROPERTY MONUMENTS'!H249","v":0},null,null,null,null,null,null,null,null,null,null,null,null,null,{"$f":"'PROPERTY MONUMENTS'!B329","v":0},null,null,null,null,null,null,{"$f":"'PROPERTY MONUMENTS'!C329","v":0},null,null,null,null,{"$f":"'PROPERTY MONUMENTS'!D329","v":0},null,null,null,{"$f":"'PROPERTY MONUMENTS'!E329","v":0},null,null,null,null,null,null,null,null,null,null,{"$f":"'PROPERTY MONUMENTS'!F329","v":0},null,null,null,null,null,{"$f":"'PROPERTY MONUMENTS'!H329","v":0},null,null,null,null,null,null,null,null,null,null,null,null,null,{"$f":"CONTROL!A152","v":0},null,null,null,{"$f":"CONTROL!B152","v":0},null,null,null,null,null,null,{"$f":"CONTROL!C152","v":0},null,null,null,null,{"$f":"CONTROL!D152","v":0},null,null,null,{"$f":"CONTROL!E152","v":0},null,null,null,null,{"$f":"CONTROL!F152","v":0},null,null,null,null,{"$f":"CONTROL!G152","v":0},null,null,null,{"$f":"CONTROL!H152","v":0}]
[null,null,{"$f":"'PROPERTY MONUMENTS'!B250","v":0},null,null,null,null,null,null,{"$f":"'PROPERTY MONUMENTS'!C250","v":0},null,null,null,null,{"$f":"'PROPERTY MONUMENTS'!D250","v":0},null,null,null,{"$f":"'PROPERTY MONUMENTS'!E250","v":0},null,null,null,null,{"$f":"'PROPERTY MONUMENTS'!F250","v":0},null,null,null,null,null,{"$f":"'PROPERTY MONUMENTS'!H250","v":0},null,null,null,null,null,null,null,null,null,null,null,null,null,{"$f":"'PROPERTY MONUMENTS'!B330","v":0},null,null,null,null,null,null,{"$f":"'PROPERTY MONUMENTS'!C330","v":0},null,null,null,null,{"$f":"'PROPERTY MONUMENTS'!D330","v":0},null,null,null,{"$f":"'PROPERTY MONUMENTS'!E330","v":0},null,null,null,null,null,null,null,null,null,null,{"$f":"'PROPERTY MONUMENTS'!F330","v":0},null,null,null,null,null,{"$f":"'PROPERTY MONUMENTS'!H330","v":0},null,null,null,null,null,null,null,null,null,null,null,null,null,{"$f":"CONTROL!A153","v":0},null,null,null,{"$f":"CONTROL!B153","v":0},null,null,null,null,null,null,{"$f":"CONTROL!C153","v":0},null,null,null,null,{"$f":"CONTROL!D153","v":0},null,null,null,{"$f":"CONTROL!E153","v":0},null,null,null,null,{"$f":"CONTROL!F153","v":0},null,null,null,null,{"$f":"CONTROL!G153","v":0},null,null,null,{"$f":"CONTROL!H153","v":0}]
[{"$f":"CELL(\"filename\")","v":"C:\\Users\\dawsonmh\\Desktop\\[Survey_Project_Report_ver21.0.xlsm]SUMMARY"},null,{"$f":"'PROPERTY MONUMENTS'!B251","v":0},null,null,null,null,null,null,{"$f":"'PROPERTY MONUMENTS'!C251","v":0},null,null,null,null,{"$f":"'PROPERTY MONUMENTS'!D251","v":0},null,null,null,{"$f":"'PROPERTY MONUMENTS'!E251","v":0},null,null,null,null,{"$f":"'PROPERTY MONUMENTS'!F251","v":0},null,null,null,null,null,{"$f":"'PROPERTY MONUMENTS'!H251","v":0},null,null,null,null,null,null,null,null,null,null,null,null,null,{"$f":"'PROPERTY MONUMENTS'!B331","v":0},null,null,null,null,null,null,{"$f":"'PROPERTY MONUMENTS'!C331","v":0},null,null,null,null,{"$f":"'PROPERTY MONUMENTS'!D331","v":0},null,null,null,{"$f":"'PROPERTY MONUMENTS'!E331","v":0},null,null,null,null,null,null,null,null,null,null,{"$f":"'PROPERTY MONUMENTS'!F331","v":0},null,null,null,null,null,{"$f":"'PROPERTY MONUMENTS'!H331","v":0},null,null,null,null,null,null,null,null,null,null,null,null,null,{"$f":"CONTROL!A154","v":0},null,null,null,{"$f":"CONTROL!B154","v":0},null,null,null,null,null,null,{"$f":"CONTROL!C154","v":0},null,null,null,null,{"$f":"CONTROL!D154","v":0},null,null,null,{"$f":"CONTROL!E154","v":0},null,null,null,null,{"$f":"CONTROL!F154","v":0},null,null,null,null,{"$f":"CONTROL!G154","v":0},null,null,null,{"$f":"CONTROL!H154","v":0}]
[null,null,{"$f":"'PROPERTY MONUMENTS'!B252","v":0},null,null,null,null,null,null,{"$f":"'PROPERTY MONUMENTS'!C252","v":0},null,null,null,null,{"$f":"'PROPERTY MONUMENTS'!D252","v":0},null,null,null,{"$f":"'PROPERTY MONUMENTS'!E252","v":0},null,null,null,null,{"$f":"'PROPERTY MONUMENTS'!F252","v":0},null,null,null,null,null,{"$f":"'PROPERTY MONUMENTS'!H252","v":0},null,null,null,null,null,null,null,null,null,null,null,null,null,{"$f":"'PROPERTY MONUMENTS'!B332","v":0},null,null,null,null,null,null,{"$f":"'PROPERTY MONUMENTS'!C332","v":0},null,null,null,null,{"$f":"'PROPERTY MONUMENTS'!D332","v":0},null,null,null,{"$f":"'PROPERTY MONUMENTS'!E332","v":0},null,null,null,null,null,null,null,null,null,null,{"$f":"'PROPERTY MONUMENTS'!F332","v":0},null,null,null,null,null,{"$f":"'PROPERTY MONUMENTS'!H332","v":0},null,null,null,null,null,null,null,null,null,null,null,null,null,{"$f":"CONTROL!A155","v":0},null,null,null,{"$f":"CONTROL!B155","v":0},null,null,null,null,null,null,{"$f":"CONTROL!C155","v":0},null,null,null,null,{"$f":"CONTROL!D155","v":0},null,null,null,{"$f":"CONTROL!E155","v":0},null,null,null,null,{"$f":"CONTROL!F155","v":0},null,null,null,null,{"$f":"CONTROL!G155","v":0},null,null,null,{"$f":"CONTROL!H155","v":0}]
[null,null,{"$f":"'PROPERTY MONUMENTS'!B253","v":0},null,null,null,null,null,null,{"$f":"'PROPERTY MONUMENTS'!C253","v":0},null,null,null,null,{"$f":"'PROPERTY MONUMENTS'!D253","v":0},null,null,null,{"$f":"'PROPERTY MONUMENTS'!E253","v":0},null,null,null,null,{"$f":"'PROPERTY MONUMENTS'!F253","v":0},null,null,null,null,null,{"$f":"'PROPERTY MONUMENTS'!H253","v":0},null,null,null,null,null,null,null,null,null,null,null,null,null,{"$f":"'PROPERTY MONUMENTS'!B333","v":0},null,null,null,null,null,null,{"$f":"'PROPERTY MONUMENTS'!C333","v":0},null,null,null,null,{"$f":"'PROPERTY MONUMENTS'!D333","v":0},null,null,null,{"$f":"'PROPERTY MONUMENTS'!E333","v":0},null,null,null,null,null,null,null,null,null,null,{"$f":"'PROPERTY MONUMENTS'!F333","v":0},null,null,null,null,null,{"$f":"'PROPERTY MONUMENTS'!H333","v":0},null,null,null,null,null,null,null,null,null,null,null,null,null,{"$f":"CONTROL!A156","v":0},null,null,null,{"$f":"CONTROL!B156","v":0},null,null,null,null,null,null,{"$f":"CONTROL!C156","v":0},null,null,null,null,{"$f":"CONTROL!D156","v":0},null,null,null,{"$f":"CONTROL!E156","v":0},null,null,null,null,{"$f":"CONTROL!F156","v":0},null,null,null,null,{"$f":"CONTROL!G156","v":0},null,null,null,{"$f":"CONTROL!H156","v":0}]
[null,null,{"$f":"'PROPERTY MONUMENTS'!B254","v":0},null,null,null,null,null,null,{"$f":"'PROPERTY MONUMENTS'!C254","v":0},null,null,null,null,{"$f":"'PROPERTY MONUMENTS'!D254","v":0},null,null,null,{"$f":"'PROPERTY MONUMENTS'!E254","v":0},null,null,null,null,{"$f":"'PROPERTY MONUMENTS'!F254","v":0},null,null,null,null,null,{"$f":"'PROPERTY MONUMENTS'!H254","v":0},null,null,null,null,null,null,null,null,null,null,null,null,null,{"$f":"'PROPERTY MONUMENTS'!B334","v":0},null,null,null,null,null,null,{"$f":"'PROPERTY MONUMENTS'!C334","v":0},null,null,null,null,{"$f":"'PROPERTY MONUMENTS'!D334","v":0},null,null,null,{"$f":"'PROPERTY MONUMENTS'!E334","v":0},null,null,null,null,null,null,null,null,null,null,{"$f":"'PROPERTY MONUMENTS'!F334","v":0},null,null,null,null,null,{"$f":"'PROPERTY MONUMENTS'!H334","v":0},null,null,null,null,null,null,null,null,null,null,null,null,null,{"$f":"CONTROL!A157","v":0},null,null,null,{"$f":"CONTROL!B157","v":0},null,null,null,null,null,null,{"$f":"CONTROL!C157","v":0},null,null,null,null,{"$f":"CONTROL!D157","v":0},null,null,null,{"$f":"CONTROL!E157","v":0},null,null,null,null,{"$f":"CONTROL!F157","v":0},null,null,null,null,{"$f":"CONTROL!G157","v":0},null,null,null,{"$f":"CONTROL!H157","v":0}]
[null,null,{"$f":"'PROPERTY MONUMENTS'!B255","v":0},null,null,null,null,null,null,{"$f":"'PROPERTY MONUMENTS'!C255","v":0},null,null,null,null,{"$f":"'PROPERTY MONUMENTS'!D255","v":0},null,null,null,{"$f":"'PROPERTY MONUMENTS'!E255","v":0},null,null,null,null,{"$f":"'PROPERTY MONUMENTS'!F255","v":0},null,null,null,null,null,{"$f":"'PROPERTY MONUMENTS'!H255","v":0},null,null,null,null,null,null,null,null,null,null,null,null,null,{"$f":"'PROPERTY MONUMENTS'!B335","v":0},null,null,null,null,null,null,{"$f":"'PROPERTY MONUMENTS'!C335","v":0},null,null,null,null,{"$f":"'PROPERTY MONUMENTS'!D335","v":0},null,null,null,{"$f":"'PROPERTY MONUMENTS'!E335","v":0},null,null,null,null,null,null,null,null,null,null,{"$f":"'PROPERTY MONUMENTS'!F335","v":0},null,null,null,null,null,{"$f":"'PROPERTY MONUMENTS'!H335","v":0},null,null,null,null,null,null,null,null,null,null,null,null,null,{"$f":"CONTROL!A158","v":0},null,null,null,{"$f":"CONTROL!B158","v":0},null,null,null,null,null,null,{"$f":"CONTROL!C158","v":0},null,null,null,null,{"$f":"CONTROL!D158","v":0},null,null,null,{"$f":"CONTROL!E158","v":0},null,null,null,null,{"$f":"CONTROL!F158","v":0},null,null,null,null,{"$f":"CONTROL!G158","v":0},null,null,null,{"$f":"CONTROL!H158","v":0}]
[null,null,{"$f":"'PROPERTY MONUMENTS'!B256","v":0},null,null,null,null,null,null,{"$f":"'PROPERTY MONUMENTS'!C256","v":0},null,null,null,null,{"$f":"'PROPERTY MONUMENTS'!D256","v":0},null,null,null,{"$f":"'PROPERTY MONUMENTS'!E256","v":0},null,null,null,null,{"$f":"'PROPERTY MONUMENTS'!F256","v":0},null,null,null,null,null,{"$f":"'PROPERTY MONUMENTS'!H256","v":0},null,null,null,null,null,null,null,null,null,null,null,null,null,{"$f":"'PROPERTY MONUMENTS'!B336","v":0},null,null,null,null,null,null,{"$f":"'PROPERTY MONUMENTS'!C336","v":0},null,null,null,null,{"$f":"'PROPERTY MONUMENTS'!D336","v":0},null,null,null,{"$f":"'PROPERTY MONUMENTS'!E336","v":0},null,null,null,null,null,null,null,null,null,null,{"$f":"'PROPERTY MONUMENTS'!F336","v":0},null,null,null,null,null,{"$f":"'PROPERTY MONUMENTS'!H336","v":0},null,null,null,null,null,null,null,null,null,null,null,null,null,{"$f":"CONTROL!A159","v":0},null,null,null,{"$f":"CONTROL!B159","v":0},null,null,null,null,null,null,{"$f":"CONTROL!C159","v":0},null,null,null,null,{"$f":"CONTROL!D159","v":0},null,null,null,{"$f":"CONTROL!E159","v":0},null,null,null,null,{"$f":"CONTROL!F159","v":0},null,null,null,null,{"$f":"CONTROL!G159","v":0},null,null,null,{"$f":"CONTROL!H159","v":0}]
[null,null,{"$f":"'PROPERTY MONUMENTS'!B257","v":0},null,null,null,null,null,null,{"$f":"'PROPERTY MONUMENTS'!C257","v":0},null,null,null,null,{"$f":"'PROPERTY MONUMENTS'!D257","v":0},null,null,null,{"$f":"'PROPERTY MONUMENTS'!E257","v":0},null,null,null,null,{"$f":"'PROPERTY MONUMENTS'!F257","v":0},null,null,null,null,null,{"$f":"'PROPERTY MONUMENTS'!H257","v":0},null,null,null,null,null,null,null,null,null,null,null,null,null,{"$f":"'PROPERTY MONUMENTS'!B337","v":0},null,null,null,null,null,null,{"$f":"'PROPERTY MONUMENTS'!C337","v":0},null,null,null,null,{"$f":"'PROPERTY MONUMENTS'!D337","v":0},null,null,null,{"$f":"'PROPERTY MONUMENTS'!E337","v":0},null,null,null,null,null,null,null,null,null,null,{"$f":"'PROPERTY MONUMENTS'!F337","v":0},null,null,null,null,null,{"$f":"'PROPERTY MONUMENTS'!H337","v":0},null,null,null,null,null,null,null,null,null,null,null,null,null,{"$f":"CONTROL!A160","v":0},null,null,null,{"$f":"CONTROL!B160","v":0},null,null,null,null,null,null,{"$f":"CONTROL!C160","v":0},null,null,null,null,{"$f":"CONTROL!D160","v":0},null,null,null,{"$f":"CONTROL!E160","v":0},null,null,null,null,{"$f":"CONTROL!F160","v":0},null,null,null,null,{"$f":"CONTROL!G160","v":0},null,null,null,{"$f":"CONTROL!H160","v":0}]
[null,null,{"$f":"'PROPERTY MONUMENTS'!B258","v":0},null,null,null,null,null,null,{"$f":"'PROPERTY MONUMENTS'!C258","v":0},null,null,null,null,{"$f":"'PROPERTY MONUMENTS'!D258","v":0},null,null,null,{"$f":"'PROPERTY MONUMENTS'!E258","v":0},null,null,null,null,{"$f":"'PROPERTY MONUMENTS'!F258","v":0},null,null,null,null,null,{"$f":"'PROPERTY MONUMENTS'!H258","v":0},null,null,null,null,null,null,null,null,null,null,null,null,null,{"$f":"'PROPERTY MONUMENTS'!B338","v":0},null,null,null,null,null,null,{"$f":"'PROPERTY MONUMENTS'!C338","v":0},null,null,null,null,{"$f":"'PROPERTY MONUMENTS'!D338","v":0},null,null,null,{"$f":"'PROPERTY MONUMENTS'!E338","v":0},null,null,null,null,null,null,null,null,null,null,{"$f":"'PROPERTY MONUMENTS'!F338","v":0},null,null,null,null,null,{"$f":"'PROPERTY MONUMENTS'!H338","v":0},null,null,null,null,null,null,null,null,null,null,null,null,null,{"$f":"CONTROL!A161","v":0},null,null,null,{"$f":"CONTROL!B161","v":0},null,null,null,null,null,null,{"$f":"CONTROL!C161","v":0},null,null,null,null,{"$f":"CONTROL!D161","v":0},null,null,null,{"$f":"CONTROL!E161","v":0},null,null,null,null,{"$f":"CONTROL!F161","v":0},null,null,null,null,{"$f":"CONTROL!G161","v":0},null,null,null,{"$f":"CONTROL!H161","v":0}]
[null,null,{"$f":"'PROPERTY MONUMENTS'!B259","v":0},null,null,null,null,null,null,{"$f":"'PROPERTY MONUMENTS'!C259","v":0},null,null,null,null,{"$f":"'PROPERTY MONUMENTS'!D259","v":0},null,null,null,{"$f":"'PROPERTY MONUMENTS'!E259","v":0},null,null,null,null,{"$f":"'PROPERTY MONUMENTS'!F259","v":0},null,null,null,null,null,{"$f":"'PROPERTY MONUMENTS'!H259","v":0},null,null,null,null,null,null,null,null,null,null,null,null,null,{"$f":"'PROPERTY MONUMENTS'!B339","v":0},null,null,null,null,null,null,{"$f":"'PROPERTY MONUMENTS'!C339","v":0},null,null,null,null,{"$f":"'PROPERTY MONUMENTS'!D339","v":0},null,null,null,{"$f":"'PROPERTY MONUMENTS'!E339","v":0},null,null,null,null,null,null,null,null,null,null,{"$f":"'PROPERTY MONUMENTS'!F339","v":0},null,null,null,null,null,{"$f":"'PROPERTY MONUMENTS'!H339","v":0},null,null,null,null,null,null,null,null,null,null,null,null,null,{"$f":"CONTROL!A162","v":0},null,null,null,{"$f":"CONTROL!B162","v":0},null,null,null,null,null,null,{"$f":"CONTROL!C162","v":0},null,null,null,null,{"$f":"CONTROL!D162","v":0},null,null,null,{"$f":"CONTROL!E162","v":0},null,null,null,null,{"$f":"CONTROL!F162","v":0},null,null,null,null,{"$f":"CONTROL!G162","v":0},null,null,null,{"$f":"CONTROL!H162","v":0}]
[null,null,{"$f":"'PROPERTY MONUMENTS'!B260","v":0},null,null,null,null,null,null,{"$f":"'PROPERTY MONUMENTS'!C260","v":0},null,null,null,null,{"$f":"'PROPERTY MONUMENTS'!D260","v":0},null,null,null,{"$f":"'PROPERTY MONUMENTS'!E260","v":0},null,null,null,null,{"$f":"'PROPERTY MONUMENTS'!F260","v":0},null,null,null,null,null,{"$f":"'PROPERTY MONUMENTS'!H260","v":0},null,null,null,null,null,null,null,null,null,null,null,null,null,{"$f":"'PROPERTY MONUMENTS'!B340","v":0},null,null,null,null,null,null,{"$f":"'PROPERTY MONUMENTS'!C340","v":0},null,null,null,null,{"$f":"'PROPERTY MONUMENTS'!D340","v":0},null,null,null,{"$f":"'PROPERTY MONUMENTS'!E340","v":0},null,null,null,null,null,null,null,null,null,null,{"$f":"'PROPERTY MONUMENTS'!F340","v":0},null,null,null,null,null,{"$f":"'PROPERTY MONUMENTS'!H340","v":0},null,null,null,null,null,null,null,null,null,null,null,null,null,{"$f":"CONTROL!A163","v":0},null,null,null,{"$f":"CONTROL!B163","v":0},null,null,null,null,null,null,{"$f":"CONTROL!C163","v":0},null,null,null,null,{"$f":"CONTROL!D163","v":0},null,null,null,{"$f":"CONTROL!E163","v":0},null,null,null,null,{"$f":"CONTROL!F163","v":0},null,null,null,null,{"$f":"CONTROL!G163","v":0},null,null,null,{"$f":"CONTROL!H163","v":0}]
[null,null,{"$f":"'PROPERTY MONUMENTS'!B261","v":0},null,null,null,null,null,null,{"$f":"'PROPERTY MONUMENTS'!C261","v":0},null,null,null,null,{"$f":"'PROPERTY MONUMENTS'!D261","v":0},null,null,null,{"$f":"'PROPERTY MONUMENTS'!E261","v":0},null,null,null,null,{"$f":"'PROPERTY MONUMENTS'!F261","v":0},null,null,null,null,null,{"$f":"'PROPERTY MONUMENTS'!H261","v":0},null,null,null,null,null,null,null,null,null,null,null,null,null,{"$f":"'PROPERTY MONUMENTS'!B341","v":0},null,null,null,null,null,null,{"$f":"'PROPERTY MONUMENTS'!C341","v":0},null,null,null,null,{"$f":"'PROPERTY MONUMENTS'!D341","v":0},null,null,null,{"$f":"'PROPERTY MONUMENTS'!E341","v":0},null,null,null,null,null,null,null,null,null,null,{"$f":"'PROPERTY MONUMENTS'!F341","v":0},null,null,null,null,null,{"$f":"'PROPERTY MONUMENTS'!H341","v":0},null,null,null,null,null,null,null,null,null,null,null,null,null,{"$f":"CONTROL!A164","v":0},null,null,null,{"$f":"CONTROL!B164","v":0},null,null,null,null,null,null,{"$f":"CONTROL!C164","v":0},null,null,null,null,{"$f":"CONTROL!D164","v":0},null,null,null,{"$f":"CONTROL!E164","v":0},null,null,null,null,{"$f":"CONTROL!F164","v":0},null,null,null,null,{"$f":"CONTROL!G164","v":0},null,null,null,{"$f":"CONTROL!H164","v":0}]
[null,null,{"$f":"'PROPERTY MONUMENTS'!B262","v":0},null,null,null,null,null,null,{"$f":"'PROPERTY MONUMENTS'!C262","v":0},null,null,null,null,{"$f":"'PROPERTY MONUMENTS'!D262","v":0},null,null,null,{"$f":"'PROPERTY MONUMENTS'!E262","v":0},null,null,null,null,{"$f":"'PROPERTY MONUMENTS'!F262","v":0},null,null,null,null,null,{"$f":"'PROPERTY MONUMENTS'!H262","v":0},null,null,null,null,null,null,null,null,null,null,null,null,null,{"$f":"'PROPERTY MONUMENTS'!B342","v":0},null,null,null,null,null,null,{"$f":"'PROPERTY MONUMENTS'!C342","v":0},null,null,null,null,{"$f":"'PROPERTY MONUMENTS'!D342","v":0},null,null,null,{"$f":"'PROPERTY MONUMENTS'!E342","v":0},null,null,null,null,null,null,null,null,null,null,{"$f":"'PROPERTY MONUMENTS'!F342","v":0},null,null,null,null,null,{"$f":"'PROPERTY MONUMENTS'!H342","v":0},null,null,null,null,null,null,null,null,null,null,null,null,null,{"$f":"CONTROL!A165","v":0},null,null,null,{"$f":"CONTROL!B165","v":0},null,null,null,null,null,null,{"$f":"CONTROL!C165","v":0},null,null,null,null,{"$f":"CONTROL!D165","v":0},null,null,null,{"$f":"CONTROL!E165","v":0},null,null,null,null,{"$f":"CONTROL!F165","v":0},null,null,null,null,{"$f":"CONTROL!G165","v":0},null,null,null,{"$f":"CONTROL!H165","v":0}]
[null,null,{"$f":"'PROPERTY MONUMENTS'!B263","v":0},null,null,null,null,null,null,{"$f":"'PROPERTY MONUMENTS'!C263","v":0},null,null,null,null,{"$f":"'PROPERTY MONUMENTS'!D263","v":0},null,null,null,{"$f":"'PROPERTY MONUMENTS'!E263","v":0},null,null,null,null,{"$f":"'PROPERTY MONUMENTS'!F263","v":0},null,null,null,null,null,{"$f":"'PROPERTY MONUMENTS'!H263","v":0},null,null,null,null,null,null,null,null,null,null,null,null,null,{"$f":"'PROPERTY MONUMENTS'!B343","v":0},null,null,null,null,null,null,{"$f":"'PROPERTY MONUMENTS'!C343","v":0},null,null,null,null,{"$f":"'PROPERTY MONUMENTS'!D343","v":0},null,null,null,{"$f":"'PROPERTY MONUMENTS'!E343","v":0},null,null,null,null,null,null,null,null,null,null,{"$f":"'PROPERTY MONUMENTS'!F343","v":0},null,null,null,null,null,{"$f":"'PROPERTY MONUMENTS'!H343","v":0},null,null,null,null,null,null,null,null,null,null,null,null,null,{"$f":"CONTROL!A166","v":0},null,null,null,{"$f":"CONTROL!B166","v":0},null,null,null,null,null,null,{"$f":"CONTROL!C166","v":0},null,null,null,null,{"$f":"CONTROL!D166","v":0},null,null,null,{"$f":"CONTROL!E166","v":0},null,null,null,null,{"$f":"CONTROL!F166","v":0},null,null,null,null,{"$f":"CONTROL!G166","v":0},null,null,null,{"$f":"CONTROL!H166","v":0}]
[null,null,{"$f":"'PROPERTY MONUMENTS'!B264","v":0},null,null,null,null,null,null,{"$f":"'PROPERTY MONUMENTS'!C264","v":0},null,null,null,null,{"$f":"'PROPERTY MONUMENTS'!D264","v":0},null,null,null,{"$f":"'PROPERTY MONUMENTS'!E264","v":0},null,null,null,null,{"$f":"'PROPERTY MONUMENTS'!F264","v":0},null,null,null,null,null,{"$f":"'PROPERTY MONUMENTS'!H264","v":0},null,null,null,null,null,null,null,null,null,null,null,null,null,{"$f":"'PROPERTY MONUMENTS'!B344","v":0},null,null,null,null,null,null,{"$f":"'PROPERTY MONUMENTS'!C344","v":0},null,null,null,null,{"$f":"'PROPERTY MONUMENTS'!D344","v":0},null,null,null,{"$f":"'PROPERTY MONUMENTS'!E344","v":0},null,null,null,null,null,null,null,null,null,null,{"$f":"'PROPERTY MONUMENTS'!F344","v":0},null,null,null,null,null,{"$f":"'PROPERTY MONUMENTS'!H344","v":0},null,null,null,null,null,null,null,null,null,null,null,null,null,{"$f":"CONTROL!A167","v":0},null,null,null,{"$f":"CONTROL!B167","v":0},null,null,null,null,null,null,{"$f":"CONTROL!C167","v":0},null,null,null,null,{"$f":"CONTROL!D167","v":0},null,null,null,{"$f":"CONTROL!E167","v":0},null,null,null,null,{"$f":"CONTROL!F167","v":0},null,null,null,null,{"$f":"CONTROL!G167","v":0},null,null,null,{"$f":"CONTROL!H167","v":0}]
[null,null,{"$f":"'PROPERTY MONUMENTS'!B265","v":0},null,null,null,null,null,null,{"$f":"'PROPERTY MONUMENTS'!C265","v":0},null,null,null,null,{"$f":"'PROPERTY MONUMENTS'!D265","v":0},null,null,null,{"$f":"'PROPERTY MONUMENTS'!E265","v":0},null,null,null,null,{"$f":"'PROPERTY MONUMENTS'!F265","v":0},null,null,null,null,null,{"$f":"'PROPERTY MONUMENTS'!H265","v":0},null,null,null,null,null,null,null,null,null,null,null,null,null,{"$f":"'PROPERTY MONUMENTS'!B345","v":0},null,null,null,null,null,null,{"$f":"'PROPERTY MONUMENTS'!C345","v":0},null,null,null,null,{"$f":"'PROPERTY MONUMENTS'!D345","v":0},null,null,null,{"$f":"'PROPERTY MONUMENTS'!E345","v":0},null,null,null,null,null,null,null,null,null,null,{"$f":"'PROPERTY MONUMENTS'!F345","v":0},null,null,null,null,null,{"$f":"'PROPERTY MONUMENTS'!H345","v":0},null,null,null,null,null,null,null,null,null,null,null,null,null,{"$f":"CONTROL!A168","v":0},null,null,null,{"$f":"CONTROL!B168","v":0},null,null,null,null,null,null,{"$f":"CONTROL!C168","v":0},null,null,null,null,{"$f":"CONTROL!D168","v":0},null,null,null,{"$f":"CONTROL!E168","v":0},null,null,null,null,{"$f":"CONTROL!F168","v":0},null,null,null,null,{"$f":"CONTROL!G168","v":0},null,null,null,{"$f":"CONTROL!H168","v":0}]
[null,null,{"$f":"'PROPERTY MONUMENTS'!B266","v":0},null,null,null,null,null,null,{"$f":"'PROPERTY MONUMENTS'!C266","v":0},null,null,null,null,{"$f":"'PROPERTY MONUMENTS'!D266","v":0},null,null,null,{"$f":"'PROPERTY MONUMENTS'!E266","v":0},null,null,null,null,{"$f":"'PROPERTY MONUMENTS'!F266","v":0},null,null,null,null,null,{"$f":"'PROPERTY MONUMENTS'!H266","v":0},null,null,null,null,null,null,null,null,null,null,null,null,null,{"$f":"'PROPERTY MONUMENTS'!B346","v":0},null,null,null,null,null,null,{"$f":"'PROPERTY MONUMENTS'!C346","v":0},null,null,null,null,{"$f":"'PROPERTY MONUMENTS'!D346","v":0},null,null,null,{"$f":"'PROPERTY MONUMENTS'!E346","v":0},null,null,null,null,null,null,null,null,null,null,{"$f":"'PROPERTY MONUMENTS'!F346","v":0},null,null,null,null,null,{"$f":"'PROPERTY MONUMENTS'!H346","v":0},null,null,null,null,null,null,null,null,null,null,null,null,null,{"$f":"CONTROL!A169","v":0},null,null,null,{"$f":"CONTROL!B169","v":0},null,null,null,null,null,null,{"$f":"CONTROL!C169","v":0},null,null,null,null,{"$f":"CONTROL!D169","v":0},null,null,null,{"$f":"CONTROL!E169","v":0},null,null,null,null,{"$f":"CONTROL!F169","v":0},null,null,null,null,{"$f":"CONTROL!G169","v":0},null,null,null,{"$f":"CONTROL!H169","v":0}]
[null,null,{"$f":"'PROPERTY MONUMENTS'!B267","v":0},null,null,null,null,null,null,{"$f":"'PROPERTY MONUMENTS'!C267","v":0},null,null,null,null,{"$f":"'PROPERTY MONUMENTS'!D267","v":0},null,null,null,{"$f":"'PROPERTY MONUMENTS'!E267","v":0},null,null,null,null,{"$f":"'PROPERTY MONUMENTS'!F267","v":0},null,null,null,null,null,{"$f":"'PROPERTY MONUMENTS'!H267","v":0},null,null,null,null,null,null,null,null,null,null,null,null,null,{"$f":"'PROPERTY MONUMENTS'!B347","v":0},null,null,null,null,null,null,{"$f":"'PROPERTY MONUMENTS'!C347","v":0},null,null,null,null,{"$f":"'PROPERTY MONUMENTS'!D347","v":0},null,null,null,{"$f":"'PROPERTY MONUMENTS'!E347","v":0},null,null,null,null,null,null,null,null,null,null,{"$f":"'PROPERTY MONUMENTS'!F347","v":0},null,null,null,null,null,{"$f":"'PROPERTY MONUMENTS'!H347","v":0},null,null,null,null,null,null,null,null,null,null,null,null,null,{"$f":"CONTROL!A170","v":0},null,null,null,{"$f":"CONTROL!B170","v":0},null,null,null,null,null,null,{"$f":"CONTROL!C170","v":0},null,null,null,null,{"$f":"CONTROL!D170","v":0},null,null,null,{"$f":"CONTROL!E170","v":0},null,null,null,null,{"$f":"CONTROL!F170","v":0},null,null,null,null,{"$f":"CONTROL!G170","v":0},null,null,null,{"$f":"CONTROL!H170","v":0}]
[null,null,{"$f":"'PROPERTY MONUMENTS'!B268","v":0},null,null,null,null,null,null,{"$f":"'PROPERTY MONUMENTS'!C268","v":0},null,null,null,null,{"$f":"'PROPERTY MONUMENTS'!D268","v":0},null,null,null,{"$f":"'PROPERTY MONUMENTS'!E268","v":0},null,null,null,null,{"$f":"'PROPERTY MONUMENTS'!F268","v":0},null,null,null,null,null,{"$f":"'PROPERTY MONUMENTS'!H268","v":0},null,null,null,null,null,null,null,null,null,null,null,null,null,{"$f":"'PROPERTY MONUMENTS'!B348","v":0},null,null,null,null,null,null,{"$f":"'PROPERTY MONUMENTS'!C348","v":0},null,null,null,null,{"$f":"'PROPERTY MONUMENTS'!D348","v":0},null,null,null,{"$f":"'PROPERTY MONUMENTS'!E348","v":0},null,null,null,null,null,null,null,null,null,null,{"$f":"'PROPERTY MONUMENTS'!F348","v":0},null,null,null,null,null,{"$f":"'PROPERTY MONUMENTS'!H348","v":0},null,null,null,null,null,null,null,null,null,null,null,null,null,{"$f":"CONTROL!A171","v":0},null,null,null,{"$f":"CONTROL!B171","v":0},null,null,null,null,null,null,{"$f":"CONTROL!C171","v":0},null,null,null,null,{"$f":"CONTROL!D171","v":0},null,null,null,{"$f":"CONTROL!E171","v":0},null,null,null,null,{"$f":"CONTROL!F171","v":0},null,null,null,null,{"$f":"CONTROL!G171","v":0},null,null,null,{"$f":"CONTROL!H171","v":0}]
[null,null,{"$f":"'PROPERTY MONUMENTS'!B269","v":0},null,null,null,null,null,null,{"$f":"'PROPERTY MONUMENTS'!C269","v":0},null,null,null,null,{"$f":"'PROPERTY MONUMENTS'!D269","v":0},null,null,null,{"$f":"'PROPERTY MONUMENTS'!E269","v":0},null,null,null,null,{"$f":"'PROPERTY MONUMENTS'!F269","v":0},null,null,null,null,null,{"$f":"'PROPERTY MONUMENTS'!H269","v":0},null,null,null,null,null,null,null,null,null,null,null,null,null,{"$f":"'PROPERTY MONUMENTS'!B349","v":0},null,null,null,null,null,null,{"$f":"'PROPERTY MONUMENTS'!C349","v":0},null,null,null,null,{"$f":"'PROPERTY MONUMENTS'!D349","v":0},null,null,null,{"$f":"'PROPERTY MONUMENTS'!E349","v":0},null,null,null,null,null,null,null,null,null,null,{"$f":"'PROPERTY MONUMENTS'!F349","v":0},null,null,null,null,null,{"$f":"'PROPERTY MONUMENTS'!H349","v":0},null,null,null,null,null,null,null,null,null,null,null,null,null,{"$f":"CONTROL!A172","v":0},null,null,null,{"$f":"CONTROL!B172","v":0},null,null,null,null,null,null,{"$f":"CONTROL!C172","v":0},null,null,null,null,{"$f":"CONTROL!D172","v":0},null,null,null,{"$f":"CONTROL!E172","v":0},null,null,null,null,{"$f":"CONTROL!F172","v":0},null,null,null,null,{"$f":"CONTROL!G172","v":0},null,null,null,{"$f":"CONTROL!H172","v":0}]
[null,null,{"$f":"'PROPERTY MONUMENTS'!B270","v":0},null,null,null,null,null,null,{"$f":"'PROPERTY MONUMENTS'!C270","v":0},null,null,null,null,{"$f":"'PROPERTY MONUMENTS'!D270","v":0},null,null,null,{"$f":"'PROPERTY MONUMENTS'!E270","v":0},null,null,null,null,{"$f":"'PROPERTY MONUMENTS'!F270","v":0},null,null,null,null,null,{"$f":"'PROPERTY MONUMENTS'!H270","v":0},null,null,null,null,null,null,null,null,null,null,null,null,null,{"$f":"'PROPERTY MONUMENTS'!B350","v":0},null,null,null,null,null,null,{"$f":"'PROPERTY MONUMENTS'!C350","v":0},null,null,null,null,{"$f":"'PROPERTY MONUMENTS'!D350","v":0},null,null,null,{"$f":"'PROPERTY MONUMENTS'!E350","v":0},null,null,null,null,null,null,null,null,null,null,{"$f":"'PROPERTY MONUMENTS'!F350","v":0},null,null,null,null,null,{"$f":"'PROPERTY MONUMENTS'!H350","v":0},null,null,null,null,null,null,null,null,null,null,null,null,null,{"$f":"CONTROL!A173","v":0},null,null,null,{"$f":"CONTROL!B173","v":0},null,null,null,null,null,null,{"$f":"CONTROL!C173","v":0},null,null,null,null,{"$f":"CONTROL!D173","v":0},null,null,null,{"$f":"CONTROL!E173","v":0},null,null,null,null,{"$f":"CONTROL!F173","v":0},null,null,null,null,{"$f":"CONTROL!G173","v":0},null,null,null,{"$f":"CONTROL!H173","v":0}]
[null,null,{"$f":"'PROPERTY MONUMENTS'!B271","v":0},null,null,null,null,null,null,{"$f":"'PROPERTY MONUMENTS'!C271","v":0},null,null,null,null,{"$f":"'PROPERTY MONUMENTS'!D271","v":0},null,null,null,{"$f":"'PROPERTY MONUMENTS'!E271","v":0},null,null,null,null,{"$f":"'PROPERTY MONUMENTS'!F271","v":0},null,null,null,null,null,{"$f":"'PROPERTY MONUMENTS'!H271","v":0},null,null,null,null,null,null,null,null,null,null,null,null,null,{"$f":"'PROPERTY MONUMENTS'!B351","v":0},null,null,null,null,null,null,{"$f":"'PROPERTY MONUMENTS'!C351","v":0},null,null,null,null,{"$f":"'PROPERTY MONUMENTS'!D351","v":0},null,null,null,{"$f":"'PROPERTY MONUMENTS'!E351","v":0},null,null,null,null,null,null,null,null,null,null,{"$f":"'PROPERTY MONUMENTS'!F351","v":0},null,null,null,null,null,{"$f":"'PROPERTY MONUMENTS'!H351","v":0},null,null,null,null,null,null,null,null,null,null,null,null,null,{"$f":"CONTROL!A174","v":0},null,null,null,{"$f":"CONTROL!B174","v":0},null,null,null,null,null,null,{"$f":"CONTROL!C174","v":0},null,null,null,null,{"$f":"CONTROL!D174","v":0},null,null,null,{"$f":"CONTROL!E174","v":0},null,null,null,null,{"$f":"CONTROL!F174","v":0},null,null,null,null,{"$f":"CONTROL!G174","v":0},null,null,null,{"$f":"CONTROL!H174","v":0}]
[null,null,{"$f":"'PROPERTY MONUMENTS'!B272","v":0},null,null,null,null,null,null,{"$f":"'PROPERTY MONUMENTS'!C272","v":0},null,null,null,null,{"$f":"'PROPERTY MONUMENTS'!D272","v":0},null,null,null,{"$f":"'PROPERTY MONUMENTS'!E272","v":0},null,null,null,null,{"$f":"'PROPERTY MONUMENTS'!F272","v":0},null,null,null,null,null,{"$f":"'PROPERTY MONUMENTS'!H272","v":0},null,null,null,null,null,null,null,null,null,null,null,null,null,{"$f":"'PROPERTY MONUMENTS'!B352","v":0},null,null,null,null,null,null,{"$f":"'PROPERTY MONUMENTS'!C352","v":0},null,null,null,null,{"$f":"'PROPERTY MONUMENTS'!D352","v":0},null,null,null,{"$f":"'PROPERTY MONUMENTS'!E352","v":0},null,null,null,null,null,null,null,null,null,null,{"$f":"'PROPERTY MONUMENTS'!F352","v":0},null,null,null,null,null,{"$f":"'PROPERTY MONUMENTS'!H352","v":0},null,null,null,null,null,null,null,null,null,null,null,null,null,{"$f":"CONTROL!A175","v":0},null,null,null,{"$f":"CONTROL!B175","v":0},null,null,null,null,null,null,{"$f":"CONTROL!C175","v":0},null,null,null,null,{"$f":"CONTROL!D175","v":0},null,null,null,{"$f":"CONTROL!E175","v":0},null,null,null,null,{"$f":"CONTROL!F175","v":0},null,null,null,null,{"$f":"CONTROL!G175","v":0},null,null,null,{"$f":"CONTROL!H175","v":0}]
[null,null,{"$f":"'PROPERTY MONUMENTS'!B273","v":0},null,null,null,null,null,null,{"$f":"'PROPERTY MONUMENTS'!C273","v":0},null,null,null,null,{"$f":"'PROPERTY MONUMENTS'!D273","v":0},null,null,null,{"$f":"'PROPERTY MONUMENTS'!E273","v":0},null,null,null,null,{"$f":"'PROPERTY MONUMENTS'!F273","v":0},null,null,null,null,null,{"$f":"'PROPERTY MONUMENTS'!H273","v":0},null,null,null,null,null,null,null,null,null,null,null,null,null,{"$f":"'PROPERTY MONUMENTS'!B353","v":0},null,null,null,null,null,null,{"$f":"'PROPERTY MONUMENTS'!C353","v":0},null,null,null,null,{"$f":"'PROPERTY MONUMENTS'!D353","v":0},null,null,null,{"$f":"'PROPERTY MONUMENTS'!E353","v":0},null,null,null,null,null,null,null,null,null,null,{"$f":"'PROPERTY MONUMENTS'!F353","v":0},null,null,null,null,null,{"$f":"'PROPERTY MONUMENTS'!H353","v":0},null,null,null,null,null,null,null,null,null,null,null,null,null,{"$f":"CONTROL!A176","v":0},null,null,null,{"$f":"CONTROL!B176","v":0},null,null,null,null,null,null,{"$f":"CONTROL!C176","v":0},null,null,null,null,{"$f":"CONTROL!D176","v":0},null,null,null,{"$f":"CONTROL!E176","v":0},null,null,null,null,{"$f":"CONTROL!F176","v":0},null,null,null,null,{"$f":"CONTROL!G176","v":0},null,null,null,{"$f":"CONTROL!H176","v":0}]
[null,null,{"$f":"'PROPERTY MONUMENTS'!B274","v":0},null,null,null,null,null,null,{"$f":"'PROPERTY MONUMENTS'!C274","v":0},null,null,null,null,{"$f":"'PROPERTY MONUMENTS'!D274","v":0},null,null,null,{"$f":"'PROPERTY MONUMENTS'!E274","v":0},null,null,null,null,{"$f":"'PROPERTY MONUMENTS'!F274","v":0},null,null,null,null,null,{"$f":"'PROPERTY MONUMENTS'!H274","v":0},null,null,null,null,null,null,null,null,null,null,null,null,null,{"$f":"'PROPERTY MONUMENTS'!B354","v":0},null,null,null,null,null,null,{"$f":"'PROPERTY MONUMENTS'!C354","v":0},null,null,null,null,{"$f":"'PROPERTY MONUMENTS'!D354","v":0},null,null,null,{"$f":"'PROPERTY MONUMENTS'!E354","v":0},null,null,null,null,null,null,null,null,null,null,{"$f":"'PROPERTY MONUMENTS'!F354","v":0},null,null,null,null,null,{"$f":"'PROPERTY MONUMENTS'!H354","v":0},null,null,null,null,null,null,null,null,null,null,null,null,null,{"$f":"CONTROL!A177","v":0},null,null,null,{"$f":"CONTROL!B177","v":0},null,null,null,null,null,null,{"$f":"CONTROL!C177","v":0},null,null,null,null,{"$f":"CONTROL!D177","v":0},null,null,null,{"$f":"CONTROL!E177","v":0},null,null,null,null,{"$f":"CONTROL!F177","v":0},null,null,null,null,{"$f":"CONTROL!G177","v":0},null,null,null,{"$f":"CONTROL!H177","v":0}]
[null,null,{"$f":"'PROPERTY MONUMENTS'!B275","v":0},null,null,null,null,null,null,{"$f":"'PROPERTY MONUMENTS'!C275","v":0},null,null,null,null,{"$f":"'PROPERTY MONUMENTS'!D275","v":0},null,null,null,{"$f":"'PROPERTY MONUMENTS'!E275","v":0},null,null,null,null,{"$f":"'PROPERTY MONUMENTS'!F275","v":0},null,null,null,null,null,{"$f":"'PROPERTY MONUMENTS'!H275","v":0},null,null,null,null,null,null,null,null,null,null,null,null,null,{"$f":"'PROPERTY MONUMENTS'!B355","v":0},null,null,null,null,null,null,{"$f":"'PROPERTY MONUMENTS'!C355","v":0},null,null,null,null,{"$f":"'PROPERTY MONUMENTS'!D355","v":0},null,null,null,{"$f":"'PROPERTY MONUMENTS'!E355","v":0},null,null,null,null,null,null,null,null,null,null,{"$f":"'PROPERTY MONUMENTS'!F355","v":0},null,null,null,null,null,{"$f":"'PROPERTY MONUMENTS'!H355","v":0},null,null,null,null,null,null,null,null,null,null,null,null,null,{"$f":"CONTROL!A178","v":0},null,null,null,{"$f":"CONTROL!B178","v":0},null,null,null,null,null,null,{"$f":"CONTROL!C178","v":0},null,null,null,null,{"$f":"CONTROL!D178","v":0},null,null,null,{"$f":"CONTROL!E178","v":0},null,null,null,null,{"$f":"CONTROL!F178","v":0},null,null,null,null,{"$f":"CONTROL!G178","v":0},null,null,null,{"$f":"CONTROL!H178","v":0}]
[null,null,{"$f":"'PROPERTY MONUMENTS'!B276","v":0},null,null,null,null,null,null,{"$f":"'PROPERTY MONUMENTS'!C276","v":0},null,null,null,null,{"$f":"'PROPERTY MONUMENTS'!D276","v":0},null,null,null,{"$f":"'PROPERTY MONUMENTS'!E276","v":0},null,null,null,null,{"$f":"'PROPERTY MONUMENTS'!F276","v":0},null,null,null,null,null,{"$f":"'PROPERTY MONUMENTS'!H276","v":0},null,null,null,null,null,null,null,null,null,null,null,null,null,{"$f":"'PROPERTY MONUMENTS'!B356","v":0},null,null,null,null,null,null,{"$f":"'PROPERTY MONUMENTS'!C356","v":0},null,null,null,null,{"$f":"'PROPERTY MONUMENTS'!D356","v":0},null,null,null,{"$f":"'PROPERTY MONUMENTS'!E356","v":0},null,null,null,null,null,null,null,null,null,null,{"$f":"'PROPERTY MONUMENTS'!F356","v":0},null,null,null,null,null,{"$f":"'PROPERTY MONUMENTS'!H356","v":0},null,null,null,null,null,null,null,null,null,null,null,null,null,{"$f":"CONTROL!A179","v":0},null,null,null,{"$f":"CONTROL!B179","v":0},null,null,null,null,null,null,{"$f":"CONTROL!C179","v":0},null,null,null,null,{"$f":"CONTROL!D179","v":0},null,null,null,{"$f":"CONTROL!E179","v":0},null,null,null,null,{"$f":"CONTROL!F179","v":0},null,null,null,null,{"$f":"CONTROL!G179","v":0},null,null,null,{"$f":"CONTROL!H179","v":0}]
[null,null,{"$f":"'PROPERTY MONUMENTS'!B277","v":0},null,null,null,null,null,null,{"$f":"'PROPERTY MONUMENTS'!C277","v":0},null,null,null,null,{"$f":"'PROPERTY MONUMENTS'!D277","v":0},null,null,null,{"$f":"'PROPERTY MONUMENTS'!E277","v":0},null,null,null,null,{"$f":"'PROPERTY MONUMENTS'!F277","v":0},null,null,null,null,null,{"$f":"'PROPERTY MONUMENTS'!H277","v":0},null,null,null,null,null,null,null,null,null,null,null,null,null,{"$f":"'PROPERTY MONUMENTS'!B357","v":0},null,null,null,null,null,null,{"$f":"'PROPERTY MONUMENTS'!C357","v":0},null,null,null,null,{"$f":"'PROPERTY MONUMENTS'!D357","v":0},null,null,null,{"$f":"'PROPERTY MONUMENTS'!E357","v":0},null,null,null,null,null,null,null,null,null,null,{"$f":"'PROPERTY MONUMENTS'!F357","v":0},null,null,null,null,null,{"$f":"'PROPERTY MONUMENTS'!H357","v":0},null,null,null,null,null,null,null,null,null,null,null,null,null,{"$f":"CONTROL!A180","v":0},null,null,null,{"$f":"CONTROL!B180","v":0},null,null,null,null,null,null,{"$f":"CONTROL!C180","v":0},null,null,null,null,{"$f":"CONTROL!D180","v":0},null,null,null,{"$f":"CONTROL!E180","v":0},null,null,null,null,{"$f":"CONTROL!F180","v":0},null,null,null,null,{"$f":"CONTROL!G180","v":0},null,null,null,{"$f":"CONTROL!H180","v":0}]
[null,null,{"$f":"'PROPERTY MONUMENTS'!B278","v":0},null,null,null,null,null,null,{"$f":"'PROPERTY MONUMENTS'!C278","v":0},null,null,null,null,{"$f":"'PROPERTY MONUMENTS'!D278","v":0},null,null,null,{"$f":"'PROPERTY MONUMENTS'!E278","v":0},null,null,null,null,{"$f":"'PROPERTY MONUMENTS'!F278","v":0},null,null,null,null,null,{"$f":"'PROPERTY MONUMENTS'!H278","v":0},null,null,null,null,null,null,null,null,null,null,null,null,null,{"$f":"'PROPERTY MONUMENTS'!B358","v":0},null,null,null,null,null,null,{"$f":"'PROPERTY MONUMENTS'!C358","v":0},null,null,null,null,{"$f":"'PROPERTY MONUMENTS'!D358","v":0},null,null,null,{"$f":"'PROPERTY MONUMENTS'!E358","v":0},null,null,null,null,null,null,null,null,null,null,{"$f":"'PROPERTY MONUMENTS'!F358","v":0},null,null,null,null,null,{"$f":"'PROPERTY MONUMENTS'!H358","v":0},null,null,null,null,null,null,null,null,null,null,null,null,null,{"$f":"CONTROL!A181","v":0},null,null,null,{"$f":"CONTROL!B181","v":0},null,null,null,null,null,null,{"$f":"CONTROL!C181","v":0},null,null,null,null,{"$f":"CONTROL!D181","v":0},null,null,null,{"$f":"CONTROL!E181","v":0},null,null,null,null,{"$f":"CONTROL!F181","v":0},null,null,null,null,{"$f":"CONTROL!G181","v":0},null,null,null,{"$f":"CONTROL!H181","v":0}]
[null,null,{"$f":"'PROPERTY MONUMENTS'!B279","v":0},null,null,null,null,null,null,{"$f":"'PROPERTY MONUMENTS'!C279","v":0},null,null,null,null,{"$f":"'PROPERTY MONUMENTS'!D279","v":0},null,null,null,{"$f":"'PROPERTY MONUMENTS'!E279","v":0},null,null,null,null,{"$f":"'PROPERTY MONUMENTS'!F279","v":0},null,null,null,null,null,{"$f":"'PROPERTY MONUMENTS'!H279","v":0},null,null,null,null,null,null,null,null,null,null,null,null,null,{"$f":"'PROPERTY MONUMENTS'!B359","v":0},null,null,null,null,null,null,{"$f":"'PROPERTY MONUMENTS'!C359","v":0},null,null,null,null,{"$f":"'PROPERTY MONUMENTS'!D359","v":0},null,null,null,{"$f":"'PROPERTY MONUMENTS'!E359","v":0},null,null,null,null,null,null,null,null,null,null,{"$f":"'PROPERTY MONUMENTS'!F359","v":0},null,null,null,null,null,{"$f":"'PROPERTY MONUMENTS'!H359","v":0},null,null,null,null,null,null,null,null,null,null,null,null,null,{"$f":"CONTROL!A182","v":0},null,null,null,{"$f":"CONTROL!B182","v":0},null,null,null,null,null,null,{"$f":"CONTROL!C182","v":0},null,null,null,null,{"$f":"CONTROL!D182","v":0},null,null,null,{"$f":"CONTROL!E182","v":0},null,null,null,null,{"$f":"CONTROL!F182","v":0},null,null,null,null,{"$f":"CONTROL!G182","v":0},null,null,null,{"$f":"CONTROL!H182","v":0}]
[null,null,{"$f":"'PROPERTY MONUMENTS'!B280","v":0},null,null,null,null,null,null,{"$f":"'PROPERTY MONUMENTS'!C280","v":0},null,null,null,null,{"$f":"'PROPERTY MONUMENTS'!D280","v":0},null,null,null,{"$f":"'PROPERTY MONUMENTS'!E280","v":0},null,null,null,null,{"$f":"'PROPERTY MONUMENTS'!F280","v":0},null,null,null,null,null,{"$f":"'PROPERTY MONUMENTS'!H280","v":0},null,null,null,null,null,null,null,null,null,null,null,null,null,{"$f":"'PROPERTY MONUMENTS'!B360","v":0},null,null,null,null,null,null,{"$f":"'PROPERTY MONUMENTS'!C360","v":0},null,null,null,null,{"$f":"'PROPERTY MONUMENTS'!D360","v":0},null,null,null,{"$f":"'PROPERTY MONUMENTS'!E360","v":0},null,null,null,null,null,null,null,null,null,null,{"$f":"'PROPERTY MONUMENTS'!F360","v":0},null,null,null,null,null,{"$f":"'PROPERTY MONUMENTS'!H360","v":0},null,null,null,null,null,null,null,null,null,null,null,null,null,{"$f":"CONTROL!A183","v":0},null,null,null,{"$f":"CONTROL!B183","v":0},null,null,null,null,null,null,{"$f":"CONTROL!C183","v":0},null,null,null,null,{"$f":"CONTROL!D183","v":0},null,null,null,{"$f":"CONTROL!E183","v":0},null,null,null,null,{"$f":"CONTROL!F183","v":0},null,null,null,null,{"$f":"CONTROL!G183","v":0},null,null,null,{"$f":"CONTROL!H183","v":0}]
[null,null,{"$f":"'PROPERTY MONUMENTS'!B281","v":0},null,null,null,null,null,null,{"$f":"'PROPERTY MONUMENTS'!C281","v":0},null,null,null,null,{"$f":"'PROPERTY MONUMENTS'!D281","v":0},null,null,null,{"$f":"'PROPERTY MONUMENTS'!E281","v":0},null,null,null,null,{"$f":"'PROPERTY MONUMENTS'!F281","v":0},null,null,null,null,null,{"$f":"'PROPERTY MONUMENTS'!H281","v":0},null,null,null,null,null,null,null,null,null,null,null,null,null,{"$f":"'PROPERTY MONUMENTS'!B361","v":0},null,null,null,null,null,null,{"$f":"'PROPERTY MONUMENTS'!C361","v":0},null,null,null,null,{"$f":"'PROPERTY MONUMENTS'!D361","v":0},null,null,null,{"$f":"'PROPERTY MONUMENTS'!E361","v":0},null,null,null,null,null,null,null,null,null,null,{"$f":"'PROPERTY MONUMENTS'!F361","v":0},null,null,null,null,null,{"$f":"'PROPERTY MONUMENTS'!H361","v":0},null,null,null,null,null,null,null,null,null,null,null,null,null,{"$f":"CONTROL!A184","v":0},null,null,null,{"$f":"CONTROL!B184","v":0},null,null,null,null,null,null,{"$f":"CONTROL!C184","v":0},null,null,null,null,{"$f":"CONTROL!D184","v":0},null,null,null,{"$f":"CONTROL!E184","v":0},null,null,null,null,{"$f":"CONTROL!F184","v":0},null,null,null,null,{"$f":"CONTROL!G184","v":0},null,null,null,{"$f":"CONTROL!H184","v":0}]
[null,null,{"$f":"'PROPERTY MONUMENTS'!B282","v":0},null,null,null,null,null,null,{"$f":"'PROPERTY MONUMENTS'!C282","v":0},null,null,null,null,{"$f":"'PROPERTY MONUMENTS'!D282","v":0},null,null,null,{"$f":"'PROPERTY MONUMENTS'!E282","v":0},null,null,null,null,{"$f":"'PROPERTY MONUMENTS'!F282","v":0},null,null,null,null,null,{"$f":"'PROPERTY MONUMENTS'!H282","v":0},null,null,null,null,null,null,null,null,null,null,null,null,null,{"$f":"'PROPERTY MONUMENTS'!B362","v":0},null,null,null,null,null,null,{"$f":"'PROPERTY MONUMENTS'!C362","v":0},null,null,null,null,{"$f":"'PROPERTY MONUMENTS'!D362","v":0},null,null,null,{"$f":"'PROPERTY MONUMENTS'!E362","v":0},null,null,null,null,null,null,null,null,null,null,{"$f":"'PROPERTY MONUMENTS'!F362","v":0},null,null,null,null,null,{"$f":"'PROPERTY MONUMENTS'!H362","v":0},null,null,null,null,null,null,null,null,null,null,null,null,null,{"$f":"CONTROL!A185","v":0},null,null,null,{"$f":"CONTROL!B185","v":0},null,null,null,null,null,null,{"$f":"CONTROL!C185","v":0},null,null,null,null,{"$f":"CONTROL!D185","v":0},null,null,null,{"$f":"CONTROL!E185","v":0},null,null,null,null,{"$f":"CONTROL!F185","v":0},null,null,null,null,{"$f":"CONTROL!G185","v":0},null,null,null,{"$f":"CONTROL!H185","v":0}]
[null,null,{"$f":"'PROPERTY MONUMENTS'!B283","v":0},null,null,null,null,null,null,{"$f":"'PROPERTY MONUMENTS'!C283","v":0},null,null,null,null,{"$f":"'PROPERTY MONUMENTS'!D283","v":0},null,null,null,{"$f":"'PROPERTY MONUMENTS'!E283","v":0},null,null,null,null,{"$f":"'PROPERTY MONUMENTS'!F283","v":0},null,null,null,null,null,{"$f":"'PROPERTY MONUMENTS'!H283","v":0},null,null,null,null,null,null,null,null,null,null,null,null,null,{"$f":"'PROPERTY MONUMENTS'!B363","v":0},null,null,null,null,null,null,{"$f":"'PROPERTY MONUMENTS'!C363","v":0},null,null,null,null,{"$f":"'PROPERTY MONUMENTS'!D363","v":0},null,null,null,{"$f":"'PROPERTY MONUMENTS'!E363","v":0},null,null,null,null,null,null,null,null,null,null,{"$f":"'PROPERTY MONUMENTS'!F363","v":0},null,null,null,null,null,{"$f":"'PROPERTY MONUMENTS'!H363","v":0},null,null,null,null,null,null,null,null,null,null,null,null,null,{"$f":"CONTROL!A186","v":0},null,null,null,{"$f":"CONTROL!B186","v":0},null,null,null,null,null,null,{"$f":"CONTROL!C186","v":0},null,null,null,null,{"$f":"CONTROL!D186","v":0},null,null,null,{"$f":"CONTROL!E186","v":0},null,null,null,null,{"$f":"CONTROL!F186","v":0},null,null,null,null,{"$f":"CONTROL!G186","v":0},null,null,null,{"$f":"CONTROL!H186","v":0}]
[null,null,{"$f":"'PROPERTY MONUMENTS'!B284","v":0},null,null,null,null,null,null,{"$f":"'PROPERTY MONUMENTS'!C284","v":0},null,null,null,null,{"$f":"'PROPERTY MONUMENTS'!D284","v":0},null,null,null,{"$f":"'PROPERTY MONUMENTS'!E284","v":0},null,null,null,null,{"$f":"'PROPERTY MONUMENTS'!F284","v":0},null,null,null,null,null,{"$f":"'PROPERTY MONUMENTS'!H284","v":0},null,null,null,null,null,null,null,null,null,null,null,null,null,{"$f":"'PROPERTY MONUMENTS'!B364","v":0},null,null,null,null,null,null,{"$f":"'PROPERTY MONUMENTS'!C364","v":0},null,null,null,null,{"$f":"'PROPERTY MONUMENTS'!D364","v":0},null,null,null,{"$f":"'PROPERTY MONUMENTS'!E364","v":0},null,null,null,null,null,null,null,null,null,null,{"$f":"'PROPERTY MONUMENTS'!F364","v":0},null,null,null,null,null,{"$f":"'PROPERTY MONUMENTS'!H364","v":0},null,null,null,null,null,null,null,null,null,null,null,null,null,{"$f":"CONTROL!A187","v":0},null,null,null,{"$f":"CONTROL!B187","v":0},null,null,null,null,null,null,{"$f":"CONTROL!C187","v":0},null,null,null,null,{"$f":"CONTROL!D187","v":0},null,null,null,{"$f":"CONTROL!E187","v":0},null,null,null,null,{"$f":"CONTROL!F187","v":0},null,null,null,null,{"$f":"CONTROL!G187","v":0},null,null,null,{"$f":"CONTROL!H187","v":0}]
[null,null,{"$f":"'PROPERTY MONUMENTS'!B285","v":0},null,null,null,null,null,null,{"$f":"'PROPERTY MONUMENTS'!C285","v":0},null,null,null,null,{"$f":"'PROPERTY MONUMENTS'!D285","v":0},null,null,null,{"$f":"'PROPERTY MONUMENTS'!E285","v":0},null,null,null,null,{"$f":"'PROPERTY MONUMENTS'!F285","v":0},null,null,null,null,null,{"$f":"'PROPERTY MONUMENTS'!H285","v":0},null,null,null,null,null,null,null,null,null,null,null,null,null,{"$f":"'PROPERTY MONUMENTS'!B365","v":0},null,null,null,null,null,null,{"$f":"'PROPERTY MONUMENTS'!C365","v":0},null,null,null,null,{"$f":"'PROPERTY MONUMENTS'!D365","v":0},null,null,null,{"$f":"'PROPERTY MONUMENTS'!E365","v":0},null,null,null,null,null,null,null,null,null,null,{"$f":"'PROPERTY MONUMENTS'!F365","v":0},null,null,null,null,null,{"$f":"'PROPERTY MONUMENTS'!H365","v":0},null,null,null,null,null,null,null,null,null,null,null,null,null,{"$f":"CONTROL!A188","v":0},null,null,null,{"$f":"CONTROL!B188","v":0},null,null,null,null,null,null,{"$f":"CONTROL!C188","v":0},null,null,null,null,{"$f":"CONTROL!D188","v":0},null,null,null,{"$f":"CONTROL!E188","v":0},null,null,null,null,{"$f":"CONTROL!F188","v":0},null,null,null,null,{"$f":"CONTROL!G188","v":0},null,null,null,{"$f":"CONTROL!H188","v":0}]
[null,null,{"$f":"'PROPERTY MONUMENTS'!B286","v":0},null,null,null,null,null,null,{"$f":"'PROPERTY MONUMENTS'!C286","v":0},null,null,null,null,{"$f":"'PROPERTY MONUMENTS'!D286","v":0},null,null,null,{"$f":"'PROPERTY MONUMENTS'!E286","v":0},null,null,null,null,{"$f":"'PROPERTY MONUMENTS'!F286","v":0},null,null,null,null,null,{"$f":"'PROPERTY MONUMENTS'!H286","v":0},null,null,null,null,null,null,null,null,null,null,null,null,null,{"$f":"'PROPERTY MONUMENTS'!B366","v":0},null,null,null,null,null,null,{"$f":"'PROPERTY MONUMENTS'!C366","v":0},null,null,null,null,{"$f":"'PROPERTY MONUMENTS'!D366","v":0},null,null,null,{"$f":"'PROPERTY MONUMENTS'!E366","v":0},null,null,null,null,null,null,null,null,null,null,{"$f":"'PROPERTY MONUMENTS'!F366","v":0},null,null,null,null,null,{"$f":"'PROPERTY MONUMENTS'!H366","v":0},null,null,null,null,null,null,null,null,null,null,null,null,null,{"$f":"CONTROL!A189","v":0},null,null,null,{"$f":"CONTROL!B189","v":0},null,null,null,null,null,null,{"$f":"CONTROL!C189","v":0},null,null,null,null,{"$f":"CONTROL!D189","v":0},null,null,null,{"$f":"CONTROL!E189","v":0},null,null,null,null,{"$f":"CONTROL!F189","v":0},null,null,null,null,{"$f":"CONTROL!G189","v":0},null,null,null,{"$f":"CONTROL!H189","v":0}]
[null,null,{"$f":"'PROPERTY MONUMENTS'!B287","v":0},null,null,null,null,null,null,{"$f":"'PROPERTY MONUMENTS'!C287","v":0},null,null,null,null,{"$f":"'PROPERTY MONUMENTS'!D287","v":0},null,null,null,{"$f":"'PROPERTY MONUMENTS'!E287","v":0},null,null,null,null,{"$f":"'PROPERTY MONUMENTS'!F287","v":0},null,null,null,null,null,{"$f":"'PROPERTY MONUMENTS'!H287","v":0},null,null,null,null,null,null,null,null,null,null,null,null,null,{"$f":"'PROPERTY MONUMENTS'!B367","v":0},null,null,null,null,null,null,{"$f":"'PROPERTY MONUMENTS'!C367","v":0},null,null,null,null,{"$f":"'PROPERTY MONUMENTS'!D367","v":0},null,null,null,{"$f":"'PROPERTY MONUMENTS'!E367","v":0},null,null,null,null,null,null,null,null,null,null,{"$f":"'PROPERTY MONUMENTS'!F367","v":0},null,null,null,null,null,{"$f":"'PROPERTY MONUMENTS'!H367","v":0},null,null,null,null,null,null,null,null,null,null,null,null,null,{"$f":"CONTROL!A190","v":0},null,null,null,{"$f":"CONTROL!B190","v":0},null,null,null,null,null,null,{"$f":"CONTROL!C190","v":0},null,null,null,null,{"$f":"CONTROL!D190","v":0},null,null,null,{"$f":"CONTROL!E190","v":0},null,null,null,null,{"$f":"CONTROL!F190","v":0},null,null,null,null,{"$f":"CONTROL!G190","v":0},null,null,null,{"$f":"CONTROL!H190","v":0}]
[null,null,{"$f":"'PROPERTY MONUMENTS'!B288","v":0},null,null,null,null,null,null,{"$f":"'PROPERTY MONUMENTS'!C288","v":0},null,null,null,null,{"$f":"'PROPERTY MONUMENTS'!D288","v":0},null,null,null,{"$f":"'PROPERTY MONUMENTS'!E288","v":0},null,null,null,null,{"$f":"'PROPERTY MONUMENTS'!F288","v":0},null,null,null,null,null,{"$f":"'PROPERTY MONUMENTS'!H288","v":0},null,null,null,null,null,null,null,null,null,null,null,null,null,{"$f":"'PROPERTY MONUMENTS'!B368","v":0},null,null,null,null,null,null,{"$f":"'PROPERTY MONUMENTS'!C368","v":0},null,null,null,null,{"$f":"'PROPERTY MONUMENTS'!D368","v":0},null,null,null,{"$f":"'PROPERTY MONUMENTS'!E368","v":0},null,null,null,null,null,null,null,null,null,null,{"$f":"'PROPERTY MONUMENTS'!F368","v":0},null,null,null,null,null,{"$f":"'PROPERTY MONUMENTS'!H368","v":0},null,null,null,null,null,null,null,null,null,null,null,null,null,{"$f":"CONTROL!A191","v":0},null,null,null,{"$f":"CONTROL!B191","v":0},null,null,null,null,null,null,{"$f":"CONTROL!C191","v":0},null,null,null,null,{"$f":"CONTROL!D191","v":0},null,null,null,{"$f":"CONTROL!E191","v":0},null,null,null,null,{"$f":"CONTROL!F191","v":0},null,null,null,null,{"$f":"CONTROL!G191","v":0},null,null,null,{"$f":"CONTROL!H191","v":0}]
[null,null,{"$f":"'PROPERTY MONUMENTS'!B289","v":0},null,null,null,null,null,null,{"$f":"'PROPERTY MONUMENTS'!C289","v":0},null,null,null,null,{"$f":"'PROPERTY MONUMENTS'!D289","v":0},null,null,null,{"$f":"'PROPERTY MONUMENTS'!E289","v":0},null,null,null,null,{"$f":"'PROPERTY MONUMENTS'!F289","v":0},null,null,null,null,null,{"$f":"'PROPERTY MONUMENTS'!H289","v":0},null,null,null,null,null,null,null,null,null,null,null,null,null,{"$f":"'PROPERTY MONUMENTS'!B369","v":0},null,null,null,null,null,null,{"$f":"'PROPERTY MONUMENTS'!C369","v":0},null,null,null,null,{"$f":"'PROPERTY MONUMENTS'!D369","v":0},null,null,null,{"$f":"'PROPERTY MONUMENTS'!E369","v":0},null,null,null,null,null,null,null,null,null,null,{"$f":"'PROPERTY MONUMENTS'!F369","v":0},null,null,null,null,null,{"$f":"'PROPERTY MONUMENTS'!H369","v":0},null,null,null,null,null,null,null,null,null,null,null,null,null,{"$f":"CONTROL!A192","v":0},null,null,null,{"$f":"CONTROL!B192","v":0},null,null,null,null,null,null,{"$f":"CONTROL!C192","v":0},null,null,null,null,{"$f":"CONTROL!D192","v":0},null,null,null,{"$f":"CONTROL!E192","v":0},null,null,null,null,{"$f":"CONTROL!F192","v":0},null,null,null,null,{"$f":"CONTROL!G192","v":0},null,null,null,{"$f":"CONTROL!H192","v":0}]
[null,null,{"$f":"'PROPERTY MONUMENTS'!B290","v":0},null,null,null,null,null,null,{"$f":"'PROPERTY MONUMENTS'!C290","v":0},null,null,null,null,{"$f":"'PROPERTY MONUMENTS'!D290","v":0},null,null,null,{"$f":"'PROPERTY MONUMENTS'!E290","v":0},null,null,null,null,{"$f":"'PROPERTY MONUMENTS'!F290","v":0},null,null,null,null,null,{"$f":"'PROPERTY MONUMENTS'!H290","v":0},null,null,null,null,null,null,null,null,null,null,null,null,null,{"$f":"'PROPERTY MONUMENTS'!B370","v":0},null,null,null,null,null,null,{"$f":"'PROPERTY MONUMENTS'!C370","v":0},null,null,null,null,{"$f":"'PROPERTY MONUMENTS'!D370","v":0},null,null,null,{"$f":"'PROPERTY MONUMENTS'!E370","v":0},null,null,null,null,null,null,null,null,null,null,{"$f":"'PROPERTY MONUMENTS'!F370","v":0},null,null,null,null,null,{"$f":"'PROPERTY MONUMENTS'!H370","v":0},null,null,null,null,null,null,null,null,null,null,null,null,null,{"$f":"CONTROL!A193","v":0},null,null,null,{"$f":"CONTROL!B193","v":0},null,null,null,null,null,null,{"$f":"CONTROL!C193","v":0},null,null,null,null,{"$f":"CONTROL!D193","v":0},null,null,null,{"$f":"CONTROL!E193","v":0},null,null,null,null,{"$f":"CONTROL!F193","v":0},null,null,null,null,{"$f":"CONTROL!G193","v":0},null,null,null,{"$f":"CONTROL!H193","v":0}]
[null,null,{"$f":"'PROPERTY MONUMENTS'!B291","v":0},null,null,null,null,null,null,{"$f":"'PROPERTY MONUMENTS'!C291","v":0},null,null,null,null,{"$f":"'PROPERTY MONUMENTS'!D291","v":0},null,null,null,{"$f":"'PROPERTY MONUMENTS'!E291","v":0},null,null,null,null,{"$f":"'PROPERTY MONUMENTS'!F291","v":0},null,null,null,null,null,{"$f":"'PROPERTY MONUMENTS'!H291","v":0},null,null,null,null,null,null,null,null,null,null,null,null,null,{"$f":"'PROPERTY MONUMENTS'!B371","v":0},null,null,null,null,null,null,{"$f":"'PROPERTY MONUMENTS'!C371","v":0},null,null,null,null,{"$f":"'PROPERTY MONUMENTS'!D371","v":0},null,null,null,{"$f":"'PROPERTY MONUMENTS'!E371","v":0},null,null,null,null,null,null,null,null,null,null,{"$f":"'PROPERTY MONUMENTS'!F371","v":0},null,null,null,null,null,{"$f":"'PROPERTY MONUMENTS'!H371","v":0},null,null,null,null,null,null,null,null,null,null,null,null,null,{"$f":"CONTROL!A194","v":0},null,null,null,{"$f":"CONTROL!B194","v":0},null,null,null,null,null,null,{"$f":"CONTROL!C194","v":0},null,null,null,null,{"$f":"CONTROL!D194","v":0},null,null,null,{"$f":"CONTROL!E194","v":0},null,null,null,null,{"$f":"CONTROL!F194","v":0},null,null,null,null,{"$f":"CONTROL!G194","v":0},null,null,null,{"$f":"CONTROL!H194","v":0}]
[null,null,{"$f":"'PROPERTY MONUMENTS'!B292","v":0},null,null,null,null,null,null,{"$f":"'PROPERTY MONUMENTS'!C292","v":0},null,null,null,null,{"$f":"'PROPERTY MONUMENTS'!D292","v":0},null,null,null,{"$f":"'PROPERTY MONUMENTS'!E292","v":0},null,null,null,null,{"$f":"'PROPERTY MONUMENTS'!F292","v":0},null,null,null,null,null,{"$f":"'PROPERTY MONUMENTS'!H292","v":0},null,null,null,null,null,null,null,null,null,null,null,null,null,{"$f":"'PROPERTY MONUMENTS'!B372","v":0},null,null,null,null,null,null,{"$f":"'PROPERTY MONUMENTS'!C372","v":0},null,null,null,null,{"$f":"'PROPERTY MONUMENTS'!D372","v":0},null,null,null,{"$f":"'PROPERTY MONUMENTS'!E372","v":0},null,null,null,null,null,null,null,null,null,null,{"$f":"'PROPERTY MONUMENTS'!F372","v":0},null,null,null,null,null,{"$f":"'PROPERTY MONUMENTS'!H372","v":0},null,null,null,null,null,null,null,null,null,null,null,null,null,{"$f":"CONTROL!A195","v":0},null,null,null,{"$f":"CONTROL!B195","v":0},null,null,null,null,null,null,{"$f":"CONTROL!C195","v":0},null,null,null,null,{"$f":"CONTROL!D195","v":0},null,null,null,{"$f":"CONTROL!E195","v":0},null,null,null,null,{"$f":"CONTROL!F195","v":0},null,null,null,null,{"$f":"CONTROL!G195","v":0},null,null,null,{"$f":"CONTROL!H195","v":0}]
[null,null,{"$f":"'PROPERTY MONUMENTS'!B293","v":0},null,null,null,null,null,null,{"$f":"'PROPERTY MONUMENTS'!C293","v":0},null,null,null,null,{"$f":"'PROPERTY MONUMENTS'!D293","v":0},null,null,null,{"$f":"'PROPERTY MONUMENTS'!E293","v":0},null,null,null,null,{"$f":"'PROPERTY MONUMENTS'!F293","v":0},null,null,null,null,null,{"$f":"'PROPERTY MONUMENTS'!H293","v":0},null,null,null,null,null,null,null,null,null,null,null,null,null,{"$f":"'PROPERTY MONUMENTS'!B373","v":0},null,null,null,null,null,null,{"$f":"'PROPERTY MONUMENTS'!C373","v":0},null,null,null,null,{"$f":"'PROPERTY MONUMENTS'!D373","v":0},null,null,null,{"$f":"'PROPERTY MONUMENTS'!E373","v":0},null,null,null,null,null,null,null,null,null,null,{"$f":"'PROPERTY MONUMENTS'!F373","v":0},null,null,null,null,null,{"$f":"'PROPERTY MONUMENTS'!H373","v":0},null,null,null,null,null,null,null,null,null,null,null,null,null,{"$f":"CONTROL!A196","v":0},null,null,null,{"$f":"CONTROL!B196","v":0},null,null,null,null,null,null,{"$f":"CONTROL!C196","v":0},null,null,null,null,{"$f":"CONTROL!D196","v":0},null,null,null,{"$f":"CONTROL!E196","v":0},null,null,null,null,{"$f":"CONTROL!F196","v":0},null,null,null,null,{"$f":"CONTROL!G196","v":0},null,null,null,{"$f":"CONTROL!H196","v":0}]
[null,null,{"$f":"'PROPERTY MONUMENTS'!B294","v":0},null,null,null,null,null,null,{"$f":"'PROPERTY MONUMENTS'!C294","v":0},null,null,null,null,{"$f":"'PROPERTY MONUMENTS'!D294","v":0},null,null,null,{"$f":"'PROPERTY MONUMENTS'!E294","v":0},null,null,null,null,{"$f":"'PROPERTY MONUMENTS'!F294","v":0},null,null,null,null,null,{"$f":"'PROPERTY MONUMENTS'!H294","v":0},null,null,null,null,null,null,null,null,null,null,null,null,null,{"$f":"'PROPERTY MONUMENTS'!B374","v":0},null,null,null,null,null,null,{"$f":"'PROPERTY MONUMENTS'!C374","v":0},null,null,null,null,{"$f":"'PROPERTY MONUMENTS'!D374","v":0},null,null,null,{"$f":"'PROPERTY MONUMENTS'!E374","v":0},null,null,null,null,null,null,null,null,null,null,{"$f":"'PROPERTY MONUMENTS'!F374","v":0},null,null,null,null,null,{"$f":"'PROPERTY MONUMENTS'!H374","v":0},null,null,null,null,null,null,null,null,null,null,null,null,null,{"$f":"CONTROL!A197","v":0},null,null,null,{"$f":"CONTROL!B197","v":0},null,null,null,null,null,null,{"$f":"CONTROL!C197","v":0},null,null,null,null,{"$f":"CONTROL!D197","v":0},null,null,null,{"$f":"CONTROL!E197","v":0},null,null,null,null,{"$f":"CONTROL!F197","v":0},null,null,null,null,{"$f":"CONTROL!G197","v":0},null,null,null,{"$f":"CONTROL!H197","v":0}]
[null,null,{"$f":"'PROPERTY MONUMENTS'!B295","v":0},null,null,null,null,null,null,{"$f":"'PROPERTY MONUMENTS'!C295","v":0},null,null,null,null,{"$f":"'PROPERTY MONUMENTS'!D295","v":0},null,null,null,{"$f":"'PROPERTY MONUMENTS'!E295","v":0},null,null,null,null,{"$f":"'PROPERTY MONUMENTS'!F295","v":0},null,null,null,null,null,{"$f":"'PROPERTY MONUMENTS'!H295","v":0},null,null,null,null,null,null,null,null,null,null,null,null,null,{"$f":"'PROPERTY MONUMENTS'!B375","v":0},null,null,null,null,null,null,{"$f":"'PROPERTY MONUMENTS'!C375","v":0},null,null,null,null,{"$f":"'PROPERTY MONUMENTS'!D375","v":0},null,null,null,{"$f":"'PROPERTY MONUMENTS'!E375","v":0},null,null,null,null,null,null,null,null,null,null,{"$f":"'PROPERTY MONUMENTS'!F375","v":0},null,null,null,null,null,{"$f":"'PROPERTY MONUMENTS'!H375","v":0},null,null,null,null,null,null,null,null,null,null,null,null,null,{"$f":"CONTROL!A198","v":0},null,null,null,{"$f":"CONTROL!B198","v":0},null,null,null,null,null,null,{"$f":"CONTROL!C198","v":0},null,null,null,null,{"$f":"CONTROL!D198","v":0},null,null,null,{"$f":"CONTROL!E198","v":0},null,null,null,null,{"$f":"CONTROL!F198","v":0},null,null,null,null,{"$f":"CONTROL!G198","v":0},null,null,null,{"$f":"CONTROL!H198","v":0}]
[null,null,{"$f":"'PROPERTY MONUMENTS'!B296","v":0},null,null,null,null,null,null,{"$f":"'PROPERTY MONUMENTS'!C296","v":0},null,null,null,null,{"$f":"'PROPERTY MONUMENTS'!D296","v":0},null,null,null,{"$f":"'PROPERTY MONUMENTS'!E296","v":0},null,null,null,null,{"$f":"'PROPERTY MONUMENTS'!F296","v":0},null,null,null,null,null,{"$f":"'PROPERTY MONUMENTS'!H296","v":0},null,null,null,null,null,null,null,null,null,null,null,null,null,{"$f":"'PROPERTY MONUMENTS'!B376","v":0},null,null,null,null,null,null,{"$f":"'PROPERTY MONUMENTS'!C376","v":0},null,null,null,null,{"$f":"'PROPERTY MONUMENTS'!D376","v":0},null,null,null,{"$f":"'PROPERTY MONUMENTS'!E376","v":0},null,null,null,null,null,null,null,null,null,null,{"$f":"'PROPERTY MONUMENTS'!F376","v":0},null,null,null,null,null,{"$f":"'PROPERTY MONUMENTS'!H376","v":0},null,null,null,null,null,null,null,null,null,null,null,null,null,{"$f":"CONTROL!A199","v":0},null,null,null,{"$f":"CONTROL!B199","v":0},null,null,null,null,null,null,{"$f":"CONTROL!C199","v":0},null,null,null,null,{"$f":"CONTROL!D199","v":0},null,null,null,{"$f":"CONTROL!E199","v":0},null,null,null,null,{"$f":"CONTROL!F199","v":0},null,null,null,null,{"$f":"CONTROL!G199","v":0},null,null,null,{"$f":"CONTROL!H199","v":0}]
[null,null,{"$f":"'PROPERTY MONUMENTS'!B297","v":0},null,null,null,null,null,null,{"$f":"'PROPERTY MONUMENTS'!C297","v":0},null,null,null,null,{"$f":"'PROPERTY MONUMENTS'!D297","v":0},null,null,null,{"$f":"'PROPERTY MONUMENTS'!E297","v":0},null,null,null,null,{"$f":"'PROPERTY MONUMENTS'!F297","v":0},null,null,null,null,null,{"$f":"'PROPERTY MONUMENTS'!H297","v":0}]
[null,null,{"$f":"'PROPERTY MONUMENTS'!B298","v":0},null,null,null,null,null,null,{"$f":"'PROPERTY MONUMENTS'!C298","v":0},null,null,null,null,{"$f":"'PROPERTY MONUMENTS'!D298","v":0},null,null,null,{"$f":"'PROPERTY MONUMENTS'!E298","v":0},null,null,null,null,{"$f":"'PROPERTY MONUMENTS'!F298","v":0},null,null,null,null,null,{"$f":"'PROPERTY MONUMENTS'!H298","v":0},null,null,null,null,null,null,null,null,"NOTES:",null,null,null,null,null,null,null,null,null,null,null,null,null,null,null,null,null,null,null,null,null,null,null,null,null,null,null,null,null,null,null,null,null,null,null,null,null,null,null,null,null,null,null,null,null,null,null,null,null,null,null,null,null,null,null,null,null,null,null,null,null,null,null,null,"SURVEY CONTROL DATA"]
[null,null,{"$f":"'PROPERTY MONUMENTS'!B299","v":0},null,null,null,null,null,null,{"$f":"'PROPERTY MONUMENTS'!C299","v":0},null,null,null,null,{"$f":"'PROPERTY MONUMENTS'!D299","v":0},null,null,null,{"$f":"'PROPERTY MONUMENTS'!E299","v":0},null,null,null,null,{"$f":"'PROPERTY MONUMENTS'!F299","v":0},null,null,null,null,null,{"$f":"'PROPERTY MONUMENTS'!H299","v":0}]
[null,null,{"$f":"'PROPERTY MONUMENTS'!B300","v":0},null,null,null,null,null,null,{"$f":"'PROPERTY MONUMENTS'!C300","v":0},null,null,null,null,{"$f":"'PROPERTY MONUMENTS'!D300","v":0},null,null,null,{"$f":"'PROPERTY MONUMENTS'!E300","v":0},null,null,null,null,{"$f":"'PROPERTY MONUMENTS'!F300","v":0},null,null,null,null,null,{"$f":"'PROPERTY MONUMENTS'!H300","v":0},null,null,null,null,null,null,null,null,"1. The alignment Station and Offset are referenced to the existing Survey Centerline."]
[null,null,{"$f":"'PROPERTY MONUMENTS'!B301","v":0},null,null,null,null,null,null,{"$f":"'PROPERTY MONUMENTS'!C301","v":0},null,null,null,null,{"$f":"'PROPERTY MONUMENTS'!D301","v":0},null,null,null,{"$f":"'PROPERTY MONUMENTS'!E301","v":0},null,null,null,null,{"$f":"'PROPERTY MONUMENTS'!F301","v":0},null,null,null,null,null,{"$f":"'PROPERTY MONUMENTS'!H301","v":0},null,null,null,null,null,null,null,null,"2. Date of Survey:",null,null,null,null,null,null,null,null,null,null,null,null,null,null,null,null,null,null,null,null,null,null,null,null,null,null,null,null,null,null,null,null,null,null,null,null,null,null,null,null,null,null,null,null,null,"PROJECT DESCRIPTION"]
[null,null,{"$f":"'PROPERTY MONUMENTS'!B302","v":0},null,null,null,null,null,null,{"$f":"'PROPERTY MONUMENTS'!C302","v":0},null,null,null,null,{"$f":"'PROPERTY MONUMENTS'!D302","v":0},null,null,null,{"$f":"'PROPERTY MONUMENTS'!E302","v":0},null,null,null,null,{"$f":"'PROPERTY MONUMENTS'!F302","v":0},null,null,null,null,null,{"$f":"'PROPERTY MONUMENTS'!H302","v":0}]
[null,null,{"$f":"'PROPERTY MONUMENTS'!B303","v":0},null,null,null,null,null,null,{"$f":"'PROPERTY MONUMENTS'!C303","v":0},null,null,null,null,{"$f":"'PROPERTY MONUMENTS'!D303","v":0},null,null,null,{"$f":"'PROPERTY MONUMENTS'!E303","v":0},null,null,null,null,{"$f":"'PROPERTY MONUMENTS'!F303","v":0},null,null,null,null,null,{"$f":"'PROPERTY MONUMENTS'!H303","v":0}]
[null,null,{"$f":"'PROPERTY MONUMENTS'!B304","v":0},null,null,null,null,null,null,{"$f":"'PROPERTY MONUMENTS'!C304","v":0},null,null,null,null,{"$f":"'PROPERTY MONUMENTS'!D304","v":0},null,null,null,{"$f":"'PROPERTY MONUMENTS'!E304","v":0},null,null,null,null,{"$f":"'PROPERTY MONUMENTS'!F304","v":0},null,null,null,null,null,{"$f":"'PROPERTY MONUMENTS'!H304","v":0}]
[null,null,{"$f":"'PROPERTY MONUMENTS'!B305","v":0},null,null,null,null,null,null,{"$f":"'PROPERTY MONUMENTS'!C305","v":0},null,null,null,null,{"$f":"'PROPERTY MONUMENTS'!D305","v":0},null,null,null,{"$f":"'PROPERTY MONUMENTS'!E305","v":0},null,null,null,null,{"$f":"'PROPERTY MONUMENTS'!F305","v":0},null,null,null,null,null,{"$f":"'PROPERTY MONUMENTS'!H305","v":0},null,null,null,null,null,null,null,null,null,null,null,null,null,null,null,null,null,null,null,null,null,null,null,null,null,null,null,null,null,null,null,null,null,null,null,null,null,null,null,null,null,null,null,null,null,null,null,null,null,null,null,null,null,null,"DATUM DESCRIPTION"]
[null,null,{"$f":"'PROPERTY MONUMENTS'!B306","v":0},null,null,null,null,null,null,{"$f":"'PROPERTY MONUMENTS'!C306","v":0},null,null,null,null,{"$f":"'PROPERTY MONUMENTS'!D306","v":0},null,null,null,{"$f":"'PROPERTY MONUMENTS'!E306","v":0},null,null,null,null,{"$f":"'PROPERTY MONUMENTS'!F306","v":0},null,null,null,null,null,{"$f":"'PROPERTY MONUMENTS'!H306","v":0},null,null,null,null,null,null,null,null,null,null,null,null,null,null,null,null,null,null,null,null,null,null,null,null,null,null,null,null,null,null,null,null,null,null,null,null,null,null,null,null,null,null,null,null,null,null,null,null,null,null,null,null,null,null,{"$f":"DATUM!A71","v":"This GRID Coordinate System developed for this project is based on NAD83(2011)  South Carolina State Plane Coordinate System. A Combined Scale Factor (CSF) for each Survey Control Point must be computed and applied to horizontal ground distances. Elevations for this project are based on NAVD88 for  with an Elevation of 0.00"}]
[null,null,{"$f":"'PROPERTY MONUMENTS'!B307","v":0},null,null,null,null,null,null,{"$f":"'PROPERTY MONUMENTS'!C307","v":0},null,null,null,null,{"$f":"'PROPERTY MONUMENTS'!D307","v":0},null,null,null,{"$f":"'PROPERTY MONUMENTS'!E307","v":0},null,null,null,null,{"$f":"'PROPERTY MONUMENTS'!F307","v":0},null,null,null,null,null,{"$f":"'PROPERTY MONUMENTS'!H307","v":0}]
[null,null,{"$f":"'PROPERTY MONUMENTS'!B308","v":0},null,null,null,null,null,null,{"$f":"'PROPERTY MONUMENTS'!C308","v":0},null,null,null,null,{"$f":"'PROPERTY MONUMENTS'!D308","v":0},null,null,null,{"$f":"'PROPERTY MONUMENTS'!E308","v":0},null,null,null,null,{"$f":"'PROPERTY MONUMENTS'!F308","v":0},null,null,null,null,null,{"$f":"'PROPERTY MONUMENTS'!H308","v":0}]
[null,null,{"$f":"'PROPERTY MONUMENTS'!B309","v":0},null,null,null,null,null,null,{"$f":"'PROPERTY MONUMENTS'!C309","v":0},null,null,null,null,{"$f":"'PROPERTY MONUMENTS'!D309","v":0},null,null,null,{"$f":"'PROPERTY MONUMENTS'!E309","v":0},null,null,null,null,{"$f":"'PROPERTY MONUMENTS'!F309","v":0},null,null,null,null,null,{"$f":"'PROPERTY MONUMENTS'!H309","v":0},null,null,null,null,null,null,null,null,"The Property Monuments Found listed on this sheet are assumed to be property corner monuments, field located during "]
[null,null,{"$f":"'PROPERTY MONUMENTS'!B310","v":0},null,null,null,null,null,null,{"$f":"'PROPERTY MONUMENTS'!C310","v":0},null,null,null,null,{"$f":"'PROPERTY MONUMENTS'!D310","v":0},null,null,null,{"$f":"'PROPERTY MONUMENTS'!E310","v":0},null,null,null,null,{"$f":"'PROPERTY MONUMENTS'!F310","v":0},null,null,null,null,null,{"$f":"'PROPERTY MONUMENTS'!H310","v":0},null,null,null,null,null,null,null,null,"the course of this survey. The Department makes no claim that these located monuments are the true position of any "]
[null,null,{"$f":"'PROPERTY MONUMENTS'!B311","v":0},null,null,null,null,null,null,{"$f":"'PROPERTY MONUMENTS'!C311","v":0},null,null,null,null,{"$f":"'PROPERTY MONUMENTS'!D311","v":0},null,null,null,{"$f":"'PROPERTY MONUMENTS'!E311","v":0},null,null,null,null,{"$f":"'PROPERTY MONUMENTS'!F311","v":0},null,null,null,null,null,{"$f":"'PROPERTY MONUMENTS'!H311","v":0},null,null,null,null,null,null,null,null,"property and takes no responsibility for this information being used as such. These monuments are tied to the control of this"]
[null,null,{"$f":"'PROPERTY MONUMENTS'!B312","v":0},null,null,null,null,null,null,{"$f":"'PROPERTY MONUMENTS'!C312","v":0},null,null,null,null,{"$f":"'PROPERTY MONUMENTS'!D312","v":0},null,null,null,{"$f":"'PROPERTY MONUMENTS'!E312","v":0},null,null,null,null,{"$f":"'PROPERTY MONUMENTS'!F312","v":0},null,null,null,null,null,{"$f":"'PROPERTY MONUMENTS'!H312","v":0},null,null,null,null,null,null,null,null,"project in an effort to document and preserve their location in the event they are disturbed or destroyed during the"]
[null,null,{"$f":"'PROPERTY MONUMENTS'!B313","v":0},null,null,null,null,null,null,{"$f":"'PROPERTY MONUMENTS'!C313","v":0},null,null,null,null,{"$f":"'PROPERTY MONUMENTS'!D313","v":0},null,null,null,{"$f":"'PROPERTY MONUMENTS'!E313","v":0},null,null,null,null,{"$f":"'PROPERTY MONUMENTS'!F313","v":0},null,null,null,null,null,{"$f":"'PROPERTY MONUMENTS'!H313","v":0},null,null,null,null,null,null,null,null,"construction of the project."]

{"sheet":"SCDS 5D","index":18,"n_rows":87,"n_cols":137,"rows_kept":87,"cut":false,"hidden":false,"merged":[[78,84,78,120],[78,38,78,83],[79,38,79,83],[80,38,80,83],[81,38,81,83],[82,38,82,83],[83,38,83,83],[84,38,84,83],[85,38,85,83],[86,38,86,83],[86,2,86,8],[86,9,86,13],[86,14,86,17],[86,18,86,22],[86,23,86,28],[86,29,86,36],[85,2,85,8],[85,9,85,13],[85,14,85,17],[85,18,85,22],[85,23,85,28],[85,29,85,36],[84,2,84,8],[84,9,84,13],[84,14,84,17],[84,18,84,22],[84,23,84,28],[84,29,84,36],[83,14,83,17],[83,18,83,22],[83,23,83,28],[83,29,83,36],[77,18,77,22],[77,23,77,28],[77,29,77,36],[82,2,82,8],[82,9,82,13],[82,14,82,17],[82,18,82,22],[82,23,82,28],[82,29,82,36],[80,9,80,13],[80,14,80,17],[80,18,80,22],[80,23,80,28],[80,29,80,36],[81,2,81,8],[81,9,81,13],[81,14,81,17],[81,18,81,22],[81,23,81,28],[81,29,81,36],[83,2,83,8],[83,9,83,13],[74,84,74,120],[75,2,75,8],[75,9,75,13],[75,14,75,17],[75,18,75,22],[75,23,75,28],[75,29,75,36],[75,84,77,120],[74,2,74,8],[74,9,74,13],[74,14,74,17],[74,18,74,22],[74,23,74,28],[74,29,74,36],[79,2,79,8],[79,9,79,13],[79,14,79,17],[79,18,79,22],[79,23,79,28],[79,29,79,36],[79,84,86,120],[80,2,80,8],[78,2,78,8],[78,9,78,13],[78,14,78,17],[78,18,78,22],[78,23,78,28],[78,29,78,36],[77,2,77,8],[77,14,77,17],[73,9,73,13],[73,14,73,17],[73,18,73,22],[73,23,73,28],[73,29,73,36],[73,38,73,83],[74,38,74,83],[75,38,75,83],[76,38,76,83],[77,38,77,83],[71,84,73,102],[71,103,73,120],[72,2,72,8],[72,9,72,13],[72,14,72,17],[72,18,72,22],[72,23,72,28],[72,29,72,36],[73,2,73,8],[71,2,71,8],[71,9,71,13],[71,14,71,17],[71,18,71,22],[71,23,71,28],[71,29,71,36],[76,2,76,8],[76,9,76,13],[76,14,76,17],[76,18,76,22],[76,23,76,28],[76,29,76,36],[77,9,77,13],[70,2,70,8],[70,9,70,13],[70,14,70,17],[70,18,70,22],[70,23,70,28],[70,29,70,36],[71,38,72,83],[69,101,69,105],[69,106,69,109],[69,110,69,114],[69,115,69,119],[69,120,69,123],[69,124,69,132],[69,55,69,58],[69,59,69,69],[69,70,69,75],[69,76,69,83],[69,90,69,93],[69,94,69,100],[68,120,68,123],[68,124,68,132],[69,2,69,8],[69,9,69,13],[69,14,69,17],[69,18,69,22],[69,23,69,28],[69,29,69,36],[69,43,69,49],[69,50,69,54],[68,90,68,93],[68,94,68,100],[68,101,68,105],[68,106,68,109],[68,110,68,114],[68,115,68,119],[68,43,68,49],[68,50,68,54],[68,55,68,58],[68,59,68,69],[68,70,68,75],[68,76,68,83],[68,2,68,8],[68,9,68,13],[68,14,68,17],[68,18,68,22],[68,23,68,28],[68,29,68,36],[67,101,67,105],[67,106,67,109],[67,110,67,114],[67,115,67,119],[67,120,67,123],[67,124,67,132],[67,55,67,58],[67,59,67,69],[67,70,67,75],[67,76,67,83],[67,90,67,93],[67,94,67,100],[66,120,66,123],[66,124,66,132],[67,2,67,8],[67,9,67,13],[67,14,67,17],[67,18,67,22],[67,23,67,28],[67,29,67,36],[67,43,67,49],[67,50,67,54],[66,90,66,93],[66,94,66,100],[66,101,66,105],[66,106,66,109],[66,110,66,114],[66,115,66,119],[66,43,66,49],[66,50,66,54],[66,55,66,58],[66,59,66,69],[66,70,66,75],[66,76,66,83],[66,2,66,8],[66,9,66,13],[66,14,66,17],[66,18,66,22],[66,23,66,28],[66,29,66,36],[65,101,65,105],[65,106,65,109],[65,110,65,114],[65,115,65,119],[65,120,65,123],[65,124,65,132],[65,55,65,58],[65,59,65,69],[65,70,65,75],[65,76,65,83],[65,90,65,93],[65,94,65,100],[64,120,64,123],[64,124,64,132],[65,2,65,8],[65,9,65,13],[65,14,65,17],[65,18,65,22],[65,23,65,28],[65,29,65,36],[65,43,65,49],[65,50,65,54],[64,90,64,93],[64,94,64,100],[64,101,64,105],[64,106,64,109],[64,110,64,114],[64,115,64,119],[64,43,64,49],[64,50,64,54],[64,55,64,58],[64,59,64,69],[64,70,64,75],[64,76,64,83],[64,2,64,8],[64,9,64,13],[64,14,64,17],[64,18,64,22],[64,23,64,28],[64,29,64,36],[63,101,63,105],[63,106,63,109],[63,110,63,114],[63,115,63,119],[63,120,63,123],[63,124,63,132],[63,55,63,58],[63,59,63,69],[63,70,63,75],[63,76,63,83],[63,90,63,93],[63,94,63,100],[62,120,62,123],[62,124,62,132],[63,2,63,8],[63,9,63,13],[63,14,63,17],[63,18,63,22],[63,23,63,28],[63,29,63,36],[63,43,63,49],[63,50,63,54],[62,90,62,93],[62,94,62,100],[62,101,62,105],[62,106,62,109],[62,110,62,114],[62,115,62,119],[62,43,62,49],[62,50,62,54],[62,55,62,58],[62,59,62,69],[62,70,62,75],[62,76,62,83],[62,2,62,8],[62,9,62,13],[62,14,62,17],[62,18,62,22],[62,23,62,28],[62,29,62,36],[61,101,61,105],[61,106,61,109],[61,110,61,114],[61,115,61,119],[61,120,61,123],[61,124,61,132],[61,55,61,58],[61,59,61,69],[61,70,61,75],[61,76,61,83],[61,90,61,93],[61,94,61,100],[60,120,60,123],[60,124,60,132],[61,2,61,8],[61,9,61,13],[61,14,61,17],[61,18,61,22],[61,23,61,28],[61,29,61,36],[61,43,61,49],[61,50,61,54],[60,90,60,93],[60,94,60,100],[60,101,60,105],[60,106,60,109],[60,110,60,114],[60,115,60,119],[60,43,60,49],[60,50,60,54],[60,55,60,58],[60,59,60,69],[60,70,60,75],[60,76,60,83],[60,2,60,8],[60,9,60,13],[60,14,60,17],[60,18,60,22],[60,23,60,28],[60,29,60,36],[59,101,59,105],[59,106,59,109],[59,110,59,114],[59,115,59,119],[59,120,59,123],[59,124,59,132],[59,55,59,58],[59,59,59,69],[59,70,59,75],[59,76,59,83],[59,90,59,93],[59,94,59,100],[58,120,58,123],[58,124,58,132],[59,2,59,8],[59,9,59,13],[59,14,59,17],[59,18,59,22],[59,23,59,28],[59,29,59,36],[59,43,59,49],[59,50,59,54],[58,90,58,93],[58,94,58,100],[58,101,58,105],[58,106,58,109],[58,110,58,114],[58,115,58,119],[58,43,58,49],[58,50,58,54],[58,55,58,58],[58,59,58,69],[58,70,58,75],[58,76,58,83],[58,2,58,8],[58,9,58,13],[58,14,58,17],[58,18,58,22],[58,23,58,28],[58,29,58,36],[57,101,57,105],[57,106,57,109],[57,110,57,114],[57,115,57,119],[57,120,57,123],[57,124,57,132],[57,55,57,58],[57,59,57,69],[57,70,57,75],[57,76,57,83],[57,90,57,93],[57,94,57,100],[56,120,56,123],[56,124,56,132],[57,2,57,8],[57,9,57,13],[57,14,57,17],[57,18,57,22],[57,23,57,28],[57,29,57,36],[57,43,57,49],[57,50,57,54],[56,90,56,93],[56,94,56,100],[56,101,56,105],[56,106,56,109],[56,110,56,114],[56,115,56,119],[56,43,56,49],[56,50,56,54],[56,55,56,58],[56,59,56,69],[56,70,56,75],[56,76,56,83],[56,2,56,8],[56,9,56,13],[56,14,56,17],[56,18,56,22],[56,23,56,28],[56,29,56,36],[54,124,54,132],[55,101,55,105],[55,106,55,109],[55,110,55,114],[55,115,55,119],[55,120,55,123],[55,124,55,132],[55,55,55,58],[55,59,55,69],[55,70,55,75],[55,76,55,83],[55,90,55,93],[55,94,55,100],[55,2,55,8],[55,9,55,13],[55,14,55,17],[55,18,55,22],[55,23,55,28],[55,29,55,36],[55,43,55,49],[55,50,55,54],[54,14,54,17],[54,18,54,22],[54,23,54,28],[54,29,54,36],[54,43,54,49],[54,94,54,100],[54,101,54,105],[54,106,54,109],[54,110,54,114],[54,115,54,119],[54,120,54,123],[53,124,53,132],[54,2,54,8],[54,9,54,13],[52,18,52,22],[52,23,52,28],[52,29,52,36],[52,43,52,49],[52,50,52,54],[52,55,52,58],[53,76,53,83],[53,90,53,93],[53,94,53,100],[53,101,53,105],[53,106,53,109],[53,110,53,114],[53,29,53,36],[53,43,53,49],[53,50,53,54],[53,55,53,58],[53,59,53,69],[53,70,53,75],[52,124,52,132],[53,2,53,8],[53,9,53,13],[53,14,53,17],[53,18,53,22],[53,23,53,28],[52,59,52,69],[52,70,52,75],[52,76,52,83],[52,90,52,93],[52,94,52,100],[51,90,51,93],[52,106,52,109],[52,110,52,114],[52,115,52,119],[52,120,52,123],[50,115,50,119],[50,120,50,123],[54,50,54,54],[54,55,54,58],[54,59,54,69],[54,70,54,75],[54,76,54,83],[54,90,54,93],[53,115,53,119],[52,2,52,8],[52,9,52,13],[52,14,52,17],[53,120,53,123],[52,101,52,105],[50,124,50,132],[51,2,51,8],[51,9,51,13],[51,14,51,17],[51,18,51,22],[51,23,51,28],[51,29,51,36],[51,43,51,49],[50,76,50,83],[50,90,50,93],[50,94,50,100],[50,101,50,105],[50,106,50,109],[50,110,50,114],[50,29,50,36],[50,43,50,49],[50,50,50,54],[50,55,50,58],[50,59,50,69],[50,70,50,75],[51,124,51,132],[51,94,51,100],[51,101,51,105],[51,106,51,109],[51,110,51,114],[51,115,51,119],[51,120,51,123],[51,50,51,54],[51,55,51,58],[51,59,51,69],[51,70,51,75],[51,76,51,83],[49,106,49,109],[49,110,49,114],[49,115,49,119],[49,120,49,123],[49,124,49,132],[50,2,50,8],[50,9,50,13],[50,14,50,17],[50,18,50,22],[50,23,50,28],[49,59,49,69],[49,70,49,75],[49,76,49,83],[49,90,49,93],[49,94,49,100],[49,101,49,105],[48,124,48,132],[49,2,49,8],[49,9,49,13],[49,14,49,17],[49,18,49,22],[49,23,49,28],[49,29,49,36],[49,43,49,49],[49,50,49,54],[49,55,49,58],[48,94,48,100],[48,101,48,105],[48,106,48,109],[48,110,48,114],[48,115,48,119],[48,120,48,123],[48,50,48,54],[48,55,48,58],[48,59,48,69],[48,70,48,75],[48,76,48,83],[48,90,48,93],[47,115,47,119],[47,120,47,123],[47,124,47,132],[48,2,48,8],[48,9,48,13],[48,14,48,17],[48,18,48,22],[48,23,48,28],[48,29,48,36],[48,43,48,49],[47,76,47,83],[47,90,47,93],[47,94,47,100],[47,101,47,105],[47,106,47,109],[47,110,47,114],[47,29,47,36],[47,43,47,49],[47,50,47,54],[47,55,47,58],[47,59,47,69],[47,70,47,75],[46,106,46,109],[46,110,46,114],[46,115,46,119],[46,120,46,123],[46,124,46,132],[47,2,47,8],[47,9,47,13],[47,14,47,17],[47,18,47,22],[47,23,47,28],[46,59,46,69],[46,70,46,75],[46,76,46,83],[46,90,46,93],[46,94,46,100],[46,101,46,105],[45,124,45,132],[46,2,46,8],[46,9,46,13],[46,14,46,17],[46,18,46,22],[46,23,46,28],[46,29,46,36],[46,43,46,49],[46,50,46,54],[46,55,46,58],[45,94,45,100],[45,101,45,105],[45,106,45,109],[45,110,45,114],[45,115,45,119],[45,120,45,123],[45,50,45,54],[45,55,45,58],[45,59,45,69],[45,70,45,75],[45,76,45,83],[45,90,45,93],[44,115,44,119],[44,120,44,123],[44,124,44,132],[45,2,45,8],[45,9,45,13],[45,14,45,17],[45,18,45,22],[45,23,45,28],[45,29,45,36],[45,43,45,49],[44,76,44,83],[44,90,44,93],[44,94,44,100],[44,101,44,105],[44,106,44,109],[44,110,44,114],[44,29,44,36],[44,43,44,49],[44,50,44,54],[44,55,44,58],[44,59,44,69],[44,70,44,75],[43,106,43,109],[43,110,43,114],[43,115,43,119],[43,120,43,123],[43,124,43,132],[44,2,44,8],[44,9,44,13],[44,14,44,17],[44,18,44,22],[44,23,44,28],[43,59,43,69],[43,70,43,75],[43,76,43,83],[43,90,43,93],[43,94,43,100],[43,101,43,105],[42,124,42,132],[43,2,43,8],[43,9,43,13],[43,14,43,17],[43,18,43,22],[43,23,43,28],[43,29,43,36],[43,43,43,49],[43,50,43,54],[43,55,43,58],[42,94,42,100],[42,101,42,105],[42,106,42,109],[42,110,42,114],[42,115,42,119],[42,120,42,123],[42,50,42,54],[42,55,42,58],[42,59,42,69],[42,70,42,75],[42,76,42,83],[42,90,42,93],[41,115,41,119],[41,120,41,123],[41,124,41,132],[42,2,42,8],[42,9,42,13],[42,14,42,17],[42,18,42,22],[42,23,42,28],[42,29,42,36],[42,43,42,49],[41,76,41,83],[41,90,41,93],[41,94,41,100],[41,101,41,105],[41,106,41,109],[41,110,41,114],[41,29,41,36],[41,43,41,49],[41,50,41,54],[41,55,41,58],[41,59,41,69],[41,70,41,75],[40,106,40,109],[40,110,40,114],[40,115,40,119],[40,120,40,123],[40,124,40,132],[41,2,41,8],[41,9,41,13],[41,14,41,17],[41,18,41,22],[41,23,41,28],[40,59,40,69],[40,70,40,75],[40,76,40,83],[40,90,40,93],[40,94,40,100],[40,101,40,105],[39,124,39,132],[40,2,40,8],[40,9,40,13],[40,14,40,17],[40,18,40,22],[40,23,40,28],[40,29,40,36],[40,43,40,49],[40,50,40,54],[40,55,40,58],[39,94,39,100],[39,101,39,105],[39,106,39,109],[39,110,39,114],[39,115,39,119],[39,120,39,123],[39,50,39,54],[39,55,39,58],[39,59,39,69],[39,70,39,75],[39,76,39,83],[39,90,39,93],[38,115,38,119],[38,120,38,123],[38,124,38,132],[39,2,39,8],[39,9,39,13],[39,14,39,17],[39,18,39,22],[39,23,39,28],[39,29,39,36],[39,43,39,49],[38,76,38,83],[38,90,38,93],[38,94,38,100],[38,101,38,105],[38,106,38,109],[38,110,38,114],[38,29,38,36],[38,43,38,49],[38,50,38,54],[38,55,38,58],[38,59,38,69],[38,70,38,75],[37,106,37,109],[37,110,37,114],[37,115,37,119],[37,120,37,123],[37,124,37,132],[38,2,38,8],[38,9,38,13],[38,14,38,17],[38,18,38,22],[38,23,38,28],[37,59,37,69],[37,70,37,75],[37,76,37,83],[37,90,37,93],[37,94,37,100],[37,101,37,105],[36,124,36,132],[37,2,37,8],[37,9,37,13],[37,14,37,17],[37,18,37,22],[37,23,37,28],[37,29,37,36],[37,43,37,49],[37,50,37,54],[37,55,37,58],[36,94,36,100],[36,101,36,105],[36,106,36,109],[36,110,36,114],[36,115,36,119],[36,120,36,123],[36,50,36,54],[36,55,36,58],[36,59,36,69],[36,70,36,75],[36,76,36,83],[36,90,36,93],[35,115,35,119],[35,120,35,123],[35,124,35,132],[36,2,36,8],[36,9,36,13],[36,14,36,17],[36,18,36,22],[36,23,36,28],[36,29,36,36],[36,43,36,49],[35,76,35,83],[35,90,35,93],[35,94,35,100],[35,101,35,105],[35,106,35,109],[35,110,35,114],[35,29,35,36],[35,43,35,49],[35,50,35,54],[35,55,35,58],[35,59,35,69],[35,70,35,75],[34,106,34,109],[34,110,34,114],[34,115,34,119],[34,120,34,123],[34,124,34,132],[35,2,35,8],[35,9,35,13],[35,14,35,17],[35,18,35,22],[35,23,35,28],[34,59,34,69],[34,70,34,75],[34,76,34,83],[34,90,34,93],[34,94,34,100],[34,101,34,105],[33,124,33,132],[34,2,34,8],[34,9,34,13],[34,14,34,17],[34,18,34,22],[34,23,34,28],[34,29,34,36],[34,43,34,49],[34,50,34,54],[34,55,34,58],[33,94,33,100],[33,101,33,105],[33,106,33,109],[33,110,33,114],[33,115,33,119],[33,120,33,123],[33,50,33,54],[33,55,33,58],[33,59,33,69],[33,70,33,75],[33,76,33,83],[33,90,33,93],[32,115,32,119],[32,120,32,123],[32,124,32,132],[33,2,33,8],[33,9,33,13],[33,14,33,17],[33,18,33,22],[33,23,33,28],[33,29,33,36],[33,43,33,49],[32,76,32,83],[32,90,32,93],[32,94,32,100],[32,101,32,105],[32,106,32,109],[32,110,32,114],[32,29,32,36],[32,43,32,49],[32,50,32,54],[32,55,32,58],[32,59,32,69],[32,70,32,75],[31,106,31,109],[31,110,31,114],[31,115,31,119],[31,120,31,123],[31,124,31,132],[32,2,32,8],[32,9,32,13],[32,14,32,17],[32,18,32,22],[32,23,32,28],[31,59,31,69],[31,70,31,75],[31,76,31,83],[31,90,31,93],[31,94,31,100],[31,101,31,105],[30,124,30,132],[31,2,31,8],[31,9,31,13],[31,14,31,17],[31,18,31,22],[31,23,31,28],[31,29,31,36],[31,43,31,49],[31,50,31,54],[31,55,31,58],[30,94,30,100],[30,101,30,105],[30,106,30,109],[30,110,30,114],[30,115,30,119],[30,120,30,123],[30,50,30,54],[30,55,30,58],[30,59,30,69],[30,70,30,75],[30,76,30,83],[30,90,30,93],[29,115,29,119],[29,120,29,123],[29,124,29,132],[30,2,30,8],[30,9,30,13],[30,14,30,17],[30,18,30,22],[30,23,30,28],[30,29,30,36],[30,43,30,49],[29,76,29,83],[29,90,29,93],[29,94,29,100],[29,101,29,105],[29,106,29,109],[29,110,29,114],[29,29,29,36],[29,43,29,49],[29,50,29,54],[29,55,29,58],[29,59,29,69],[29,70,29,75],[28,106,28,109],[28,110,28,114],[28,115,28,119],[28,120,28,123],[28,124,28,132],[29,2,29,8],[29,9,29,13],[29,14,29,17],[29,18,29,22],[29,23,29,28],[28,59,28,69],[28,70,28,75],[28,76,28,83],[28,90,28,93],[28,94,28,100],[28,101,28,105],[27,124,27,132],[28,2,28,8],[28,9,28,13],[28,14,28,17],[28,18,28,22],[28,23,28,28],[28,29,28,36],[28,43,28,49],[28,50,28,54],[28,55,28,58],[27,94,27,100],[27,101,27,105],[27,106,27,109],[27,110,27,114],[27,115,27,119],[27,120,27,123],[27,50,27,54],[27,55,27,58],[27,59,27,69],[27,70,27,75],[27,76,27,83],[27,90,27,93],[26,115,26,119],[26,120,26,123],[26,124,26,132],[27,2,27,8],[27,9,27,13],[27,14,27,17],[27,18,27,22],[27,23,27,28],[27,29,27,36],[27,43,27,49],[26,76,26,83],[26,90,26,93],[26,94,26,100],[26,101,26,105],[26,106,26,109],[26,110,26,114],[26,29,26,36],[26,43,26,49],[26,50,26,54],[26,55,26,58],[26,59,26,69],[26,70,26,75],[25,106,25,109],[25,110,25,114]],"merged_total":1425,"flags":["merged_cut"]}
[null,null,null,null,null,null,null,null,null,null,null,null,null,null,null,null,null,null,null,null,null,null,null,null,null,null,null,null,null,null,null,null,null,null,null,null,null,null,null,null,null,null,null,null,null,null,null,null,null,null,null,null,null,null,null,null,null,null,null,null,null,null,null,null,null,null,null,null,null,null,null,null,null,null,null,null,null,null,null,null,null,null,null,null,null,null,null,null,null,null,null,null,null,null,null,null,null,null,null,null,null,null,null,null,null,null,null,null,null,null,"FED. RD.                               DIV. NO.",null,null,"STATE",null,null,"COUNTY",null,null,null,null,null,null,null,null,"PROJECT ID",null,null,null,"ROAD/ROUTE NO.",null,null,null,null,null,null,"SHEET NO."]
[null,null,null,null,null,null,null,null,null,null,null,null,null,null,null,null,null,null,null,null,null,null,null,null,null,null,null,null,null,null,null,null,null,null,null,null,null,null,null,null,null,null,null,null,null,null,null,null,null,null,null,null,null,null,null,null,null,null,null,null,null,null,null,null,null,null,null,null,null,null,null,null,null,null,null,null,null,null,null,null,null,null,null,null,null,null,null,null,null,null,null,null,null,null,null,null,null,null,null,null,null,null,null,null,null,null,null,null,null,null,3,null,null,"SC",null,null,{"$f":"SUMMARY!C8","v":0},null,null,null,null,null,null,null,null,{"$f":"SUMMARY!C6","v":0},null,null,null,{"$f":"SUMMARY!C5","v":0},null,null,null,null,null,null,"5C"]
[]
[null,null,"PROPERTY MONUMENTS FOUND",null,null,null,null,null,null,null,null,null,null,null,null,null,null,null,null,null,null,null,null,null,null,null,null,null,null,null,null,null,null,null,null,null,null,null,null,null,null,null,null,"PROPERTY MONUMENTS FOUND",null,null,null,null,null,null,null,null,null,null,null,null,null,null,null,null,null,null,null,null,null,null,null,null,null,null,null,null,null,null,null,null,null,null,null,null,null,null,null,null,null,null,null,null,null,null,"SURVEY CONTROL POINTS"]
[]
[null,null,"ALIGNMENT",null,null,null,null,null,null,"STATION",null,null,null,null,"OFFSET",null,null,null,"NORTHING",null,null,null,null,"EASTING",null,null,null,null,null,"DESCRIPTION",null,null,null,null,null,null,null,null,null,null,null,null,null,"ALIGNMENT",null,null,null,null,null,null,"STATION",null,null,null,null,"OFFSET",null,null,null,"NORTHING",null,null,null,null,null,null,null,null,null,null,"EASTING",null,null,null,null,null,"DESCRIPTION",null,null,null,null,null,null,null,null,null,null,null,null,null,"POINT ID",null,null,null,"ALIGNMENT",null,null,null,null,null,null,"STATION",null,null,null,null,"OFFSET",null,null,null,"NORTHING",null,null,null,null,"EASTING",null,null,null,null,"ELEV.",null,null,null,"DESCRIPTION"]
[]
[null,null,{"$f":"'PROPERTY MONUMENTS'!B377","v":0},null,null,null,null,null,null,{"$f":"'PROPERTY MONUMENTS'!C377","v":0},null,null,null,null,{"$f":"'PROPERTY MONUMENTS'!D377","v":0},null,null,null,{"$f":"'PROPERTY MONUMENTS'!E377","v":0},null,null,null,null,{"$f":"'PROPERTY MONUMENTS'!F377","v":0},null,null,null,null,null,{"$f":"'PROPERTY MONUMENTS'!H377","v":0},null,null,null,null,null,null,null,null,null,null,null,null,null,{"$f":"'PROPERTY MONUMENTS'!B457","v":0},null,null,null,null,null,null,{"$f":"'PROPERTY MONUMENTS'!C457","v":0},null,null,null,null,{"$f":"'PROPERTY MONUMENTS'!D457","v":0},null,null,null,{"$f":"'PROPERTY MONUMENTS'!E457","v":0},null,null,null,null,null,null,null,null,null,null,{"$f":"'PROPERTY MONUMENTS'!F457","v":0},null,null,null,null,null,{"$f":"'PROPERTY MONUMENTS'!H457","v":0},null,null,null,null,null,null,null,null,null,null,null,null,null,{"$f":"CONTROL!A200","v":0},null,null,null,{"$f":"CONTROL!B200","v":0},null,null,null,null,null,null,{"$f":"CONTROL!C200","v":0},null,null,null,null,{"$f":"CONTROL!D200","v":0},null,null,null,{"$f":"CONTROL!E200","v":0},null,null,null,null,{"$f":"CONTROL!F200","v":0},null,null,null,null,{"$f":"CONTROL!G200","v":0},null,null,null,{"$f":"CONTROL!H200","v":0}]
[null,null,{"$f":"'PROPERTY MONUMENTS'!B378","v":0},null,null,null,null,null,null,{"$f":"'PROPERTY MONUMENTS'!C378","v":0},null,null,null,null,{"$f":"'PROPERTY MONUMENTS'!D378","v":0},null,null,null,{"$f":"'PROPERTY MONUMENTS'!E378","v":0},null,null,null,null,{"$f":"'PROPERTY MONUMENTS'!F378","v":0},null,null,null,null,null,{"$f":"'PROPERTY MONUMENTS'!H378","v":0},null,null,null,null,null,null,null,null,null,null,null,null,null,{"$f":"'PROPERTY MONUMENTS'!B458","v":0},null,null,null,null,null,null,{"$f":"'PROPERTY MONUMENTS'!C458","v":0},null,null,null,null,{"$f":"'PROPERTY MONUMENTS'!D458","v":0},null,null,null,{"$f":"'PROPERTY MONUMENTS'!E458","v":0},null,null,null,null,null,null,null,null,null,null,{"$f":"'PROPERTY MONUMENTS'!F458","v":0},null,null,null,null,null,{"$f":"'PROPERTY MONUMENTS'!H458","v":0},null,null,null,null,null,null,null,null,null,null,null,null,null,{"$f":"CONTROL!A201","v":0},null,null,null,{"$f":"CONTROL!B201","v":0},null,null,null,null,null,null,{"$f":"CONTROL!C201","v":0},null,null,null,null,{"$f":"CONTROL!D201","v":0},null,null,null,{"$f":"CONTROL!E201","v":0},null,null,null,null,{"$f":"CONTROL!F201","v":0},null,null,null,null,{"$f":"CONTROL!G201","v":0},null,null,null,{"$f":"CONTROL!H201","v":0}]
[null,null,{"$f":"'PROPERTY MONUMENTS'!B379","v":0},null,null,null,null,null,null,{"$f":"'PROPERTY MONUMENTS'!C379","v":0},null,null,null,null,{"$f":"'PROPERTY MONUMENTS'!D379","v":0},null,null,null,{"$f":"'PROPERTY MONUMENTS'!E379","v":0},null,null,null,null,{"$f":"'PROPERTY MONUMENTS'!F379","v":0},null,null,null,null,null,{"$f":"'PROPERTY MONUMENTS'!H379","v":0},null,null,null,null,null,null,null,null,null,null,null,null,null,{"$f":"'PROPERTY MONUMENTS'!B459","v":0},null,null,null,null,null,null,{"$f":"'PROPERTY MONUMENTS'!C459","v":0},null,null,null,null,{"$f":"'PROPERTY MONUMENTS'!D459","v":0},null,null,null,{"$f":"'PROPERTY MONUMENTS'!E459","v":0},null,null,null,null,null,null,null,null,null,null,{"$f":"'PROPERTY MONUMENTS'!F459","v":0},null,null,null,null,null,{"$f":"'PROPERTY MONUMENTS'!H459","v":0},null,null,null,null,null,null,null,null,null,null,null,null,null,{"$f":"CONTROL!A202","v":0},null,null,null,{"$f":"CONTROL!B202","v":0},null,null,null,null,null,null,{"$f":"CONTROL!C202","v":0},null,null,null,null,{"$f":"CONTROL!D202","v":0},null,null,null,{"$f":"CONTROL!E202","v":0},null,null,null,null,{"$f":"CONTROL!F202","v":0},null,null,null,null,{"$f":"CONTROL!G202","v":0},null,null,null,{"$f":"CONTROL!H202","v":0}]
[null,null,{"$f":"'PROPERTY MONUMENTS'!B380","v":0},null,null,null,null,null,null,{"$f":"'PROPERTY MONUMENTS'!C380","v":0},null,null,null,null,{"$f":"'PROPERTY MONUMENTS'!D380","v":0},null,null,null,{"$f":"'PROPERTY MONUMENTS'!E380","v":0},null,null,null,null,{"$f":"'PROPERTY MONUMENTS'!F380","v":0},null,null,null,null,null,{"$f":"'PROPERTY MONUMENTS'!H380","v":0},null,null,null,null,null,null,null,null,null,null,null,null,null,{"$f":"'PROPERTY MONUMENTS'!B460","v":0},null,null,null,null,null,null,{"$f":"'PROPERTY MONUMENTS'!C460","v":0},null,null,null,null,{"$f":"'PROPERTY MONUMENTS'!D460","v":0},null,null,null,{"$f":"'PROPERTY MONUMENTS'!E460","v":0},null,null,null,null,null,null,null,null,null,null,{"$f":"'PROPERTY MONUMENTS'!F460","v":0},null,null,null,null,null,{"$f":"'PROPERTY MONUMENTS'!H460","v":0},null,null,null,null,null,null,null,null,null,null,null,null,null,{"$f":"CONTROL!A203","v":0},null,null,null,{"$f":"CONTROL!B203","v":0},null,null,null,null,null,null,{"$f":"CONTROL!C203","v":0},null,null,null,null,{"$f":"CONTROL!D203","v":0},null,null,null,{"$f":"CONTROL!E203","v":0},null,null,null,null,{"$f":"CONTROL!F203","v":0},null,null,null,null,{"$f":"CONTROL!G203","v":0},null,null,null,{"$f":"CONTROL!H203","v":0}]
[null,null,{"$f":"'PROPERTY MONUMENTS'!B381","v":0},null,null,null,null,null,null,{"$f":"'PROPERTY MONUMENTS'!C381","v":0},null,null,null,null,{"$f":"'PROPERTY MONUMENTS'!D381","v":0},null,null,null,{"$f":"'PROPERTY MONUMENTS'!E381","v":0},null,null,null,null,{"$f":"'PROPERTY MONUMENTS'!F381","v":0},null,null,null,null,null,{"$f":"'PROPERTY MONUMENTS'!H381","v":0},null,null,null,null,null,null,null,null,null,null,null,null,null,{"$f":"'PROPERTY MONUMENTS'!B461","v":0},null,null,null,null,null,null,{"$f":"'PROPERTY MONUMENTS'!C461","v":0},null,null,null,null,{"$f":"'PROPERTY MONUMENTS'!D461","v":0},null,null,null,{"$f":"'PROPERTY MONUMENTS'!E461","v":0},null,null,null,null,null,null,null,null,null,null,{"$f":"'PROPERTY MONUMENTS'!F461","v":0},null,null,null,null,null,{"$f":"'PROPERTY MONUMENTS'!H461","v":0},null,null,null,null,null,null,null,null,null,null,null,null,null,{"$f":"CONTROL!A204","v":0},null,null,null,{"$f":"CONTROL!B204","v":0},null,null,null,null,null,null,{"$f":"CONTROL!C204","v":0},null,null,null,null,{"$f":"CONTROL!D204","v":0},null,null,null,{"$f":"CONTROL!E204","v":0},null,null,null,null,{"$f":"CONTROL!F204","v":0},null,null,null,null,{"$f":"CONTROL!G204","v":0},null,null,null,{"$f":"CONTROL!H204","v":0}]
[null,null,{"$f":"'PROPERTY MONUMENTS'!B382","v":0},null,null,null,null,null,null,{"$f":"'PROPERTY MONUMENTS'!C382","v":0},null,null,null,null,{"$f":"'PROPERTY MONUMENTS'!D382","v":0},null,null,null,{"$f":"'PROPERTY MONUMENTS'!E382","v":0},null,null,null,null,{"$f":"'PROPERTY MONUMENTS'!F382","v":0},null,null,null,null,null,{"$f":"'PROPERTY MONUMENTS'!H382","v":0},null,null,null,null,null,null,null,null,null,null,null,null,null,{"$f":"'PROPERTY MONUMENTS'!B462","v":0},null,null,null,null,null,null,{"$f":"'PROPERTY MONUMENTS'!C462","v":0},null,null,null,null,{"$f":"'PROPERTY MONUMENTS'!D462","v":0},null,null,null,{"$f":"'PROPERTY MONUMENTS'!E462","v":0},null,null,null,null,null,null,null,null,null,null,{"$f":"'PROPERTY MONUMENTS'!F462","v":0},null,null,null,null,null,{"$f":"'PROPERTY MONUMENTS'!H462","v":0},null,null,null,null,null,null,null,null,null,null,null,null,null,{"$f":"CONTROL!A205","v":0},null,null,null,{"$f":"CONTROL!B205","v":0},null,null,null,null,null,null,{"$f":"CONTROL!C205","v":0},null,null,null,null,{"$f":"CONTROL!D205","v":0},null,null,null,{"$f":"CONTROL!E205","v":0},null,null,null,null,{"$f":"CONTROL!F205","v":0},null,null,null,null,{"$f":"CONTROL!G205","v":0},null,null,null,{"$f":"CONTROL!H205","v":0}]
[null,null,{"$f":"'PROPERTY MONUMENTS'!B383","v":0},null,null,null,null,null,null,{"$f":"'PROPERTY MONUMENTS'!C383","v":0},null,null,null,null,{"$f":"'PROPERTY MONUMENTS'!D383","v":0},null,null,null,{"$f":"'PROPERTY MONUMENTS'!E383","v":0},null,null,null,null,{"$f":"'PROPERTY MONUMENTS'!F383","v":0},null,null,null,null,null,{"$f":"'PROPERTY MONUMENTS'!H383","v":0},null,null,null,null,null,null,null,null,null,null,null,null,null,{"$f":"'PROPERTY MONUMENTS'!B463","v":0},null,null,null,null,null,null,{"$f":"'PROPERTY MONUMENTS'!C463","v":0},null,null,null,null,{"$f":"'PROPERTY MONUMENTS'!D463","v":0},null,null,null,{"$f":"'PROPERTY MONUMENTS'!E463","v":0},null,null,null,null,null,null,null,null,null,null,{"$f":"'PROPERTY MONUMENTS'!F463","v":0},null,null,null,null,null,{"$f":"'PROPERTY MONUMENTS'!H463","v":0},null,null,null,null,null,null,null,null,null,null,null,null,null,{"$f":"CONTROL!A206","v":0},null,null,null,{"$f":"CONTROL!B206","v":0},null,null,null,null,null,null,{"$f":"CONTROL!C206","v":0},null,null,null,null,{"$f":"CONTROL!D206","v":0},null,null,null,{"$f":"CONTROL!E206","v":0},null,null,null,null,{"$f":"CONTROL!F206","v":0},null,null,null,null,{"$f":"CONTROL!G206","v":0},null,null,null,{"$f":"CONTROL!H206","v":0}]
[null,null,{"$f":"'PROPERTY MONUMENTS'!B384","v":0},null,null,null,null,null,null,{"$f":"'PROPERTY MONUMENTS'!C384","v":0},null,null,null,null,{"$f":"'PROPERTY MONUMENTS'!D384","v":0},null,null,null,{"$f":"'PROPERTY MONUMENTS'!E384","v":0},null,null,null,null,{"$f":"'PROPERTY MONUMENTS'!F384","v":0},null,null,null,null,null,{"$f":"'PROPERTY MONUMENTS'!H384","v":0},null,null,null,null,null,null,null,null,null,null,null,null,null,{"$f":"'PROPERTY MONUMENTS'!B464","v":0},null,null,null,null,null,null,{"$f":"'PROPERTY MONUMENTS'!C464","v":0},null,null,null,null,{"$f":"'PROPERTY MONUMENTS'!D464","v":0},null,null,null,{"$f":"'PROPERTY MONUMENTS'!E464","v":0},null,null,null,null,null,null,null,null,null,null,{"$f":"'PROPERTY MONUMENTS'!F464","v":0},null,null,null,null,null,{"$f":"'PROPERTY MONUMENTS'!H464","v":0},null,null,null,null,null,null,null,null,null,null,null,null,null,{"$f":"CONTROL!A207","v":0},null,null,null,{"$f":"CONTROL!B207","v":0},null,null,null,null,null,null,{"$f":"CONTROL!C207","v":0},null,null,null,null,{"$f":"CONTROL!D207","v":0},null,null,null,{"$f":"CONTROL!E207","v":0},null,null,null,null,{"$f":"CONTROL!F207","v":0},null,null,null,null,{"$f":"CONTROL!G207","v":0},null,null,null,{"$f":"CONTROL!H207","v":0}]
[null,null,{"$f":"'PROPERTY MONUMENTS'!B385","v":0},null,null,null,null,null,null,{"$f":"'PROPERTY MONUMENTS'!C385","v":0},null,null,null,null,{"$f":"'PROPERTY MONUMENTS'!D385","v":0},null,null,null,{"$f":"'PROPERTY MONUMENTS'!E385","v":0},null,null,null,null,{"$f":"'PROPERTY MONUMENTS'!F385","v":0},null,null,null,null,null,{"$f":"'PROPERTY MONUMENTS'!H385","v":0},null,null,null,null,null,null,null,null,null,null,null,null,null,{"$f":"'PROPERTY MONUMENTS'!B465","v":0},null,null,null,null,null,null,{"$f":"'PROPERTY MONUMENTS'!C465","v":0},null,null,null,null,{"$f":"'PROPERTY MONUMENTS'!D465","v":0},null,null,null,{"$f":"'PROPERTY MONUMENTS'!E465","v":0},null,null,null,null,null,null,null,null,null,null,{"$f":"'PROPERTY MONUMENTS'!F465","v":0},null,null,null,null,null,{"$f":"'PROPERTY MONUMENTS'!H465","v":0},null,null,null,null,null,null,null,null,null,null,null,null,null,{"$f":"CONTROL!A208","v":0},null,null,null,{"$f":"CONTROL!B208","v":0},null,null,null,null,null,null,{"$f":"CONTROL!C208","v":0},null,null,null,null,{"$f":"CONTROL!D208","v":0},null,null,null,{"$f":"CONTROL!E208","v":0},null,null,null,null,{"$f":"CONTROL!F208","v":0},null,null,null,null,{"$f":"CONTROL!G208","v":0},null,null,null,{"$f":"CONTROL!H208","v":0}]
[null,null,{"$f":"'PROPERTY MONUMENTS'!B386","v":0},null,null,null,null,null,null,{"$f":"'PROPERTY MONUMENTS'!C386","v":0},null,null,null,null,{"$f":"'PROPERTY MONUMENTS'!D386","v":0},null,null,null,{"$f":"'PROPERTY MONUMENTS'!E386","v":0},null,null,null,null,{"$f":"'PROPERTY MONUMENTS'!F386","v":0},null,null,null,null,null,{"$f":"'PROPERTY MONUMENTS'!H386","v":0},null,null,null,null,null,null,null,null,null,null,null,null,null,{"$f":"'PROPERTY MONUMENTS'!B466","v":0},null,null,null,null,null,null,{"$f":"'PROPERTY MONUMENTS'!C466","v":0},null,null,null,null,{"$f":"'PROPERTY MONUMENTS'!D466","v":0},null,null,null,{"$f":"'PROPERTY MONUMENTS'!E466","v":0},null,null,null,null,null,null,null,null,null,null,{"$f":"'PROPERTY MONUMENTS'!F466","v":0},null,null,null,null,null,{"$f":"'PROPERTY MONUMENTS'!H466","v":0},null,null,null,null,null,null,null,null,null,null,null,null,null,{"$f":"CONTROL!A209","v":0},null,null,null,{"$f":"CONTROL!B209","v":0},null,null,null,null,null,null,{"$f":"CONTROL!C209","v":0},null,null,null,null,{"$f":"CONTROL!D209","v":0},null,null,null,{"$f":"CONTROL!E209","v":0},null,null,null,null,{"$f":"CONTROL!F209","v":0},null,null,null,null,{"$f":"CONTROL!G209","v":0},null,null,null,{"$f":"CONTROL!H209","v":0}]
[null,null,{"$f":"'PROPERTY MONUMENTS'!B387","v":0},null,null,null,null,null,null,{"$f":"'PROPERTY MONUMENTS'!C387","v":0},null,null,null,null,{"$f":"'PROPERTY MONUMENTS'!D387","v":0},null,null,null,{"$f":"'PROPERTY MONUMENTS'!E387","v":0},null,null,null,null,{"$f":"'PROPERTY MONUMENTS'!F387","v":0},null,null,null,null,null,{"$f":"'PROPERTY MONUMENTS'!H387","v":0},null,null,null,null,null,null,null,null,null,null,null,null,null,{"$f":"'PROPERTY MONUMENTS'!B467","v":0},null,null,null,null,null,null,{"$f":"'PROPERTY MONUMENTS'!C467","v":0},null,null,null,null,{"$f":"'PROPERTY MONUMENTS'!D467","v":0},null,null,null,{"$f":"'PROPERTY MONUMENTS'!E467","v":0},null,null,null,null,null,null,null,null,null,null,{"$f":"'PROPERTY MONUMENTS'!F467","v":0},null,null,null,null,null,{"$f":"'PROPERTY MONUMENTS'!H467","v":0},null,null,null,null,null,null,null,null,null,null,null,null,null,{"$f":"CONTROL!A210","v":0},null,null,null,{"$f":"CONTROL!B210","v":0},null,null,null,null,null,null,{"$f":"CONTROL!C210","v":0},null,null,null,null,{"$f":"CONTROL!D210","v":0},null,null,null,{"$f":"CONTROL!E210","v":0},null,null,null,null,{"$f":"CONTROL!F210","v":0},null,null,null,null,{"$f":"CONTROL!G210","v":0},null,null,null,{"$f":"CONTROL!H210","v":0}]
[null,null,{"$f":"'PROPERTY MONUMENTS'!B388","v":0},null,null,null,null,null,null,{"$f":"'PROPERTY MONUMENTS'!C388","v":0},null,null,null,null,{"$f":"'PROPERTY MONUMENTS'!D388","v":0},null,null,null,{"$f":"'PROPERTY MONUMENTS'!E388","v":0},null,null,null,null,{"$f":"'PROPERTY MONUMENTS'!F388","v":0},null,null,null,null,null,{"$f":"'PROPERTY MONUMENTS'!H388","v":0},null,null,null,null,null,null,null,null,null,null,null,null,null,{"$f":"'PROPERTY MONUMENTS'!B468","v":0},null,null,null,null,null,null,{"$f":"'PROPERTY MONUMENTS'!C468","v":0},null,null,null,null,{"$f":"'PROPERTY MONUMENTS'!D468","v":0},null,null,null,{"$f":"'PROPERTY MONUMENTS'!E468","v":0},null,null,null,null,null,null,null,null,null,null,{"$f":"'PROPERTY MONUMENTS'!F468","v":0},null,null,null,null,null,{"$f":"'PROPERTY MONUMENTS'!H468","v":0},null,null,null,null,null,null,null,null,null,null,null,null,null,{"$f":"CONTROL!A211","v":0},null,null,null,{"$f":"CONTROL!B211","v":0},null,null,null,null,null,null,{"$f":"CONTROL!C211","v":0},null,null,null,null,{"$f":"CONTROL!D211","v":0},null,null,null,{"$f":"CONTROL!E211","v":0},null,null,null,null,{"$f":"CONTROL!F211","v":0},null,null,null,null,{"$f":"CONTROL!G211","v":0},null,null,null,{"$f":"CONTROL!H211","v":0}]
[null,null,{"$f":"'PROPERTY MONUMENTS'!B389","v":0},null,null,null,null,null,null,{"$f":"'PROPERTY MONUMENTS'!C389","v":0},null,null,null,null,{"$f":"'PROPERTY MONUMENTS'!D389","v":0},null,null,null,{"$f":"'PROPERTY MONUMENTS'!E389","v":0},null,null,null,null,{"$f":"'PROPERTY MONUMENTS'!F389","v":0},null,null,null,null,null,{"$f":"'PROPERTY MONUMENTS'!H389","v":0},null,null,null,null,null,null,null,null,null,null,null,null,null,{"$f":"'PROPERTY MONUMENTS'!B469","v":0},null,null,null,null,null,null,{"$f":"'PROPERTY MONUMENTS'!C469","v":0},null,null,null,null,{"$f":"'PROPERTY MONUMENTS'!D469","v":0},null,null,null,{"$f":"'PROPERTY MONUMENTS'!E469","v":0},null,null,null,null,null,null,null,null,null,null,{"$f":"'PROPERTY MONUMENTS'!F469","v":0},null,null,null,null,null,{"$f":"'PROPERTY MONUMENTS'!H469","v":0},null,null,null,null,null,null,null,null,null,null,null,null,null,{"$f":"CONTROL!A212","v":0},null,null,null,{"$f":"CONTROL!B212","v":0},null,null,null,null,null,null,{"$f":"CONTROL!C212","v":0},null,null,null,null,{"$f":"CONTROL!D212","v":0},null,null,null,{"$f":"CONTROL!E212","v":0},null,null,null,null,{"$f":"CONTROL!F212","v":0},null,null,null,null,{"$f":"CONTROL!G212","v":0},null,null,null,{"$f":"CONTROL!H212","v":0}]
[null,null,{"$f":"'PROPERTY MONUMENTS'!B390","v":0},null,null,null,null,null,null,{"$f":"'PROPERTY MONUMENTS'!C390","v":0},null,null,null,null,{"$f":"'PROPERTY MONUMENTS'!D390","v":0},null,null,null,{"$f":"'PROPERTY MONUMENTS'!E390","v":0},null,null,null,null,{"$f":"'PROPERTY MONUMENTS'!F390","v":0},null,null,null,null,null,{"$f":"'PROPERTY MONUMENTS'!H390","v":0},null,null,null,null,null,null,null,null,null,null,null,null,null,{"$f":"'PROPERTY MONUMENTS'!B470","v":0},null,null,null,null,null,null,{"$f":"'PROPERTY MONUMENTS'!C470","v":0},null,null,null,null,{"$f":"'PROPERTY MONUMENTS'!D470","v":0},null,null,null,{"$f":"'PROPERTY MONUMENTS'!E470","v":0},null,null,null,null,null,null,null,null,null,null,{"$f":"'PROPERTY MONUMENTS'!F470","v":0},null,null,null,null,null,{"$f":"'PROPERTY MONUMENTS'!H470","v":0},null,null,null,null,null,null,null,null,null,null,null,null,null,{"$f":"CONTROL!A213","v":0},null,null,null,{"$f":"CONTROL!B213","v":0},null,null,null,null,null,null,{"$f":"CONTROL!C213","v":0},null,null,null,null,{"$f":"CONTROL!D213","v":0},null,null,null,{"$f":"CONTROL!E213","v":0},null,null,null,null,{"$f":"CONTROL!F213","v":0},null,null,null,null,{"$f":"CONTROL!G213","v":0},null,null,null,{"$f":"CONTROL!H213","v":0}]
[null,null,{"$f":"'PROPERTY MONUMENTS'!B391","v":0},null,null,null,null,null,null,{"$f":"'PROPERTY MONUMENTS'!C391","v":0},null,null,null,null,{"$f":"'PROPERTY MONUMENTS'!D391","v":0},null,null,null,{"$f":"'PROPERTY MONUMENTS'!E391","v":0},null,null,null,null,{"$f":"'PROPERTY MONUMENTS'!F391","v":0},null,null,null,null,null,{"$f":"'PROPERTY MONUMENTS'!H391","v":0},null,null,null,null,null,null,null,null,null,null,null,null,null,{"$f":"'PROPERTY MONUMENTS'!B471","v":0},null,null,null,null,null,null,{"$f":"'PROPERTY MONUMENTS'!C471","v":0},null,null,null,null,{"$f":"'PROPERTY MONUMENTS'!D471","v":0},null,null,null,{"$f":"'PROPERTY MONUMENTS'!E471","v":0},null,null,null,null,null,null,null,null,null,null,{"$f":"'PROPERTY MONUMENTS'!F471","v":0},null,null,null,null,null,{"$f":"'PROPERTY MONUMENTS'!H471","v":0},null,null,null,null,null,null,null,null,null,null,null,null,null,{"$f":"CONTROL!A214","v":0},null,null,null,{"$f":"CONTROL!B214","v":0},null,null,null,null,null,null,{"$f":"CONTROL!C214","v":0},null,null,null,null,{"$f":"CONTROL!D214","v":0},null,null,null,{"$f":"CONTROL!E214","v":0},null,null,null,null,{"$f":"CONTROL!F214","v":0},null,null,null,null,{"$f":"CONTROL!G214","v":0},null,null,null,{"$f":"CONTROL!H214","v":0}]
[null,null,{"$f":"'PROPERTY MONUMENTS'!B392","v":0},null,null,null,null,null,null,{"$f":"'PROPERTY MONUMENTS'!C392","v":0},null,null,null,null,{"$f":"'PROPERTY MONUMENTS'!D392","v":0},null,null,null,{"$f":"'PROPERTY MONUMENTS'!E392","v":0},null,null,null,null,{"$f":"'PROPERTY MONUMENTS'!F392","v":0},null,null,null,null,null,{"$f":"'PROPERTY MONUMENTS'!H392","v":0},null,null,null,null,null,null,null,null,null,null,null,null,null,{"$f":"'PROPERTY MONUMENTS'!B472","v":0},null,null,null,null,null,null,{"$f":"'PROPERTY MONUMENTS'!C472","v":0},null,null,null,null,{"$f":"'PROPERTY MONUMENTS'!D472","v":0},null,null,null,{"$f":"'PROPERTY MONUMENTS'!E472","v":0},null,null,null,null,null,null,null,null,null,null,{"$f":"'PROPERTY MONUMENTS'!F472","v":0},null,null,null,null,null,{"$f":"'PROPERTY MONUMENTS'!H472","v":0},null,null,null,null,null,null,null,null,null,null,null,null,null,{"$f":"CONTROL!A215","v":0},null,null,null,{"$f":"CONTROL!B215","v":0},null,null,null,null,null,null,{"$f":"CONTROL!C215","v":0},null,null,null,null,{"$f":"CONTROL!D215","v":0},null,null,null,{"$f":"CONTROL!E215","v":0},null,null,null,null,{"$f":"CONTROL!F215","v":0},null,null,null,null,{"$f":"CONTROL!G215","v":0},null,null,null,{"$f":"CONTROL!H215","v":0}]
[null,null,{"$f":"'PROPERTY MONUMENTS'!B393","v":0},null,null,null,null,null,null,{"$f":"'PROPERTY MONUMENTS'!C393","v":0},null,null,null,null,{"$f":"'PROPERTY MONUMENTS'!D393","v":0},null,null,null,{"$f":"'PROPERTY MONUMENTS'!E393","v":0},null,null,null,null,{"$f":"'PROPERTY MONUMENTS'!F393","v":0},null,null,null,null,null,{"$f":"'PROPERTY MONUMENTS'!H393","v":0},null,null,null,null,null,null,null,null,null,null,null,null,null,{"$f":"'PROPERTY MONUMENTS'!B473","v":0},null,null,null,null,null,null,{"$f":"'PROPERTY MONUMENTS'!C473","v":0},null,null,null,null,{"$f":"'PROPERTY MONUMENTS'!D473","v":0},null,null,null,{"$f":"'PROPERTY MONUMENTS'!E473","v":0},null,null,null,null,null,null,null,null,null,null,{"$f":"'PROPERTY MONUMENTS'!F473","v":0},null,null,null,null,null,{"$f":"'PROPERTY MONUMENTS'!H473","v":0},null,null,null,null,null,null,null,null,null,null,null,null,null,{"$f":"CONTROL!A216","v":0},null,null,null,{"$f":"CONTROL!B216","v":0},null,null,null,null,null,null,{"$f":"CONTROL!C216","v":0},null,null,null,null,{"$f":"CONTROL!D216","v":0},null,null,null,{"$f":"CONTROL!E216","v":0},null,null,null,null,{"$f":"CONTROL!F216","v":0},null,null,null,null,{"$f":"CONTROL!G216","v":0},null,null,null,{"$f":"CONTROL!H216","v":0}]
[{"$f":"CELL(\"filename\")","v":"C:\\Users\\dawsonmh\\Desktop\\[Survey_Project_Report_ver21.0.xlsm]SUMMARY"},null,{"$f":"'PROPERTY MONUMENTS'!B394","v":0},null,null,null,null,null,null,{"$f":"'PROPERTY MONUMENTS'!C394","v":0},null,null,null,null,{"$f":"'PROPERTY MONUMENTS'!D394","v":0},null,null,null,{"$f":"'PROPERTY MONUMENTS'!E394","v":0},null,null,null,null,{"$f":"'PROPERTY MONUMENTS'!F394","v":0},null,null,null,null,null,{"$f":"'PROPERTY MONUMENTS'!H394","v":0},null,null,null,null,null,null,null,null,null,null,null,null,null,{"$f":"'PROPERTY MONUMENTS'!B474","v":0},null,null,null,null,null,null,{"$f":"'PROPERTY MONUMENTS'!C474","v":0},null,null,null,null,{"$f":"'PROPERTY MONUMENTS'!D474","v":0},null,null,null,{"$f":"'PROPERTY MONUMENTS'!E474","v":0},null,null,null,null,null,null,null,null,null,null,{"$f":"'PROPERTY MONUMENTS'!F474","v":0},null,null,null,null,null,{"$f":"'PROPERTY MONUMENTS'!H474","v":0},null,null,null,null,null,null,null,null,null,null,null,null,null,{"$f":"CONTROL!A217","v":0},null,null,null,{"$f":"CONTROL!B217","v":0},null,null,null,null,null,null,{"$f":"CONTROL!C217","v":0},null,null,null,null,{"$f":"CONTROL!D217","v":0},null,null,null,{"$f":"CONTROL!E217","v":0},null,null,null,null,{"$f":"CONTROL!F217","v":0},null,null,null,null,{"$f":"CONTROL!G217","v":0},null,null,null,{"$f":"CONTROL!H217","v":0}]
[null,null,{"$f":"'PROPERTY MONUMENTS'!B395","v":0},null,null,null,null,null,null,{"$f":"'PROPERTY MONUMENTS'!C395","v":0},null,null,null,null,{"$f":"'PROPERTY MONUMENTS'!D395","v":0},null,null,null,{"$f":"'PROPERTY MONUMENTS'!E395","v":0},null,null,null,null,{"$f":"'PROPERTY MONUMENTS'!F395","v":0},null,null,null,null,null,{"$f":"'PROPERTY MONUMENTS'!H395","v":0},null,null,null,null,null,null,null,null,null,null,null,null,null,{"$f":"'PROPERTY MONUMENTS'!B475","v":0},null,null,null,null,null,null,{"$f":"'PROPERTY MONUMENTS'!C475","v":0},null,null,null,null,{"$f":"'PROPERTY MONUMENTS'!D475","v":0},null,null,null,{"$f":"'PROPERTY MONUMENTS'!E475","v":0},null,null,null,null,null,null,null,null,null,null,{"$f":"'PROPERTY MONUMENTS'!F475","v":0},null,null,null,null,null,{"$f":"'PROPERTY MONUMENTS'!H475","v":0},null,null,null,null,null,null,null,null,null,null,null,null,null,{"$f":"CONTROL!A218","v":0},null,null,null,{"$f":"CONTROL!B218","v":0},null,null,null,null,null,null,{"$f":"CONTROL!C218","v":0},null,null,null,null,{"$f":"CONTROL!D218","v":0},null,null,null,{"$f":"CONTROL!E218","v":0},null,null,null,null,{"$f":"CONTROL!F218","v":0},null,null,null,null,{"$f":"CONTROL!G218","v":0},null,null,null,{"$f":"CONTROL!H218","v":0}]
[null,null,{"$f":"'PROPERTY MONUMENTS'!B396","v":0},null,null,null,null,null,null,{"$f":"'PROPERTY MONUMENTS'!C396","v":0},null,null,null,null,{"$f":"'PROPERTY MONUMENTS'!D396","v":0},null,null,null,{"$f":"'PROPERTY MONUMENTS'!E396","v":0},null,null,null,null,{"$f":"'PROPERTY MONUMENTS'!F396","v":0},null,null,null,null,null,{"$f":"'PROPERTY MONUMENTS'!H396","v":0},null,null,null,null,null,null,null,null,null,null,null,null,null,{"$f":"'PROPERTY MONUMENTS'!B476","v":0},null,null,null,null,null,null,{"$f":"'PROPERTY MONUMENTS'!C476","v":0},null,null,null,null,{"$f":"'PROPERTY MONUMENTS'!D476","v":0},null,null,null,{"$f":"'PROPERTY MONUMENTS'!E476","v":0},null,null,null,null,null,null,null,null,null,null,{"$f":"'PROPERTY MONUMENTS'!F476","v":0},null,null,null,null,null,{"$f":"'PROPERTY MONUMENTS'!H476","v":0},null,null,null,null,null,null,null,null,null,null,null,null,null,{"$f":"CONTROL!A219","v":0},null,null,null,{"$f":"CONTROL!B219","v":0},null,null,null,null,null,null,{"$f":"CONTROL!C219","v":0},null,null,null,null,{"$f":"CONTROL!D219","v":0},null,null,null,{"$f":"CONTROL!E219","v":0},null,null,null,null,{"$f":"CONTROL!F219","v":0},null,null,null,null,{"$f":"CONTROL!G219","v":0},null,null,null,{"$f":"CONTROL!H219","v":0}]
[null,null,{"$f":"'PROPERTY MONUMENTS'!B397","v":0},null,null,null,null,null,null,{"$f":"'PROPERTY MONUMENTS'!C397","v":0},null,null,null,null,{"$f":"'PROPERTY MONUMENTS'!D397","v":0},null,null,null,{"$f":"'PROPERTY MONUMENTS'!E397","v":0},null,null,null,null,{"$f":"'PROPERTY MONUMENTS'!F397","v":0},null,null,null,null,null,{"$f":"'PROPERTY MONUMENTS'!H397","v":0},null,null,null,null,null,null,null,null,null,null,null,null,null,{"$f":"'PROPERTY MONUMENTS'!B477","v":0},null,null,null,null,null,null,{"$f":"'PROPERTY MONUMENTS'!C477","v":0},null,null,null,null,{"$f":"'PROPERTY MONUMENTS'!D477","v":0},null,null,null,{"$f":"'PROPERTY MONUMENTS'!E477","v":0},null,null,null,null,null,null,null,null,null,null,{"$f":"'PROPERTY MONUMENTS'!F477","v":0},null,null,null,null,null,{"$f":"'PROPERTY MONUMENTS'!H477","v":0},null,null,null,null,null,null,null,null,null,null,null,null,null,{"$f":"CONTROL!A220","v":0},null,null,null,{"$f":"CONTROL!B220","v":0},null,null,null,null,null,null,{"$f":"CONTROL!C220","v":0},null,null,null,null,{"$f":"CONTROL!D220","v":0},null,null,null,{"$f":"CONTROL!E220","v":0},null,null,null,null,{"$f":"CONTROL!F220","v":0},null,null,null,null,{"$f":"CONTROL!G220","v":0},null,null,null,{"$f":"CONTROL!H220","v":0}]
[null,null,{"$f":"'PROPERTY MONUMENTS'!B398","v":0},null,null,null,null,null,null,{"$f":"'PROPERTY MONUMENTS'!C398","v":0},null,null,null,null,{"$f":"'PROPERTY MONUMENTS'!D398","v":0},null,null,null,{"$f":"'PROPERTY MONUMENTS'!E398","v":0},null,null,null,null,{"$f":"'PROPERTY MONUMENTS'!F398","v":0},null,null,null,null,null,{"$f":"'PROPERTY MONUMENTS'!H398","v":0},null,null,null,null,null,null,null,null,null,null,null,null,null,{"$f":"'PROPERTY MONUMENTS'!B478","v":0},null,null,null,null,null,null,{"$f":"'PROPERTY MONUMENTS'!C478","v":0},null,null,null,null,{"$f":"'PROPERTY MONUMENTS'!D478","v":0},null,null,null,{"$f":"'PROPERTY MONUMENTS'!E478","v":0},null,null,null,null,null,null,null,null,null,null,{"$f":"'PROPERTY MONUMENTS'!F478","v":0},null,null,null,null,null,{"$f":"'PROPERTY MONUMENTS'!H478","v":0},null,null,null,null,null,null,null,null,null,null,null,null,null,{"$f":"CONTROL!A221","v":0},null,null,null,{"$f":"CONTROL!B221","v":0},null,null,null,null,null,null,{"$f":"CONTROL!C221","v":0},null,null,null,null,{"$f":"CONTROL!D221","v":0},null,null,null,{"$f":"CONTROL!E221","v":0},null,null,null,null,{"$f":"CONTROL!F221","v":0},null,null,null,null,{"$f":"CONTROL!G221","v":0},null,null,null,{"$f":"CONTROL!H221","v":0}]
[null,null,{"$f":"'PROPERTY MONUMENTS'!B399","v":0},null,null,null,null,null,null,{"$f":"'PROPERTY MONUMENTS'!C399","v":0},null,null,null,null,{"$f":"'PROPERTY MONUMENTS'!D399","v":0},null,null,null,{"$f":"'PROPERTY MONUMENTS'!E399","v":0},null,null,null,null,{"$f":"'PROPERTY MONUMENTS'!F399","v":0},null,null,null,null,null,{"$f":"'PROPERTY MONUMENTS'!H399","v":0},null,null,null,null,null,null,null,null,null,null,null,null,null,{"$f":"'PROPERTY MONUMENTS'!B479","v":0},null,null,null,null,null,null,{"$f":"'PROPERTY MONUMENTS'!C479","v":0},null,null,null,null,{"$f":"'PROPERTY MONUMENTS'!D479","v":0},null,null,null,{"$f":"'PROPERTY MONUMENTS'!E479","v":0},null,null,null,null,null,null,null,null,null,null,{"$f":"'PROPERTY MONUMENTS'!F479","v":0},null,null,null,null,null,{"$f":"'PROPERTY MONUMENTS'!H479","v":0},null,null,null,null,null,null,null,null,null,null,null,null,null,{"$f":"CONTROL!A222","v":0},null,null,null,{"$f":"CONTROL!B222","v":0},null,null,null,null,null,null,{"$f":"CONTROL!C222","v":0},null,null,null,null,{"$f":"CONTROL!D222","v":0},null,null,null,{"$f":"CONTROL!E222","v":0},null,null,null,null,{"$f":"CONTROL!F222","v":0},null,null,null,null,{"$f":"CONTROL!G222","v":0},null,null,null,{"$f":"CONTROL!H222","v":0}]
[null,null,{"$f":"'PROPERTY MONUMENTS'!B400","v":0},null,null,null,null,null,null,{"$f":"'PROPERTY MONUMENTS'!C400","v":0},null,null,null,null,{"$f":"'PROPERTY MONUMENTS'!D400","v":0},null,null,null,{"$f":"'PROPERTY MONUMENTS'!E400","v":0},null,null,null,null,{"$f":"'PROPERTY MONUMENTS'!F400","v":0},null,null,null,null,null,{"$f":"'PROPERTY MONUMENTS'!H400","v":0},null,null,null,null,null,null,null,null,null,null,null,null,null,{"$f":"'PROPERTY MONUMENTS'!B480","v":0},null,null,null,null,null,null,{"$f":"'PROPERTY MONUMENTS'!C480","v":0},null,null,null,null,{"$f":"'PROPERTY MONUMENTS'!D480","v":0},null,null,null,{"$f":"'PROPERTY MONUMENTS'!E480","v":0},null,null,null,null,null,null,null,null,null,null,{"$f":"'PROPERTY MONUMENTS'!F480","v":0},null,null,null,null,null,{"$f":"'PROPERTY MONUMENTS'!H480","v":0},null,null,null,null,null,null,null,null,null,null,null,null,null,{"$f":"CONTROL!A223","v":0},null,null,null,{"$f":"CONTROL!B223","v":0},null,null,null,null,null,null,{"$f":"CONTROL!C223","v":0},null,null,null,null,{"$f":"CONTROL!D223","v":0},null,null,null,{"$f":"CONTROL!E223","v":0},null,null,null,null,{"$f":"CONTROL!F223","v":0},null,null,null,null,{"$f":"CONTROL!G223","v":0},null,null,null,{"$f":"CONTROL!H223","v":0}]
[null,null,{"$f":"'PROPERTY MONUMENTS'!B401","v":0},null,null,null,null,null,null,{"$f":"'PROPERTY MONUMENTS'!C401","v":0},null,null,null,null,{"$f":"'PROPERTY MONUMENTS'!D401","v":0},null,null,null,{"$f":"'PROPERTY MONUMENTS'!E401","v":0},null,null,null,null,{"$f":"'PROPERTY MONUMENTS'!F401","v":0},null,null,null,null,null,{"$f":"'PROPERTY MONUMENTS'!H401","v":0},null,null,null,null,null,null,null,null,null,null,null,null,null,{"$f":"'PROPERTY MONUMENTS'!B481","v":0},null,null,null,null,null,null,{"$f":"'PROPERTY MONUMENTS'!C481","v":0},null,null,null,null,{"$f":"'PROPERTY MONUMENTS'!D481","v":0},null,null,null,{"$f":"'PROPERTY MONUMENTS'!E481","v":0},null,null,null,null,null,null,null,null,null,null,{"$f":"'PROPERTY MONUMENTS'!F481","v":0},null,null,null,null,null,{"$f":"'PROPERTY MONUMENTS'!H481","v":0},null,null,null,null,null,null,null,null,null,null,null,null,null,{"$f":"CONTROL!A224","v":0},null,null,null,{"$f":"CONTROL!B224","v":0},null,null,null,null,null,null,{"$f":"CONTROL!C224","v":0},null,null,null,null,{"$f":"CONTROL!D224","v":0},null,null,null,{"$f":"CONTROL!E224","v":0},null,null,null,null,{"$f":"CONTROL!F224","v":0},null,null,null,null,{"$f":"CONTROL!G224","v":0},null,null,null,{"$f":"CONTROL!H224","v":0}]
[null,null,{"$f":"'PROPERTY MONUMENTS'!B402","v":0},null,null,null,null,null,null,{"$f":"'PROPERTY MONUMENTS'!C402","v":0},null,null,null,null,{"$f":"'PROPERTY MONUMENTS'!D402","v":0},null,null,null,{"$f":"'PROPERTY MONUMENTS'!E402","v":0},null,null,null,null,{"$f":"'PROPERTY MONUMENTS'!F402","v":0},null,null,null,null,null,{"$f":"'PROPERTY MONUMENTS'!H402","v":0},null,null,null,null,null,null,null,null,null,null,null,null,null,{"$f":"'PROPERTY MONUMENTS'!B482","v":0},null,null,null,null,null,null,{"$f":"'PROPERTY MONUMENTS'!C482","v":0},null,null,null,null,{"$f":"'PROPERTY MONUMENTS'!D482","v":0},null,null,null,{"$f":"'PROPERTY MONUMENTS'!E482","v":0},null,null,null,null,null,null,null,null,null,null,{"$f":"'PROPERTY MONUMENTS'!F482","v":0},null,null,null,null,null,{"$f":"'PROPERTY MONUMENTS'!H482","v":0},null,null,null,null,null,null,null,null,null,null,null,null,null,{"$f":"CONTROL!A225","v":0},null,null,null,{"$f":"CONTROL!B225","v":0},null,null,null,null,null,null,{"$f":"CONTROL!C225","v":0},null,null,null,null,{"$f":"CONTROL!D225","v":0},null,null,null,{"$f":"CONTROL!E225","v":0},null,null,null,null,{"$f":"CONTROL!F225","v":0},null,null,null,null,{"$f":"CONTROL!G225","v":0},null,null,null,{"$f":"CONTROL!H225","v":0}]
[null,null,{"$f":"'PROPERTY MONUMENTS'!B403","v":0},null,null,null,null,null,null,{"$f":"'PROPERTY MONUMENTS'!C403","v":0},null,null,null,null,{"$f":"'PROPERTY MONUMENTS'!D403","v":0},null,null,null,{"$f":"'PROPERTY MONUMENTS'!E403","v":0},null,null,null,null,{"$f":"'PROPERTY MONUMENTS'!F403","v":0},null,null,null,null,null,{"$f":"'PROPERTY MONUMENTS'!H403","v":0},null,null,null,null,null,null,null,null,null,null,null,null,null,{"$f":"'PROPERTY MONUMENTS'!B483","v":0},null,null,null,null,null,null,{"$f":"'PROPERTY MONUMENTS'!C483","v":0},null,null,null,null,{"$f":"'PROPERTY MONUMENTS'!D483","v":0},null,null,null,{"$f":"'PROPERTY MONUMENTS'!E483","v":0},null,null,null,null,null,null,null,null,null,null,{"$f":"'PROPERTY MONUMENTS'!F483","v":0},null,null,null,null,null,{"$f":"'PROPERTY MONUMENTS'!H483","v":0},null,null,null,null,null,null,null,null,null,null,null,null,null,{"$f":"CONTROL!A226","v":0},null,null,null,{"$f":"CONTROL!B226","v":0},null,null,null,null,null,null,{"$f":"CONTROL!C226","v":0},null,null,null,null,{"$f":"CONTROL!D226","v":0},null,null,null,{"$f":"CONTROL!E226","v":0},null,null,null,null,{"$f":"CONTROL!F226","v":0},null,null,null,null,{"$f":"CONTROL!G226","v":0},null,null,null,{"$f":"CONTROL!H226","v":0}]
[null,null,{"$f":"'PROPERTY MONUMENTS'!B404","v":0},null,null,null,null,null,null,{"$f":"'PROPERTY MONUMENTS'!C404","v":0},null,null,null,null,{"$f":"'PROPERTY MONUMENTS'!D404","v":0},null,null,null,{"$f":"'PROPERTY MONUMENTS'!E404","v":0},null,null,null,null,{"$f":"'PROPERTY MONUMENTS'!F404","v":0},null,null,null,null,null,{"$f":"'PROPERTY MONUMENTS'!H404","v":0},null,null,null,null,null,null,null,null,null,null,null,null,null,{"$f":"'PROPERTY MONUMENTS'!B484","v":0},null,null,null,null,null,null,{"$f":"'PROPERTY MONUMENTS'!C484","v":0},null,null,null,null,{"$f":"'PROPERTY MONUMENTS'!D484","v":0},null,null,null,{"$f":"'PROPERTY MONUMENTS'!E484","v":0},null,null,null,null,null,null,null,null,null,null,{"$f":"'PROPERTY MONUMENTS'!F484","v":0},null,null,null,null,null,{"$f":"'PROPERTY MONUMENTS'!H484","v":0},null,null,null,null,null,null,null,null,null,null,null,null,null,{"$f":"CONTROL!A227","v":0},null,null,null,{"$f":"CONTROL!B227","v":0},null,null,null,null,null,null,{"$f":"CONTROL!C227","v":0},null,null,null,null,{"$f":"CONTROL!D227","v":0},null,null,null,{"$f":"CONTROL!E227","v":0},null,null,null,null,{"$f":"CONTROL!F227","v":0},null,null,null,null,{"$f":"CONTROL!G227","v":0},null,null,null,{"$f":"CONTROL!H227","v":0}]
[null,null,{"$f":"'PROPERTY MONUMENTS'!B405","v":0},null,null,null,null,null,null,{"$f":"'PROPERTY MONUMENTS'!C405","v":0},null,null,null,null,{"$f":"'PROPERTY MONUMENTS'!D405","v":0},null,null,null,{"$f":"'PROPERTY MONUMENTS'!E405","v":0},null,null,null,null,{"$f":"'PROPERTY MONUMENTS'!F405","v":0},null,null,null,null,null,{"$f":"'PROPERTY MONUMENTS'!H405","v":0},null,null,null,null,null,null,null,null,null,null,null,null,null,{"$f":"'PROPERTY MONUMENTS'!B485","v":0},null,null,null,null,null,null,{"$f":"'PROPERTY MONUMENTS'!C485","v":0},null,null,null,null,{"$f":"'PROPERTY MONUMENTS'!D485","v":0},null,null,null,{"$f":"'PROPERTY MONUMENTS'!E485","v":0},null,null,null,null,null,null,null,null,null,null,{"$f":"'PROPERTY MONUMENTS'!F485","v":0},null,null,null,null,null,{"$f":"'PROPERTY MONUMENTS'!H485","v":0},null,null,null,null,null,null,null,null,null,null,null,null,null,{"$f":"CONTROL!A228","v":0},null,null,null,{"$f":"CONTROL!B228","v":0},null,null,null,null,null,null,{"$f":"CONTROL!C228","v":0},null,null,null,null,{"$f":"CONTROL!D228","v":0},null,null,null,{"$f":"CONTROL!E228","v":0},null,null,null,null,{"$f":"CONTROL!F228","v":0},null,null,null,null,{"$f":"CONTROL!G228","v":0},null,null,null,{"$f":"CONTROL!H228","v":0}]
[null,null,{"$f":"'PROPERTY MONUMENTS'!B406","v":0},null,null,null,null,null,null,{"$f":"'PROPERTY MONUMENTS'!C406","v":0},null,null,null,null,{"$f":"'PROPERTY MONUMENTS'!D406","v":0},null,null,null,{"$f":"'PROPERTY MONUMENTS'!E406","v":0},null,null,null,null,{"$f":"'PROPERTY MONUMENTS'!F406","v":0},null,null,null,null,null,{"$f":"'PROPERTY MONUMENTS'!H406","v":0},null,null,null,null,null,null,null,null,null,null,null,null,null,{"$f":"'PROPERTY MONUMENTS'!B486","v":0},null,null,null,null,null,null,{"$f":"'PROPERTY MONUMENTS'!C486","v":0},null,null,null,null,{"$f":"'PROPERTY MONUMENTS'!D486","v":0},null,null,null,{"$f":"'PROPERTY MONUMENTS'!E486","v":0},null,null,null,null,null,null,null,null,null,null,{"$f":"'PROPERTY MONUMENTS'!F486","v":0},null,null,null,null,null,{"$f":"'PROPERTY MONUMENTS'!H486","v":0},null,null,null,null,null,null,null,null,null,null,null,null,null,{"$f":"CONTROL!A229","v":0},null,null,null,{"$f":"CONTROL!B229","v":0},null,null,null,null,null,null,{"$f":"CONTROL!C229","v":0},null,null,null,null,{"$f":"CONTROL!D229","v":0},null,null,null,{"$f":"CONTROL!E229","v":0},null,null,null,null,{"$f":"CONTROL!F229","v":0},null,null,null,null,{"$f":"CONTROL!G229","v":0},null,null,null,{"$f":"CONTROL!H229","v":0}]
[null,null,{"$f":"'PROPERTY MONUMENTS'!B407","v":0},null,null,null,null,null,null,{"$f":"'PROPERTY MONUMENTS'!C407","v":0},null,null,null,null,{"$f":"'PROPERTY MONUMENTS'!D407","v":0},null,null,null,{"$f":"'PROPERTY MONUMENTS'!E407","v":0},null,null,null,null,{"$f":"'PROPERTY MONUMENTS'!F407","v":0},null,null,null,null,null,{"$f":"'PROPERTY MONUMENTS'!H407","v":0},null,null,null,null,null,null,null,null,null,null,null,null,null,{"$f":"'PROPERTY MONUMENTS'!B487","v":0},null,null,null,null,null,null,{"$f":"'PROPERTY MONUMENTS'!C487","v":0},null,null,null,null,{"$f":"'PROPERTY MONUMENTS'!D487","v":0},null,null,null,{"$f":"'PROPERTY MONUMENTS'!E487","v":0},null,null,null,null,null,null,null,null,null,null,{"$f":"'PROPERTY MONUMENTS'!F487","v":0},null,null,null,null,null,{"$f":"'PROPERTY MONUMENTS'!H487","v":0},null,null,null,null,null,null,null,null,null,null,null,null,null,{"$f":"CONTROL!A230","v":0},null,null,null,{"$f":"CONTROL!B230","v":0},null,null,null,null,null,null,{"$f":"CONTROL!C230","v":0},null,null,null,null,{"$f":"CONTROL!D230","v":0},null,null,null,{"$f":"CONTROL!E230","v":0},null,null,null,null,{"$f":"CONTROL!F230","v":0},null,null,null,null,{"$f":"CONTROL!G230","v":0},null,null,null,{"$f":"CONTROL!H230","v":0}]
[null,null,{"$f":"'PROPERTY MONUMENTS'!B408","v":0},null,null,null,null,null,null,{"$f":"'PROPERTY MONUMENTS'!C408","v":0},null,null,null,null,{"$f":"'PROPERTY MONUMENTS'!D408","v":0},null,null,null,{"$f":"'PROPERTY MONUMENTS'!E408","v":0},null,null,null,null,{"$f":"'PROPERTY MONUMENTS'!F408","v":0},null,null,null,null,null,{"$f":"'PROPERTY MONUMENTS'!H408","v":0},null,null,null,null,null,null,null,null,null,null,null,null,null,{"$f":"'PROPERTY MONUMENTS'!B488","v":0},null,null,null,null,null,null,{"$f":"'PROPERTY MONUMENTS'!C488","v":0},null,null,null,null,{"$f":"'PROPERTY MONUMENTS'!D488","v":0},null,null,null,{"$f":"'PROPERTY MONUMENTS'!E488","v":0},null,null,null,null,null,null,null,null,null,null,{"$f":"'PROPERTY MONUMENTS'!F488","v":0},null,null,null,null,null,{"$f":"'PROPERTY MONUMENTS'!H488","v":0},null,null,null,null,null,null,null,null,null,null,null,null,null,{"$f":"CONTROL!A231","v":0},null,null,null,{"$f":"CONTROL!B231","v":0},null,null,null,null,null,null,{"$f":"CONTROL!C231","v":0},null,null,null,null,{"$f":"CONTROL!D231","v":0},null,null,null,{"$f":"CONTROL!E231","v":0},null,null,null,null,{"$f":"CONTROL!F231","v":0},null,null,null,null,{"$f":"CONTROL!G231","v":0},null,null,null,{"$f":"CONTROL!H231","v":0}]
[null,null,{"$f":"'PROPERTY MONUMENTS'!B409","v":0},null,null,null,null,null,null,{"$f":"'PROPERTY MONUMENTS'!C409","v":0},null,null,null,null,{"$f":"'PROPERTY MONUMENTS'!D409","v":0},null,null,null,{"$f":"'PROPERTY MONUMENTS'!E409","v":0},null,null,null,null,{"$f":"'PROPERTY MONUMENTS'!F409","v":0},null,null,null,null,null,{"$f":"'PROPERTY MONUMENTS'!H409","v":0},null,null,null,null,null,null,null,null,null,null,null,null,null,{"$f":"'PROPERTY MONUMENTS'!B489","v":0},null,null,null,null,null,null,{"$f":"'PROPERTY MONUMENTS'!C489","v":0},null,null,null,null,{"$f":"'PROPERTY MONUMENTS'!D489","v":0},null,null,null,{"$f":"'PROPERTY MONUMENTS'!E489","v":0},null,null,null,null,null,null,null,null,null,null,{"$f":"'PROPERTY MONUMENTS'!F489","v":0},null,null,null,null,null,{"$f":"'PROPERTY MONUMENTS'!H489","v":0},null,null,null,null,null,null,null,null,null,null,null,null,null,{"$f":"CONTROL!A232","v":0},null,null,null,{"$f":"CONTROL!B232","v":0},null,null,null,null,null,null,{"$f":"CONTROL!C232","v":0},null,null,null,null,{"$f":"CONTROL!D232","v":0},null,null,null,{"$f":"CONTROL!E232","v":0},null,null,null,null,{"$f":"CONTROL!F232","v":0},null,null,null,null,{"$f":"CONTROL!G232","v":0},null,null,null,{"$f":"CONTROL!H232","v":0}]
[null,null,{"$f":"'PROPERTY MONUMENTS'!B410","v":0},null,null,null,null,null,null,{"$f":"'PROPERTY MONUMENTS'!C410","v":0},null,null,null,null,{"$f":"'PROPERTY MONUMENTS'!D410","v":0},null,null,null,{"$f":"'PROPERTY MONUMENTS'!E410","v":0},null,null,null,null,{"$f":"'PROPERTY MONUMENTS'!F410","v":0},null,null,null,null,null,{"$f":"'PROPERTY MONUMENTS'!H410","v":0},null,null,null,null,null,null,null,null,null,null,null,null,null,{"$f":"'PROPERTY MONUMENTS'!B490","v":0},null,null,null,null,null,null,{"$f":"'PROPERTY MONUMENTS'!C490","v":0},null,null,null,null,{"$f":"'PROPERTY MONUMENTS'!D490","v":0},null,null,null,{"$f":"'PROPERTY MONUMENTS'!E490","v":0},null,null,null,null,null,null,null,null,null,null,{"$f":"'PROPERTY MONUMENTS'!F490","v":0},null,null,null,null,null,{"$f":"'PROPERTY MONUMENTS'!H490","v":0},null,null,null,null,null,null,null,null,null,null,null,null,null,{"$f":"CONTROL!A233","v":0},null,null,null,{"$f":"CONTROL!B233","v":0},null,null,null,null,null,null,{"$f":"CONTROL!C233","v":0},null,null,null,null,{"$f":"CONTROL!D233","v":0},null,null,null,{"$f":"CONTROL!E233","v":0},null,null,null,null,{"$f":"CONTROL!F233","v":0},null,null,null,null,{"$f":"CONTROL!G233","v":0},null,null,null,{"$f":"CONTROL!H233","v":0}]
[null,null,{"$f":"'PROPERTY MONUMENTS'!B411","v":0},null,null,null,null,null,null,{"$f":"'PROPERTY MONUMENTS'!C411","v":0},null,null,null,null,{"$f":"'PROPERTY MONUMENTS'!D411","v":0},null,null,null,{"$f":"'PROPERTY MONUMENTS'!E411","v":0},null,null,null,null,{"$f":"'PROPERTY MONUMENTS'!F411","v":0},null,null,null,null,null,{"$f":"'PROPERTY MONUMENTS'!H411","v":0},null,null,null,null,null,null,null,null,null,null,null,null,null,{"$f":"'PROPERTY MONUMENTS'!B491","v":0},null,null,null,null,null,null,{"$f":"'PROPERTY MONUMENTS'!C491","v":0},null,null,null,null,{"$f":"'PROPERTY MONUMENTS'!D491","v":0},null,null,null,{"$f":"'PROPERTY MONUMENTS'!E491","v":0},null,null,null,null,null,null,null,null,null,null,{"$f":"'PROPERTY MONUMENTS'!F491","v":0},null,null,null,null,null,{"$f":"'PROPERTY MONUMENTS'!H491","v":0},null,null,null,null,null,null,null,null,null,null,null,null,null,{"$f":"CONTROL!A234","v":0},null,null,null,{"$f":"CONTROL!B234","v":0},null,null,null,null,null,null,{"$f":"CONTROL!C234","v":0},null,null,null,null,{"$f":"CONTROL!D234","v":0},null,null,null,{"$f":"CONTROL!E234","v":0},null,null,null,null,{"$f":"CONTROL!F234","v":0},null,null,null,null,{"$f":"CONTROL!G234","v":0},null,null,null,{"$f":"CONTROL!H234","v":0}]
[null,null,{"$f":"'PROPERTY MONUMENTS'!B412","v":0},null,null,null,null,null,null,{"$f":"'PROPERTY MONUMENTS'!C412","v":0},null,null,null,null,{"$f":"'PROPERTY MONUMENTS'!D412","v":0},null,null,null,{"$f":"'PROPERTY MONUMENTS'!E412","v":0},null,null,null,null,{"$f":"'PROPERTY MONUMENTS'!F412","v":0},null,null,null,null,null,{"$f":"'PROPERTY MONUMENTS'!H412","v":0},null,null,null,null,null,null,null,null,null,null,null,null,null,{"$f":"'PROPERTY MONUMENTS'!B492","v":0},null,null,null,null,null,null,{"$f":"'PROPERTY MONUMENTS'!C492","v":0},null,null,null,null,{"$f":"'PROPERTY MONUMENTS'!D492","v":0},null,null,null,{"$f":"'PROPERTY MONUMENTS'!E492","v":0},null,null,null,null,null,null,null,null,null,null,{"$f":"'PROPERTY MONUMENTS'!F492","v":0},null,null,null,null,null,{"$f":"'PROPERTY MONUMENTS'!H492","v":0},null,null,null,null,null,null,null,null,null,null,null,null,null,{"$f":"CONTROL!A235","v":0},null,null,null,{"$f":"CONTROL!B235","v":0},null,null,null,null,null,null,{"$f":"CONTROL!C235","v":0},null,null,null,null,{"$f":"CONTROL!D235","v":0},null,null,null,{"$f":"CONTROL!E235","v":0},null,null,null,null,{"$f":"CONTROL!F235","v":0},null,null,null,null,{"$f":"CONTROL!G235","v":0},null,null,null,{"$f":"CONTROL!H235","v":0}]
[null,null,{"$f":"'PROPERTY MONUMENTS'!B413","v":0},null,null,null,null,null,null,{"$f":"'PROPERTY MONUMENTS'!C413","v":0},null,null,null,null,{"$f":"'PROPERTY MONUMENTS'!D413","v":0},null,null,null,{"$f":"'PROPERTY MONUMENTS'!E413","v":0},null,null,null,null,{"$f":"'PROPERTY MONUMENTS'!F413","v":0},null,null,null,null,null,{"$f":"'PROPERTY MONUMENTS'!H413","v":0},null,null,null,null,null,null,null,null,null,null,null,null,null,{"$f":"'PROPERTY MONUMENTS'!B493","v":0},null,null,null,null,null,null,{"$f":"'PROPERTY MONUMENTS'!C493","v":0},null,null,null,null,{"$f":"'PROPERTY MONUMENTS'!D493","v":0},null,null,null,{"$f":"'PROPERTY MONUMENTS'!E493","v":0},null,null,null,null,null,null,null,null,null,null,{"$f":"'PROPERTY MONUMENTS'!F493","v":0},null,null,null,null,null,{"$f":"'PROPERTY MONUMENTS'!H493","v":0},null,null,null,null,null,null,null,null,null,null,null,null,null,{"$f":"CONTROL!A236","v":0},null,null,null,{"$f":"CONTROL!B236","v":0},null,null,null,null,null,null,{"$f":"CONTROL!C236","v":0},null,null,null,null,{"$f":"CONTROL!D236","v":0},null,null,null,{"$f":"CONTROL!E236","v":0},null,null,null,null,{"$f":"CONTROL!F236","v":0},null,null,null,null,{"$f":"CONTROL!G236","v":0},null,null,null,{"$f":"CONTROL!H236","v":0}]
[null,null,{"$f":"'PROPERTY MONUMENTS'!B414","v":0},null,null,null,null,null,null,{"$f":"'PROPERTY MONUMENTS'!C414","v":0},null,null,null,null,{"$f":"'PROPERTY MONUMENTS'!D414","v":0},null,null,null,{"$f":"'PROPERTY MONUMENTS'!E414","v":0},null,null,null,null,{"$f":"'PROPERTY MONUMENTS'!F414","v":0},null,null,null,null,null,{"$f":"'PROPERTY MONUMENTS'!H414","v":0},null,null,null,null,null,null,null,null,null,null,null,null,null,{"$f":"'PROPERTY MONUMENTS'!B494","v":0},null,null,null,null,null,null,{"$f":"'PROPERTY MONUMENTS'!C494","v":0},null,null,null,null,{"$f":"'PROPERTY MONUMENTS'!D494","v":0},null,null,null,{"$f":"'PROPERTY MONUMENTS'!E494","v":0},null,null,null,null,null,null,null,null,null,null,{"$f":"'PROPERTY MONUMENTS'!F494","v":0},null,null,null,null,null,{"$f":"'PROPERTY MONUMENTS'!H494","v":0},null,null,null,null,null,null,null,null,null,null,null,null,null,{"$f":"CONTROL!A237","v":0},null,null,null,{"$f":"CONTROL!B237","v":0},null,null,null,null,null,null,{"$f":"CONTROL!C237","v":0},null,null,null,null,{"$f":"CONTROL!D237","v":0},null,null,null,{"$f":"CONTROL!E237","v":0},null,null,null,null,{"$f":"CONTROL!F237","v":0},null,null,null,null,{"$f":"CONTROL!G237","v":0},null,null,null,{"$f":"CONTROL!H237","v":0}]
[null,null,{"$f":"'PROPERTY MONUMENTS'!B415","v":0},null,null,null,null,null,null,{"$f":"'PROPERTY MONUMENTS'!C415","v":0},null,null,null,null,{"$f":"'PROPERTY MONUMENTS'!D415","v":0},null,null,null,{"$f":"'PROPERTY MONUMENTS'!E415","v":0},null,null,null,null,{"$f":"'PROPERTY MONUMENTS'!F415","v":0},null,null,null,null,null,{"$f":"'PROPERTY MONUMENTS'!H415","v":0},null,null,null,null,null,null,null,null,null,null,null,null,null,{"$f":"'PROPERTY MONUMENTS'!B495","v":0},null,null,null,null,null,null,{"$f":"'PROPERTY MONUMENTS'!C495","v":0},null,null,null,null,{"$f":"'PROPERTY MONUMENTS'!D495","v":0},null,null,null,{"$f":"'PROPERTY MONUMENTS'!E495","v":0},null,null,null,null,null,null,null,null,null,null,{"$f":"'PROPERTY MONUMENTS'!F495","v":0},null,null,null,null,null,{"$f":"'PROPERTY MONUMENTS'!H495","v":0},null,null,null,null,null,null,null,null,null,null,null,null,null,{"$f":"CONTROL!A238","v":0},null,null,null,{"$f":"CONTROL!B238","v":0},null,null,null,null,null,null,{"$f":"CONTROL!C238","v":0},null,null,null,null,{"$f":"CONTROL!D238","v":0},null,null,null,{"$f":"CONTROL!E238","v":0},null,null,null,null,{"$f":"CONTROL!F238","v":0},null,null,null,null,{"$f":"CONTROL!G238","v":0},null,null,null,{"$f":"CONTROL!H238","v":0}]
[null,null,{"$f":"'PROPERTY MONUMENTS'!B416","v":0},null,null,null,null,null,null,{"$f":"'PROPERTY MONUMENTS'!C416","v":0},null,null,null,null,{"$f":"'PROPERTY MONUMENTS'!D416","v":0},null,null,null,{"$f":"'PROPERTY MONUMENTS'!E416","v":0},null,null,null,null,{"$f":"'PROPERTY MONUMENTS'!F416","v":0},null,null,null,null,null,{"$f":"'PROPERTY MONUMENTS'!H416","v":0},null,null,null,null,null,null,null,null,null,null,null,null,null,{"$f":"'PROPERTY MONUMENTS'!B496","v":0},null,null,null,null,null,null,{"$f":"'PROPERTY MONUMENTS'!C496","v":0},null,null,null,null,{"$f":"'PROPERTY MONUMENTS'!D496","v":0},null,null,null,{"$f":"'PROPERTY MONUMENTS'!E496","v":0},null,null,null,null,null,null,null,null,null,null,{"$f":"'PROPERTY MONUMENTS'!F496","v":0},null,null,null,null,null,{"$f":"'PROPERTY MONUMENTS'!H496","v":0},null,null,null,null,null,null,null,null,null,null,null,null,null,{"$f":"CONTROL!A239","v":0},null,null,null,{"$f":"CONTROL!B239","v":0},null,null,null,null,null,null,{"$f":"CONTROL!C239","v":0},null,null,null,null,{"$f":"CONTROL!D239","v":0},null,null,null,{"$f":"CONTROL!E239","v":0},null,null,null,null,{"$f":"CONTROL!F239","v":0},null,null,null,null,{"$f":"CONTROL!G239","v":0},null,null,null,{"$f":"CONTROL!H239","v":0}]
[null,null,{"$f":"'PROPERTY MONUMENTS'!B417","v":0},null,null,null,null,null,null,{"$f":"'PROPERTY MONUMENTS'!C417","v":0},null,null,null,null,{"$f":"'PROPERTY MONUMENTS'!D417","v":0},null,null,null,{"$f":"'PROPERTY MONUMENTS'!E417","v":0},null,null,null,null,{"$f":"'PROPERTY MONUMENTS'!F417","v":0},null,null,null,null,null,{"$f":"'PROPERTY MONUMENTS'!H417","v":0},null,null,null,null,null,null,null,null,null,null,null,null,null,{"$f":"'PROPERTY MONUMENTS'!B497","v":0},null,null,null,null,null,null,{"$f":"'PROPERTY MONUMENTS'!C497","v":0},null,null,null,null,{"$f":"'PROPERTY MONUMENTS'!D497","v":0},null,null,null,{"$f":"'PROPERTY MONUMENTS'!E497","v":0},null,null,null,null,null,null,null,null,null,null,{"$f":"'PROPERTY MONUMENTS'!F497","v":0},null,null,null,null,null,{"$f":"'PROPERTY MONUMENTS'!H497","v":0},null,null,null,null,null,null,null,null,null,null,null,null,null,{"$f":"CONTROL!A240","v":0},null,null,null,{"$f":"CONTROL!B240","v":0},null,null,null,null,null,null,{"$f":"CONTROL!C240","v":0},null,null,null,null,{"$f":"CONTROL!D240","v":0},null,null,null,{"$f":"CONTROL!E240","v":0},null,null,null,null,{"$f":"CONTROL!F240","v":0},null,null,null,null,{"$f":"CONTROL!G240","v":0},null,null,null,{"$f":"CONTROL!H240","v":0}]
[null,null,{"$f":"'PROPERTY MONUMENTS'!B418","v":0},null,null,null,null,null,null,{"$f":"'PROPERTY MONUMENTS'!C418","v":0},null,null,null,null,{"$f":"'PROPERTY MONUMENTS'!D418","v":0},null,null,null,{"$f":"'PROPERTY MONUMENTS'!E418","v":0},null,null,null,null,{"$f":"'PROPERTY MONUMENTS'!F418","v":0},null,null,null,null,null,{"$f":"'PROPERTY MONUMENTS'!H418","v":0},null,null,null,null,null,null,null,null,null,null,null,null,null,{"$f":"'PROPERTY MONUMENTS'!B498","v":0},null,null,null,null,null,null,{"$f":"'PROPERTY MONUMENTS'!C498","v":0},null,null,null,null,{"$f":"'PROPERTY MONUMENTS'!D498","v":0},null,null,null,{"$f":"'PROPERTY MONUMENTS'!E498","v":0},null,null,null,null,null,null,null,null,null,null,{"$f":"'PROPERTY MONUMENTS'!F498","v":0},null,null,null,null,null,{"$f":"'PROPERTY MONUMENTS'!H498","v":0},null,null,null,null,null,null,null,null,null,null,null,null,null,{"$f":"CONTROL!A241","v":0},null,null,null,{"$f":"CONTROL!B241","v":0},null,null,null,null,null,null,{"$f":"CONTROL!C241","v":0},null,null,null,null,{"$f":"CONTROL!D241","v":0},null,null,null,{"$f":"CONTROL!E241","v":0},null,null,null,null,{"$f":"CONTROL!F241","v":0},null,null,null,null,{"$f":"CONTROL!G241","v":0},null,null,null,{"$f":"CONTROL!H241","v":0}]
[null,null,{"$f":"'PROPERTY MONUMENTS'!B419","v":0},null,null,null,null,null,null,{"$f":"'PROPERTY MONUMENTS'!C419","v":0},null,null,null,null,{"$f":"'PROPERTY MONUMENTS'!D419","v":0},null,null,null,{"$f":"'PROPERTY MONUMENTS'!E419","v":0},null,null,null,null,{"$f":"'PROPERTY MONUMENTS'!F419","v":0},null,null,null,null,null,{"$f":"'PROPERTY MONUMENTS'!H419","v":0},null,null,null,null,null,null,null,null,null,null,null,null,null,{"$f":"'PROPERTY MONUMENTS'!B499","v":0},null,null,null,null,null,null,{"$f":"'PROPERTY MONUMENTS'!C499","v":0},null,null,null,null,{"$f":"'PROPERTY MONUMENTS'!D499","v":0},null,null,null,{"$f":"'PROPERTY MONUMENTS'!E499","v":0},null,null,null,null,null,null,null,null,null,null,{"$f":"'PROPERTY MONUMENTS'!F499","v":0},null,null,null,null,null,{"$f":"'PROPERTY MONUMENTS'!H499","v":0},null,null,null,null,null,null,null,null,null,null,null,null,null,{"$f":"CONTROL!A242","v":0},null,null,null,{"$f":"CONTROL!B242","v":0},null,null,null,null,null,null,{"$f":"CONTROL!C242","v":0},null,null,null,null,{"$f":"CONTROL!D242","v":0},null,null,null,{"$f":"CONTROL!E242","v":0},null,null,null,null,{"$f":"CONTROL!F242","v":0},null,null,null,null,{"$f":"CONTROL!G242","v":0},null,null,null,{"$f":"CONTROL!H242","v":0}]
[null,null,{"$f":"'PROPERTY MONUMENTS'!B420","v":0},null,null,null,null,null,null,{"$f":"'PROPERTY MONUMENTS'!C420","v":0},null,null,null,null,{"$f":"'PROPERTY MONUMENTS'!D420","v":0},null,null,null,{"$f":"'PROPERTY MONUMENTS'!E420","v":0},null,null,null,null,{"$f":"'PROPERTY MONUMENTS'!F420","v":0},null,null,null,null,null,{"$f":"'PROPERTY MONUMENTS'!H420","v":0},null,null,null,null,null,null,null,null,null,null,null,null,null,{"$f":"'PROPERTY MONUMENTS'!B500","v":0},null,null,null,null,null,null,{"$f":"'PROPERTY MONUMENTS'!C500","v":0},null,null,null,null,{"$f":"'PROPERTY MONUMENTS'!D500","v":0},null,null,null,{"$f":"'PROPERTY MONUMENTS'!E500","v":0},null,null,null,null,null,null,null,null,null,null,{"$f":"'PROPERTY MONUMENTS'!F500","v":0},null,null,null,null,null,{"$f":"'PROPERTY MONUMENTS'!H500","v":0},null,null,null,null,null,null,null,null,null,null,null,null,null,{"$f":"CONTROL!A243","v":0},null,null,null,{"$f":"CONTROL!B243","v":0},null,null,null,null,null,null,{"$f":"CONTROL!C243","v":0},null,null,null,null,{"$f":"CONTROL!D243","v":0},null,null,null,{"$f":"CONTROL!E243","v":0},null,null,null,null,{"$f":"CONTROL!F243","v":0},null,null,null,null,{"$f":"CONTROL!G243","v":0},null,null,null,{"$f":"CONTROL!H243","v":0}]
[null,null,{"$f":"'PROPERTY MONUMENTS'!B421","v":0},null,null,null,null,null,null,{"$f":"'PROPERTY MONUMENTS'!C421","v":0},null,null,null,null,{"$f":"'PROPERTY MONUMENTS'!D421","v":0},null,null,null,{"$f":"'PROPERTY MONUMENTS'!E421","v":0},null,null,null,null,{"$f":"'PROPERTY MONUMENTS'!F421","v":0},null,null,null,null,null,{"$f":"'PROPERTY MONUMENTS'!H421","v":0},null,null,null,null,null,null,null,null,null,null,null,null,null,{"$f":"'PROPERTY MONUMENTS'!B501","v":0},null,null,null,null,null,null,{"$f":"'PROPERTY MONUMENTS'!C501","v":0},null,null,null,null,{"$f":"'PROPERTY MONUMENTS'!D501","v":0},null,null,null,{"$f":"'PROPERTY MONUMENTS'!E501","v":0},null,null,null,null,null,null,null,null,null,null,{"$f":"'PROPERTY MONUMENTS'!F501","v":0},null,null,null,null,null,{"$f":"'PROPERTY MONUMENTS'!H501","v":0},null,null,null,null,null,null,null,null,null,null,null,null,null,{"$f":"CONTROL!A244","v":0},null,null,null,{"$f":"CONTROL!B244","v":0},null,null,null,null,null,null,{"$f":"CONTROL!C244","v":0},null,null,null,null,{"$f":"CONTROL!D244","v":0},null,null,null,{"$f":"CONTROL!E244","v":0},null,null,null,null,{"$f":"CONTROL!F244","v":0},null,null,null,null,{"$f":"CONTROL!G244","v":0},null,null,null,{"$f":"CONTROL!H244","v":0}]
[null,null,{"$f":"'PROPERTY MONUMENTS'!B422","v":0},null,null,null,null,null,null,{"$f":"'PROPERTY MONUMENTS'!C422","v":0},null,null,null,null,{"$f":"'PROPERTY MONUMENTS'!D422","v":0},null,null,null,{"$f":"'PROPERTY MONUMENTS'!E422","v":0},null,null,null,null,{"$f":"'PROPERTY MONUMENTS'!F422","v":0},null,null,null,null,null,{"$f":"'PROPERTY MONUMENTS'!H422","v":0},null,null,null,null,null,null,null,null,null,null,null,null,null,{"$f":"'PROPERTY MONUMENTS'!B502","v":0},null,null,null,null,null,null,{"$f":"'PROPERTY MONUMENTS'!C502","v":0},null,null,null,null,{"$f":"'PROPERTY MONUMENTS'!D502","v":0},null,null,null,{"$f":"'PROPERTY MONUMENTS'!E502","v":0},null,null,null,null,null,null,null,null,null,null,{"$f":"'PROPERTY MONUMENTS'!F502","v":0},null,null,null,null,null,{"$f":"'PROPERTY MONUMENTS'!H502","v":0},null,null,null,null,null,null,null,null,null,null,null,null,null,{"$f":"CONTROL!A245","v":0},null,null,null,{"$f":"CONTROL!B245","v":0},null,null,null,null,null,null,{"$f":"CONTROL!C245","v":0},null,null,null,null,{"$f":"CONTROL!D245","v":0},null,null,null,{"$f":"CONTROL!E245","v":0},null,null,null,null,{"$f":"CONTROL!F245","v":0},null,null,null,null,{"$f":"CONTROL!G245","v":0},null,null,null,{"$f":"CONTROL!H245","v":0}]
[null,null,{"$f":"'PROPERTY MONUMENTS'!B423","v":0},null,null,null,null,null,null,{"$f":"'PROPERTY MONUMENTS'!C423","v":0},null,null,null,null,{"$f":"'PROPERTY MONUMENTS'!D423","v":0},null,null,null,{"$f":"'PROPERTY MONUMENTS'!E423","v":0},null,null,null,null,{"$f":"'PROPERTY MONUMENTS'!F423","v":0},null,null,null,null,null,{"$f":"'PROPERTY MONUMENTS'!H423","v":0},null,null,null,null,null,null,null,null,null,null,null,null,null,{"$f":"'PROPERTY MONUMENTS'!B503","v":0},null,null,null,null,null,null,{"$f":"'PROPERTY MONUMENTS'!C503","v":0},null,null,null,null,{"$f":"'PROPERTY MONUMENTS'!D503","v":0},null,null,null,{"$f":"'PROPERTY MONUMENTS'!E503","v":0},null,null,null,null,null,null,null,null,null,null,{"$f":"'PROPERTY MONUMENTS'!F503","v":0},null,null,null,null,null,{"$f":"'PROPERTY MONUMENTS'!H503","v":0},null,null,null,null,null,null,null,null,null,null,null,null,null,{"$f":"CONTROL!A246","v":0},null,null,null,{"$f":"CONTROL!B246","v":0},null,null,null,null,null,null,{"$f":"CONTROL!C246","v":0},null,null,null,null,{"$f":"CONTROL!D246","v":0},null,null,null,{"$f":"CONTROL!E246","v":0},null,null,null,null,{"$f":"CONTROL!F246","v":0},null,null,null,null,{"$f":"CONTROL!G246","v":0},null,null,null,{"$f":"CONTROL!H246","v":0}]
[null,null,{"$f":"'PROPERTY MONUMENTS'!B424","v":0},null,null,null,null,null,null,{"$f":"'PROPERTY MONUMENTS'!C424","v":0},null,null,null,null,{"$f":"'PROPERTY MONUMENTS'!D424","v":0},null,null,null,{"$f":"'PROPERTY MONUMENTS'!E424","v":0},null,null,null,null,{"$f":"'PROPERTY MONUMENTS'!F424","v":0},null,null,null,null,null,{"$f":"'PROPERTY MONUMENTS'!H424","v":0},null,null,null,null,null,null,null,null,null,null,null,null,null,{"$f":"'PROPERTY MONUMENTS'!B504","v":0},null,null,null,null,null,null,{"$f":"'PROPERTY MONUMENTS'!C504","v":0},null,null,null,null,{"$f":"'PROPERTY MONUMENTS'!D504","v":0},null,null,null,{"$f":"'PROPERTY MONUMENTS'!E504","v":0},null,null,null,null,null,null,null,null,null,null,{"$f":"'PROPERTY MONUMENTS'!F504","v":0},null,null,null,null,null,{"$f":"'PROPERTY MONUMENTS'!H504","v":0},null,null,null,null,null,null,null,null,null,null,null,null,null,{"$f":"CONTROL!A247","v":0},null,null,null,{"$f":"CONTROL!B247","v":0},null,null,null,null,null,null,{"$f":"CONTROL!C247","v":0},null,null,null,null,{"$f":"CONTROL!D247","v":0},null,null,null,{"$f":"CONTROL!E247","v":0},null,null,null,null,{"$f":"CONTROL!F247","v":0},null,null,null,null,{"$f":"CONTROL!G247","v":0},null,null,null,{"$f":"CONTROL!H247","v":0}]
[null,null,{"$f":"'PROPERTY MONUMENTS'!B425","v":0},null,null,null,null,null,null,{"$f":"'PROPERTY MONUMENTS'!C425","v":0},null,null,null,null,{"$f":"'PROPERTY MONUMENTS'!D425","v":0},null,null,null,{"$f":"'PROPERTY MONUMENTS'!E425","v":0},null,null,null,null,{"$f":"'PROPERTY MONUMENTS'!F425","v":0},null,null,null,null,null,{"$f":"'PROPERTY MONUMENTS'!H425","v":0},null,null,null,null,null,null,null,null,null,null,null,null,null,{"$f":"'PROPERTY MONUMENTS'!B505","v":0},null,null,null,null,null,null,{"$f":"'PROPERTY MONUMENTS'!C505","v":0},null,null,null,null,{"$f":"'PROPERTY MONUMENTS'!D505","v":0},null,null,null,{"$f":"'PROPERTY MONUMENTS'!E505","v":0},null,null,null,null,null,null,null,null,null,null,{"$f":"'PROPERTY MONUMENTS'!F505","v":0},null,null,null,null,null,{"$f":"'PROPERTY MONUMENTS'!H505","v":0},null,null,null,null,null,null,null,null,null,null,null,null,null,{"$f":"CONTROL!A248","v":0},null,null,null,{"$f":"CONTROL!B248","v":0},null,null,null,null,null,null,{"$f":"CONTROL!C248","v":0},null,null,null,null,{"$f":"CONTROL!D248","v":0},null,null,null,{"$f":"CONTROL!E248","v":0},null,null,null,null,{"$f":"CONTROL!F248","v":0},null,null,null,null,{"$f":"CONTROL!G248","v":0},null,null,null,{"$f":"CONTROL!H248","v":0}]
[null,null,{"$f":"'PROPERTY MONUMENTS'!B426","v":0},null,null,null,null,null,null,{"$f":"'PROPERTY MONUMENTS'!C426","v":0},null,null,null,null,{"$f":"'PROPERTY MONUMENTS'!D426","v":0},null,null,null,{"$f":"'PROPERTY MONUMENTS'!E426","v":0},null,null,null,null,{"$f":"'PROPERTY MONUMENTS'!F426","v":0},null,null,null,null,null,{"$f":"'PROPERTY MONUMENTS'!H426","v":0},null,null,null,null,null,null,null,null,null,null,null,null,null,{"$f":"'PROPERTY MONUMENTS'!B506","v":0},null,null,null,null,null,null,{"$f":"'PROPERTY MONUMENTS'!C506","v":0},null,null,null,null,{"$f":"'PROPERTY MONUMENTS'!D506","v":0},null,null,null,{"$f":"'PROPERTY MONUMENTS'!E506","v":0},null,null,null,null,null,null,null,null,null,null,{"$f":"'PROPERTY MONUMENTS'!F506","v":0},null,null,null,null,null,{"$f":"'PROPERTY MONUMENTS'!H506","v":0},null,null,null,null,null,null,null,null,null,null,null,null,null,{"$f":"CONTROL!A249","v":0},null,null,null,{"$f":"CONTROL!B249","v":0},null,null,null,null,null,null,{"$f":"CONTROL!C249","v":0},null,null,null,null,{"$f":"CONTROL!D249","v":0},null,null,null,{"$f":"CONTROL!E249","v":0},null,null,null,null,{"$f":"CONTROL!F249","v":0},null,null,null,null,{"$f":"CONTROL!G249","v":0},null,null,null,{"$f":"CONTROL!H249","v":0}]
[null,null,{"$f":"'PROPERTY MONUMENTS'!B427","v":0},null,null,null,null,null,null,{"$f":"'PROPERTY MONUMENTS'!C427","v":0},null,null,null,null,{"$f":"'PROPERTY MONUMENTS'!D427","v":0},null,null,null,{"$f":"'PROPERTY MONUMENTS'!E427","v":0},null,null,null,null,{"$f":"'PROPERTY MONUMENTS'!F427","v":0},null,null,null,null,null,{"$f":"'PROPERTY MONUMENTS'!H427","v":0},null,null,null,null,null,null,null,null,null,null,null,null,null,{"$f":"'PROPERTY MONUMENTS'!B507","v":0},null,null,null,null,null,null,{"$f":"'PROPERTY MONUMENTS'!C507","v":0},null,null,null,null,{"$f":"'PROPERTY MONUMENTS'!D507","v":0},null,null,null,{"$f":"'PROPERTY MONUMENTS'!E507","v":0},null,null,null,null,null,null,null,null,null,null,{"$f":"'PROPERTY MONUMENTS'!F507","v":0},null,null,null,null,null,{"$f":"'PROPERTY MONUMENTS'!H507","v":0},null,null,null,null,null,null,null,null,null,null,null,null,null,{"$f":"CONTROL!A250","v":0},null,null,null,{"$f":"CONTROL!B250","v":0},null,null,null,null,null,null,{"$f":"CONTROL!C250","v":0},null,null,null,null,{"$f":"CONTROL!D250","v":0},null,null,null,{"$f":"CONTROL!E250","v":0},null,null,null,null,{"$f":"CONTROL!F250","v":0},null,null,null,null,{"$f":"CONTROL!G250","v":0},null,null,null,{"$f":"CONTROL!H250","v":0}]
[null,null,{"$f":"'PROPERTY MONUMENTS'!B428","v":0},null,null,null,null,null,null,{"$f":"'PROPERTY MONUMENTS'!C428","v":0},null,null,null,null,{"$f":"'PROPERTY MONUMENTS'!D428","v":0},null,null,null,{"$f":"'PROPERTY MONUMENTS'!E428","v":0},null,null,null,null,{"$f":"'PROPERTY MONUMENTS'!F428","v":0},null,null,null,null,null,{"$f":"'PROPERTY MONUMENTS'!H428","v":0},null,null,null,null,null,null,null,null,null,null,null,null,null,{"$f":"'PROPERTY MONUMENTS'!B508","v":0},null,null,null,null,null,null,{"$f":"'PROPERTY MONUMENTS'!C508","v":0},null,null,null,null,{"$f":"'PROPERTY MONUMENTS'!D508","v":0},null,null,null,{"$f":"'PROPERTY MONUMENTS'!E508","v":0},null,null,null,null,null,null,null,null,null,null,{"$f":"'PROPERTY MONUMENTS'!F508","v":0},null,null,null,null,null,{"$f":"'PROPERTY MONUMENTS'!H508","v":0},null,null,null,null,null,null,null,null,null,null,null,null,null,{"$f":"CONTROL!A251","v":0},null,null,null,{"$f":"CONTROL!B251","v":0},null,null,null,null,null,null,{"$f":"CONTROL!C251","v":0},null,null,null,null,{"$f":"CONTROL!D251","v":0},null,null,null,{"$f":"CONTROL!E251","v":0},null,null,null,null,{"$f":"CONTROL!F251","v":0},null,null,null,null,{"$f":"CONTROL!G251","v":0},null,null,null,{"$f":"CONTROL!H251","v":0}]
[null,null,{"$f":"'PROPERTY MONUMENTS'!B429","v":0},null,null,null,null,null,null,{"$f":"'PROPERTY MONUMENTS'!C429","v":0},null,null,null,null,{"$f":"'PROPERTY MONUMENTS'!D429","v":0},null,null,null,{"$f":"'PROPERTY MONUMENTS'!E429","v":0},null,null,null,null,{"$f":"'PROPERTY MONUMENTS'!F429","v":0},null,null,null,null,null,{"$f":"'PROPERTY MONUMENTS'!H429","v":0},null,null,null,null,null,null,null,null,null,null,null,null,null,{"$f":"'PROPERTY MONUMENTS'!B509","v":0},null,null,null,null,null,null,{"$f":"'PROPERTY MONUMENTS'!C509","v":0},null,null,null,null,{"$f":"'PROPERTY MONUMENTS'!D509","v":0},null,null,null,{"$f":"'PROPERTY MONUMENTS'!E509","v":0},null,null,null,null,null,null,null,null,null,null,{"$f":"'PROPERTY MONUMENTS'!F509","v":0},null,null,null,null,null,{"$f":"'PROPERTY MONUMENTS'!H509","v":0},null,null,null,null,null,null,null,null,null,null,null,null,null,{"$f":"CONTROL!A252","v":0},null,null,null,{"$f":"CONTROL!B252","v":0},null,null,null,null,null,null,{"$f":"CONTROL!C252","v":0},null,null,null,null,{"$f":"CONTROL!D252","v":0},null,null,null,{"$f":"CONTROL!E252","v":0},null,null,null,null,{"$f":"CONTROL!F252","v":0},null,null,null,null,{"$f":"CONTROL!G252","v":0},null,null,null,{"$f":"CONTROL!H252","v":0}]
[null,null,{"$f":"'PROPERTY MONUMENTS'!B430","v":0},null,null,null,null,null,null,{"$f":"'PROPERTY MONUMENTS'!C430","v":0},null,null,null,null,{"$f":"'PROPERTY MONUMENTS'!D430","v":0},null,null,null,{"$f":"'PROPERTY MONUMENTS'!E430","v":0},null,null,null,null,{"$f":"'PROPERTY MONUMENTS'!F430","v":0},null,null,null,null,null,{"$f":"'PROPERTY MONUMENTS'!H430","v":0},null,null,null,null,null,null,null,null,null,null,null,null,null,{"$f":"'PROPERTY MONUMENTS'!B510","v":0},null,null,null,null,null,null,{"$f":"'PROPERTY MONUMENTS'!C510","v":0},null,null,null,null,{"$f":"'PROPERTY MONUMENTS'!D510","v":0},null,null,null,{"$f":"'PROPERTY MONUMENTS'!E510","v":0},null,null,null,null,null,null,null,null,null,null,{"$f":"'PROPERTY MONUMENTS'!F510","v":0},null,null,null,null,null,{"$f":"'PROPERTY MONUMENTS'!H510","v":0},null,null,null,null,null,null,null,null,null,null,null,null,null,{"$f":"CONTROL!A253","v":0},null,null,null,{"$f":"CONTROL!B253","v":0},null,null,null,null,null,null,{"$f":"CONTROL!C253","v":0},null,null,null,null,{"$f":"CONTROL!D253","v":0},null,null,null,{"$f":"CONTROL!E253","v":0},null,null,null,null,{"$f":"CONTROL!F253","v":0},null,null,null,null,{"$f":"CONTROL!G253","v":0},null,null,null,{"$f":"CONTROL!H253","v":0}]
[null,null,{"$f":"'PROPERTY MONUMENTS'!B431","v":0},null,null,null,null,null,null,{"$f":"'PROPERTY MONUMENTS'!C431","v":0},null,null,null,null,{"$f":"'PROPERTY MONUMENTS'!D431","v":0},null,null,null,{"$f":"'PROPERTY MONUMENTS'!E431","v":0},null,null,null,null,{"$f":"'PROPERTY MONUMENTS'!F431","v":0},null,null,null,null,null,{"$f":"'PROPERTY MONUMENTS'!H431","v":0},null,null,null,null,null,null,null,null,null,null,null,null,null,{"$f":"'PROPERTY MONUMENTS'!B511","v":0},null,null,null,null,null,null,{"$f":"'PROPERTY MONUMENTS'!C511","v":0},null,null,null,null,{"$f":"'PROPERTY MONUMENTS'!D511","v":0},null,null,null,{"$f":"'PROPERTY MONUMENTS'!E511","v":0},null,null,null,null,null,null,null,null,null,null,{"$f":"'PROPERTY MONUMENTS'!F511","v":0},null,null,null,null,null,{"$f":"'PROPERTY MONUMENTS'!H511","v":0},null,null,null,null,null,null,null,null,null,null,null,null,null,{"$f":"CONTROL!A254","v":0},null,null,null,{"$f":"CONTROL!B254","v":0},null,null,null,null,null,null,{"$f":"CONTROL!C254","v":0},null,null,null,null,{"$f":"CONTROL!D254","v":0},null,null,null,{"$f":"CONTROL!E254","v":0},null,null,null,null,{"$f":"CONTROL!F254","v":0},null,null,null,null,{"$f":"CONTROL!G254","v":0},null,null,null,{"$f":"CONTROL!H254","v":0}]
[null,null,{"$f":"'PROPERTY MONUMENTS'!B432","v":0},null,null,null,null,null,null,{"$f":"'PROPERTY MONUMENTS'!C432","v":0},null,null,null,null,{"$f":"'PROPERTY MONUMENTS'!D432","v":0},null,null,null,{"$f":"'PROPERTY MONUMENTS'!E432","v":0},null,null,null,null,{"$f":"'PROPERTY MONUMENTS'!F432","v":0},null,null,null,null,null,{"$f":"'PROPERTY MONUMENTS'!H432","v":0},null,null,null,null,null,null,null,null,null,null,null,null,null,{"$f":"'PROPERTY MONUMENTS'!B512","v":0},null,null,null,null,null,null,{"$f":"'PROPERTY MONUMENTS'!C512","v":0},null,null,null,null,{"$f":"'PROPERTY MONUMENTS'!D512","v":0},null,null,null,{"$f":"'PROPERTY MONUMENTS'!E512","v":0},null,null,null,null,null,null,null,null,null,null,{"$f":"'PROPERTY MONUMENTS'!F512","v":0},null,null,null,null,null,{"$f":"'PROPERTY MONUMENTS'!H512","v":0},null,null,null,null,null,null,null,null,null,null,null,null,null,{"$f":"CONTROL!A255","v":0},null,null,null,{"$f":"CONTROL!B255","v":0},null,null,null,null,null,null,{"$f":"CONTROL!C255","v":0},null,null,null,null,{"$f":"CONTROL!D255","v":0},null,null,null,{"$f":"CONTROL!E255","v":0},null,null,null,null,{"$f":"CONTROL!F255","v":0},null,null,null,null,{"$f":"CONTROL!G255","v":0},null,null,null,{"$f":"CONTROL!H255","v":0}]
[null,null,{"$f":"'PROPERTY MONUMENTS'!B433","v":0},null,null,null,null,null,null,{"$f":"'PROPERTY MONUMENTS'!C433","v":0},null,null,null,null,{"$f":"'PROPERTY MONUMENTS'!D433","v":0},null,null,null,{"$f":"'PROPERTY MONUMENTS'!E433","v":0},null,null,null,null,{"$f":"'PROPERTY MONUMENTS'!F433","v":0},null,null,null,null,null,{"$f":"'PROPERTY MONUMENTS'!H433","v":0},null,null,null,null,null,null,null,null,null,null,null,null,null,{"$f":"'PROPERTY MONUMENTS'!B513","v":0},null,null,null,null,null,null,{"$f":"'PROPERTY MONUMENTS'!C513","v":0},null,null,null,null,{"$f":"'PROPERTY MONUMENTS'!D513","v":0},null,null,null,{"$f":"'PROPERTY MONUMENTS'!E513","v":0},null,null,null,null,null,null,null,null,null,null,{"$f":"'PROPERTY MONUMENTS'!F513","v":0},null,null,null,null,null,{"$f":"'PROPERTY MONUMENTS'!H513","v":0},null,null,null,null,null,null,null,null,null,null,null,null,null,{"$f":"CONTROL!A256","v":0},null,null,null,{"$f":"CONTROL!B256","v":0},null,null,null,null,null,null,{"$f":"CONTROL!C256","v":0},null,null,null,null,{"$f":"CONTROL!D256","v":0},null,null,null,{"$f":"CONTROL!E256","v":0},null,null,null,null,{"$f":"CONTROL!F256","v":0},null,null,null,null,{"$f":"CONTROL!G256","v":0},null,null,null,{"$f":"CONTROL!H256","v":0}]
[null,null,{"$f":"'PROPERTY MONUMENTS'!B434","v":0},null,null,null,null,null,null,{"$f":"'PROPERTY MONUMENTS'!C434","v":0},null,null,null,null,{"$f":"'PROPERTY MONUMENTS'!D434","v":0},null,null,null,{"$f":"'PROPERTY MONUMENTS'!E434","v":0},null,null,null,null,{"$f":"'PROPERTY MONUMENTS'!F434","v":0},null,null,null,null,null,{"$f":"'PROPERTY MONUMENTS'!H434","v":0},null,null,null,null,null,null,null,null,null,null,null,null,null,{"$f":"'PROPERTY MONUMENTS'!B514","v":0},null,null,null,null,null,null,{"$f":"'PROPERTY MONUMENTS'!C514","v":0},null,null,null,null,{"$f":"'PROPERTY MONUMENTS'!D514","v":0},null,null,null,{"$f":"'PROPERTY MONUMENTS'!E514","v":0},null,null,null,null,null,null,null,null,null,null,{"$f":"'PROPERTY MONUMENTS'!F514","v":0},null,null,null,null,null,{"$f":"'PROPERTY MONUMENTS'!H514","v":0},null,null,null,null,null,null,null,null,null,null,null,null,null,{"$f":"CONTROL!A257","v":0},null,null,null,{"$f":"CONTROL!B257","v":0},null,null,null,null,null,null,{"$f":"CONTROL!C257","v":0},null,null,null,null,{"$f":"CONTROL!D257","v":0},null,null,null,{"$f":"CONTROL!E257","v":0},null,null,null,null,{"$f":"CONTROL!F257","v":0},null,null,null,null,{"$f":"CONTROL!G257","v":0},null,null,null,{"$f":"CONTROL!H257","v":0}]
[null,null,{"$f":"'PROPERTY MONUMENTS'!B435","v":0},null,null,null,null,null,null,{"$f":"'PROPERTY MONUMENTS'!C435","v":0},null,null,null,null,{"$f":"'PROPERTY MONUMENTS'!D435","v":0},null,null,null,{"$f":"'PROPERTY MONUMENTS'!E435","v":0},null,null,null,null,{"$f":"'PROPERTY MONUMENTS'!F435","v":0},null,null,null,null,null,{"$f":"'PROPERTY MONUMENTS'!H435","v":0},null,null,null,null,null,null,null,null,null,null,null,null,null,{"$f":"'PROPERTY MONUMENTS'!B515","v":0},null,null,null,null,null,null,{"$f":"'PROPERTY MONUMENTS'!C515","v":0},null,null,null,null,{"$f":"'PROPERTY MONUMENTS'!D515","v":0},null,null,null,{"$f":"'PROPERTY MONUMENTS'!E515","v":0},null,null,null,null,null,null,null,null,null,null,{"$f":"'PROPERTY MONUMENTS'!F515","v":0},null,null,null,null,null,{"$f":"'PROPERTY MONUMENTS'!H515","v":0},null,null,null,null,null,null,null,null,null,null,null,null,null,{"$f":"CONTROL!A258","v":0},null,null,null,{"$f":"CONTROL!B258","v":0},null,null,null,null,null,null,{"$f":"CONTROL!C258","v":0},null,null,null,null,{"$f":"CONTROL!D258","v":0},null,null,null,{"$f":"CONTROL!E258","v":0},null,null,null,null,{"$f":"CONTROL!F258","v":0},null,null,null,null,{"$f":"CONTROL!G258","v":0},null,null,null,{"$f":"CONTROL!H258","v":0}]
[null,null,{"$f":"'PROPERTY MONUMENTS'!B436","v":0},null,null,null,null,null,null,{"$f":"'PROPERTY MONUMENTS'!C436","v":0},null,null,null,null,{"$f":"'PROPERTY MONUMENTS'!D436","v":0},null,null,null,{"$f":"'PROPERTY MONUMENTS'!E436","v":0},null,null,null,null,{"$f":"'PROPERTY MONUMENTS'!F436","v":0},null,null,null,null,null,{"$f":"'PROPERTY MONUMENTS'!H436","v":0},null,null,null,null,null,null,null,null,null,null,null,null,null,{"$f":"'PROPERTY MONUMENTS'!B516","v":0},null,null,null,null,null,null,{"$f":"'PROPERTY MONUMENTS'!C516","v":0},null,null,null,null,{"$f":"'PROPERTY MONUMENTS'!D516","v":0},null,null,null,{"$f":"'PROPERTY MONUMENTS'!E516","v":0},null,null,null,null,null,null,null,null,null,null,{"$f":"'PROPERTY MONUMENTS'!F516","v":0},null,null,null,null,null,{"$f":"'PROPERTY MONUMENTS'!H516","v":0},null,null,null,null,null,null,null,null,null,null,null,null,null,{"$f":"CONTROL!A259","v":0},null,null,null,{"$f":"CONTROL!B259","v":0},null,null,null,null,null,null,{"$f":"CONTROL!C259","v":0},null,null,null,null,{"$f":"CONTROL!D259","v":0},null,null,null,{"$f":"CONTROL!E259","v":0},null,null,null,null,{"$f":"CONTROL!F259","v":0},null,null,null,null,{"$f":"CONTROL!G259","v":0},null,null,null,{"$f":"CONTROL!H259","v":0}]
[null,null,{"$f":"'PROPERTY MONUMENTS'!B437","v":0},null,null,null,null,null,null,{"$f":"'PROPERTY MONUMENTS'!C437","v":0},null,null,null,null,{"$f":"'PROPERTY MONUMENTS'!D437","v":0},null,null,null,{"$f":"'PROPERTY MONUMENTS'!E437","v":0},null,null,null,null,{"$f":"'PROPERTY MONUMENTS'!F437","v":0},null,null,null,null,null,{"$f":"'PROPERTY MONUMENTS'!H437","v":0},null,null,null,null,null,null,null,null,null,null,null,null,null,{"$f":"'PROPERTY MONUMENTS'!B517","v":0},null,null,null,null,null,null,{"$f":"'PROPERTY MONUMENTS'!C517","v":0},null,null,null,null,{"$f":"'PROPERTY MONUMENTS'!D517","v":0},null,null,null,{"$f":"'PROPERTY MONUMENTS'!E517","v":0},null,null,null,null,null,null,null,null,null,null,{"$f":"'PROPERTY MONUMENTS'!F517","v":0},null,null,null,null,null,{"$f":"'PROPERTY MONUMENTS'!H517","v":0},null,null,null,null,null,null,null,null,null,null,null,null,null,{"$f":"CONTROL!A260","v":0},null,null,null,{"$f":"CONTROL!B260","v":0},null,null,null,null,null,null,{"$f":"CONTROL!C260","v":0},null,null,null,null,{"$f":"CONTROL!D260","v":0},null,null,null,{"$f":"CONTROL!E260","v":0},null,null,null,null,{"$f":"CONTROL!F260","v":0},null,null,null,null,{"$f":"CONTROL!G260","v":0},null,null,null,{"$f":"CONTROL!H260","v":0}]
[null,null,{"$f":"'PROPERTY MONUMENTS'!B438","v":0},null,null,null,null,null,null,{"$f":"'PROPERTY MONUMENTS'!C438","v":0},null,null,null,null,{"$f":"'PROPERTY MONUMENTS'!D438","v":0},null,null,null,{"$f":"'PROPERTY MONUMENTS'!E438","v":0},null,null,null,null,{"$f":"'PROPERTY MONUMENTS'!F438","v":0},null,null,null,null,null,{"$f":"'PROPERTY MONUMENTS'!H438","v":0},null,null,null,null,null,null,null,null,null,null,null,null,null,{"$f":"'PROPERTY MONUMENTS'!B518","v":0},null,null,null,null,null,null,{"$f":"'PROPERTY MONUMENTS'!C518","v":0},null,null,null,null,{"$f":"'PROPERTY MONUMENTS'!D518","v":0},null,null,null,{"$f":"'PROPERTY MONUMENTS'!E518","v":0},null,null,null,null,null,null,null,null,null,null,{"$f":"'PROPERTY MONUMENTS'!F518","v":0},null,null,null,null,null,{"$f":"'PROPERTY MONUMENTS'!H518","v":0},null,null,null,null,null,null,null,null,null,null,null,null,null,{"$f":"CONTROL!A261","v":0},null,null,null,{"$f":"CONTROL!B261","v":0},null,null,null,null,null,null,{"$f":"CONTROL!C261","v":0},null,null,null,null,{"$f":"CONTROL!D261","v":0},null,null,null,{"$f":"CONTROL!E261","v":0},null,null,null,null,{"$f":"CONTROL!F261","v":0},null,null,null,null,{"$f":"CONTROL!G261","v":0},null,null,null,{"$f":"CONTROL!H261","v":0}]
[null,null,{"$f":"'PROPERTY MONUMENTS'!B439","v":0},null,null,null,null,null,null,{"$f":"'PROPERTY MONUMENTS'!C439","v":0},null,null,null,null,{"$f":"'PROPERTY MONUMENTS'!D439","v":0},null,null,null,{"$f":"'PROPERTY MONUMENTS'!E439","v":0},null,null,null,null,{"$f":"'PROPERTY MONUMENTS'!F439","v":0},null,null,null,null,null,{"$f":"'PROPERTY MONUMENTS'!H439","v":0},null,null,null,null,null,null,null,null,null,null,null,null,null,{"$f":"'PROPERTY MONUMENTS'!B519","v":0},null,null,null,null,null,null,{"$f":"'PROPERTY MONUMENTS'!C519","v":0},null,null,null,null,{"$f":"'PROPERTY MONUMENTS'!D519","v":0},null,null,null,{"$f":"'PROPERTY MONUMENTS'!E519","v":0},null,null,null,null,null,null,null,null,null,null,{"$f":"'PROPERTY MONUMENTS'!F519","v":0},null,null,null,null,null,{"$f":"'PROPERTY MONUMENTS'!H519","v":0},null,null,null,null,null,null,null,null,null,null,null,null,null,{"$f":"CONTROL!A262","v":0},null,null,null,{"$f":"CONTROL!B262","v":0},null,null,null,null,null,null,{"$f":"CONTROL!C262","v":0},null,null,null,null,{"$f":"CONTROL!D262","v":0},null,null,null,{"$f":"CONTROL!E262","v":0},null,null,null,null,{"$f":"CONTROL!F262","v":0},null,null,null,null,{"$f":"CONTROL!G262","v":0},null,null,null,{"$f":"CONTROL!H262","v":0}]
[null,null,{"$f":"'PROPERTY MONUMENTS'!B440","v":0},null,null,null,null,null,null,{"$f":"'PROPERTY MONUMENTS'!C440","v":0},null,null,null,null,{"$f":"'PROPERTY MONUMENTS'!D440","v":0},null,null,null,{"$f":"'PROPERTY MONUMENTS'!E440","v":0},null,null,null,null,{"$f":"'PROPERTY MONUMENTS'!F440","v":0},null,null,null,null,null,{"$f":"'PROPERTY MONUMENTS'!H440","v":0}]
[null,null,{"$f":"'PROPERTY MONUMENTS'!B441","v":0},null,null,null,null,null,null,{"$f":"'PROPERTY MONUMENTS'!C441","v":0},null,null,null,null,{"$f":"'PROPERTY MONUMENTS'!D441","v":0},null,null,null,{"$f":"'PROPERTY MONUMENTS'!E441","v":0},null,null,null,null,{"$f":"'PROPERTY MONUMENTS'!F441","v":0},null,null,null,null,null,{"$f":"'PROPERTY MONUMENTS'!H441","v":0},null,null,null,null,null,null,null,null,"NOTES:",null,null,null,null,null,null,null,null,null,null,null,null,null,null,null,null,null,null,null,null,null,null,null,null,null,null,null,null,null,null,null,null,null,null,null,null,null,null,null,null,null,null,null,null,null,null,null,null,null,null,null,null,null,null,null,null,null,null,null,null,null,null,null,null,"SURVEY CONTROL DATA"]
[null,null,{"$f":"'PROPERTY MONUMENTS'!B442","v":0},null,null,null,null,null,null,{"$f":"'PROPERTY MONUMENTS'!C442","v":0},null,null,null,null,{"$f":"'PROPERTY MONUMENTS'!D442","v":0},null,null,null,{"$f":"'PROPERTY MONUMENTS'!E442","v":0},null,null,null,null,{"$f":"'PROPERTY MONUMENTS'!F442","v":0},null,null,null,null,null,{"$f":"'PROPERTY MONUMENTS'!H442","v":0}]
[null,null,{"$f":"'PROPERTY MONUMENTS'!B443","v":0},null,null,null,null,null,null,{"$f":"'PROPERTY MONUMENTS'!C443","v":0},null,null,null,null,{"$f":"'PROPERTY MONUMENTS'!D443","v":0},null,null,null,{"$f":"'PROPERTY MONUMENTS'!E443","v":0},null,null,null,null,{"$f":"'PROPERTY MONUMENTS'!F443","v":0},null,null,null,null,null,{"$f":"'PROPERTY MONUMENTS'!H443","v":0},null,null,null,null,null,null,null,null,"1. The alignment Station and Offset are referenced to the existing Survey Centerline."]
[null,null,{"$f":"'PROPERTY MONUMENTS'!B444","v":0},null,null,null,null,null,null,{"$f":"'PROPERTY MONUMENTS'!C444","v":0},null,null,null,null,{"$f":"'PROPERTY MONUMENTS'!D444","v":0},null,null,null,{"$f":"'PROPERTY MONUMENTS'!E444","v":0},null,null,null,null,{"$f":"'PROPERTY MONUMENTS'!F444","v":0},null,null,null,null,null,{"$f":"'PROPERTY MONUMENTS'!H444","v":0},null,null,null,null,null,null,null,null,"2. Date of Survey:",null,null,null,null,null,null,null,null,null,null,null,null,null,null,null,null,null,null,null,null,null,null,null,null,null,null,null,null,null,null,null,null,null,null,null,null,null,null,null,null,null,null,null,null,null,"PROJECT DESCRIPTION"]
[null,null,{"$f":"'PROPERTY MONUMENTS'!B445","v":0},null,null,null,null,null,null,{"$f":"'PROPERTY MONUMENTS'!C445","v":0},null,null,null,null,{"$f":"'PROPERTY MONUMENTS'!D445","v":0},null,null,null,{"$f":"'PROPERTY MONUMENTS'!E445","v":0},null,null,null,null,{"$f":"'PROPERTY MONUMENTS'!F445","v":0},null,null,null,null,null,{"$f":"'PROPERTY MONUMENTS'!H445","v":0}]
[null,null,{"$f":"'PROPERTY MONUMENTS'!B446","v":0},null,null,null,null,null,null,{"$f":"'PROPERTY MONUMENTS'!C446","v":0},null,null,null,null,{"$f":"'PROPERTY MONUMENTS'!D446","v":0},null,null,null,{"$f":"'PROPERTY MONUMENTS'!E446","v":0},null,null,null,null,{"$f":"'PROPERTY MONUMENTS'!F446","v":0},null,null,null,null,null,{"$f":"'PROPERTY MONUMENTS'!H446","v":0}]
[null,null,{"$f":"'PROPERTY MONUMENTS'!B447","v":0},null,null,null,null,null,null,{"$f":"'PROPERTY MONUMENTS'!C447","v":0},null,null,null,null,{"$f":"'PROPERTY MONUMENTS'!D447","v":0},null,null,null,{"$f":"'PROPERTY MONUMENTS'!E447","v":0},null,null,null,null,{"$f":"'PROPERTY MONUMENTS'!F447","v":0},null,null,null,null,null,{"$f":"'PROPERTY MONUMENTS'!H447","v":0}]
[null,null,{"$f":"'PROPERTY MONUMENTS'!B448","v":0},null,null,null,null,null,null,{"$f":"'PROPERTY MONUMENTS'!C448","v":0},null,null,null,null,{"$f":"'PROPERTY MONUMENTS'!D448","v":0},null,null,null,{"$f":"'PROPERTY MONUMENTS'!E448","v":0},null,null,null,null,{"$f":"'PROPERTY MONUMENTS'!F448","v":0},null,null,null,null,null,{"$f":"'PROPERTY MONUMENTS'!H448","v":0},null,null,null,null,null,null,null,null,null,null,null,null,null,null,null,null,null,null,null,null,null,null,null,null,null,null,null,null,null,null,null,null,null,null,null,null,null,null,null,null,null,null,null,null,null,null,null,null,null,null,null,null,null,null,"DATUM DESCRIPTION"]
[null,null,{"$f":"'PROPERTY MONUMENTS'!B449","v":0},null,null,null,null,null,null,{"$f":"'PROPERTY MONUMENTS'!C449","v":0},null,null,null,null,{"$f":"'PROPERTY MONUMENTS'!D449","v":0},null,null,null,{"$f":"'PROPERTY MONUMENTS'!E449","v":0},null,null,null,null,{"$f":"'PROPERTY MONUMENTS'!F449","v":0},null,null,null,null,null,{"$f":"'PROPERTY MONUMENTS'!H449","v":0},null,null,null,null,null,null,null,null,null,null,null,null,null,null,null,null,null,null,null,null,null,null,null,null,null,null,null,null,null,null,null,null,null,null,null,null,null,null,null,null,null,null,null,null,null,null,null,null,null,null,null,null,null,null,{"$f":"DATUM!A71","v":"This GRID Coordinate System developed for this project is based on NAD83(2011)  South Carolina State Plane Coordinate System. A Combined Scale Factor (CSF) for each Survey Control Point must be computed and applied to horizontal ground distances. Elevations for this project are based on NAVD88 for  with an Elevation of 0.00"}]
[null,null,{"$f":"'PROPERTY MONUMENTS'!B450","v":0},null,null,null,null,null,null,{"$f":"'PROPERTY MONUMENTS'!C450","v":0},null,null,null,null,{"$f":"'PROPERTY MONUMENTS'!D450","v":0},null,null,null,{"$f":"'PROPERTY MONUMENTS'!E450","v":0},null,null,null,null,{"$f":"'PROPERTY MONUMENTS'!F450","v":0},null,null,null,null,null,{"$f":"'PROPERTY MONUMENTS'!H450","v":0}]
[null,null,{"$f":"'PROPERTY MONUMENTS'!B451","v":0},null,null,null,null,null,null,{"$f":"'PROPERTY MONUMENTS'!C451","v":0},null,null,null,null,{"$f":"'PROPERTY MONUMENTS'!D451","v":0},null,null,null,{"$f":"'PROPERTY MONUMENTS'!E451","v":0},null,null,null,null,{"$f":"'PROPERTY MONUMENTS'!F451","v":0},null,null,null,null,null,{"$f":"'PROPERTY MONUMENTS'!H451","v":0}]
[null,null,{"$f":"'PROPERTY MONUMENTS'!B452","v":0},null,null,null,null,null,null,{"$f":"'PROPERTY MONUMENTS'!C452","v":0},null,null,null,null,{"$f":"'PROPERTY MONUMENTS'!D452","v":0},null,null,null,{"$f":"'PROPERTY MONUMENTS'!E452","v":0},null,null,null,null,{"$f":"'PROPERTY MONUMENTS'!F452","v":0},null,null,null,null,null,{"$f":"'PROPERTY MONUMENTS'!H452","v":0},null,null,null,null,null,null,null,null,"The Property Monuments Found listed on this sheet are assumed to be property corner monuments, field located during "]
[null,null,{"$f":"'PROPERTY MONUMENTS'!B453","v":0},null,null,null,null,null,null,{"$f":"'PROPERTY MONUMENTS'!C453","v":0},null,null,null,null,{"$f":"'PROPERTY MONUMENTS'!D453","v":0},null,null,null,{"$f":"'PROPERTY MONUMENTS'!E453","v":0},null,null,null,null,{"$f":"'PROPERTY MONUMENTS'!F453","v":0},null,null,null,null,null,{"$f":"'PROPERTY MONUMENTS'!H453","v":0},null,null,null,null,null,null,null,null,"the course of this survey. The Department makes no claim that these located monuments are the true position of any "]
[null,null,{"$f":"'PROPERTY MONUMENTS'!B454","v":0},null,null,null,null,null,null,{"$f":"'PROPERTY MONUMENTS'!C454","v":0},null,null,null,null,{"$f":"'PROPERTY MONUMENTS'!D454","v":0},null,null,null,{"$f":"'PROPERTY MONUMENTS'!E454","v":0},null,null,null,null,{"$f":"'PROPERTY MONUMENTS'!F454","v":0},null,null,null,null,null,{"$f":"'PROPERTY MONUMENTS'!H454","v":0},null,null,null,null,null,null,null,null,"property and takes no responsibility for this information being used as such. These monuments are tied to the control of this"]
[null,null,{"$f":"'PROPERTY MONUMENTS'!B455","v":0},null,null,null,null,null,null,{"$f":"'PROPERTY MONUMENTS'!C455","v":0},null,null,null,null,{"$f":"'PROPERTY MONUMENTS'!D455","v":0},null,null,null,{"$f":"'PROPERTY MONUMENTS'!E455","v":0},null,null,null,null,{"$f":"'PROPERTY MONUMENTS'!F455","v":0},null,null,null,null,null,{"$f":"'PROPERTY MONUMENTS'!H455","v":0},null,null,null,null,null,null,null,null,"project in an effort to document and preserve their location in the event they are disturbed or destroyed during the"]
[null,null,{"$f":"'PROPERTY MONUMENTS'!B456","v":0},null,null,null,null,null,null,{"$f":"'PROPERTY MONUMENTS'!C456","v":0},null,null,null,null,{"$f":"'PROPERTY MONUMENTS'!D456","v":0},null,null,null,{"$f":"'PROPERTY MONUMENTS'!E456","v":0},null,null,null,null,{"$f":"'PROPERTY MONUMENTS'!F456","v":0},null,null,null,null,null,{"$f":"'PROPERTY MONUMENTS'!H456","v":0},null,null,null,null,null,null,null,null,"construction of the project."]

{"sheet":"Blank_Data","index":19,"n_rows":0,"n_cols":0,"rows_kept":0,"cut":false,"hidden":false,"merged":[]}

{"sheet":"SCDS 5A Blank","index":20,"n_rows":87,"n_cols":26,"rows_kept":87,"cut":false,"hidden":false,"merged":[[0,0,87,0],[84,8,84,15],[84,16,84,23],[85,8,85,15],[85,16,85,23],[86,8,86,15],[86,16,86,23],[81,8,81,15],[81,16,81,23],[82,8,82,15],[82,16,82,23],[83,8,83,15],[83,16,83,23],[78,8,78,15],[78,16,78,23],[79,8,79,15],[5,24,6,24],[79,16,79,23],[80,8,80,15],[80,16,80,23],[74,8,74,15],[74,16,74,23],[75,8,75,15],[75,16,77,23],[76,8,76,15],[77,8,77,15],[71,8,72,15],[71,16,73,19],[71,20,73,23],[73,8,73,15],[5,13,6,13],[5,14,6,14],[5,20,6,20],[5,21,6,21],[5,22,6,22],[5,23,6,23],[5,6,6,6],[5,8,6,8],[5,9,6,9],[5,10,6,10],[5,11,6,11],[5,15,6,15],[5,17,6,17],[5,18,6,18],[5,19,6,19],[5,12,6,12],[0,21,0,22],[1,21,1,22],[3,1,4,6],[3,8,4,15],[3,17,4,24],[5,1,6,1],[5,2,6,2],[5,3,6,3],[5,4,6,4],[5,5,6,5]]}
[{"$f":"CELL(\"filename\")","v":"C:\\Users\\dawsonmh\\Desktop\\[Survey_Project_Report_ver21.0.xlsm]SUMMARY"},null,null,null,null,null,null,null,null,null,null,null,null,null,null,null,null,null,null,"FED. RD. DIV. NO.","STATE","COUNTY",null,"PROJECT ID","ROAD/ROUTE NO.","SHEET NO."]
[null,null,null,null,null,null,null,null,null,null,null,null,null,null,null,null,null,null,null,3,"SC",null,null,null,null,"5A"]
[]
[null,"PROPERTY MONUMENTS FOUND",null,null,null,null,null,null,"SURVEY CONTROL POINTS",null,null,null,null,null,null,null,null,"PROJECT BENCHMARK"]
[]
[null,"ALIGNMENT","STATION","OFFSET","NORTHING","EASTING","DESCRIPTION",null,"POINT ID","ALIGNMENT","STATION","OFFSET","NORTHING","EASTING","ELEV.","DESCRIPTION",null,"POINT ID","ALIGNMENT","STATION","OFFSET","NORTHING","EASTING","ELEV.","DESCRIPTION"]
[]
[]
[]
[]
[]
[]
[]
[]
[]
[]
[]
[]
[]
[]
[]
[]
[]
[]
[]
[]
[]
[]
[]
[]
[]
[]
[]
[]
[]
[]
[]
[]
[]
[]
[]
[]
[]
[]
[]
[]
[]
[]
[]
[]
[]
[]
[]
[]
[]
[]
[]
[]
[]
[]
[]
[]
[]
[]
[]
[]
[]
[]
[]
[]
[]
[null,null,null,null,null,null,null,null,"NOTES:",null,null,null,null,null,null,null,null,null,null,null,"SURVEY CONTROL DATA"]
[]
[null,null,null,null,null,null,null,null,"1. The alignment Station and Offset are referenced to the existing Survey Centerline."]
[null,null,null,null,null,null,null,null,"2. Date of Survey:",null,null,null,null,null,null,null,"PROJECT DESCRIPTION"]
[]
[]
[]
[null,null,null,null,null,null,null,null,null,null,null,null,null,null,null,null,"DATUM DESCRIPTION"]
[]
[]
[]
[null,null,null,null,null,null,null,null,"The Property Monuments Found listed on this sheet are assumed to be property corner monuments, field located"]
[null,null,null,null,null,null,null,null,"during the course of this survey.  The Department makes no claim that these located monuments are the true position"]
[null,null,null,null,null,null,null,null,"of any property and takes no responsibility for this information being used as such.  These monuments are tied to the"]
[null,null,null,null,null,null,null,null,"control of this project in an effort to document and preserve their location in the event they are disturbed or"]
[null,null,null,null,null,null,null,null,"destroyed during the construction of the project."]

{"sheet":"SCDS 5B Blank","index":21,"n_rows":87,"n_cols":24,"rows_kept":87,"cut":false,"hidden":false,"merged":[[85,8,85,13],[85,14,85,21],[86,8,86,13],[86,14,86,21],[82,8,82,13],[82,14,82,21],[83,8,83,13],[83,14,83,21],[84,8,84,13],[84,14,84,21],[79,8,79,13],[79,14,79,21],[80,8,80,13],[80,14,80,21],[81,8,81,13],[81,14,81,21],[75,8,75,13],[75,14,77,21],[76,8,76,13],[77,8,77,13],[78,8,78,13],[78,14,78,21],[71,8,72,13],[71,14,73,17],[71,18,73,21],[73,8,73,13],[74,8,74,13],[74,14,74,21],[5,17,6,17],[5,18,6,18],[5,19,6,19],[5,20,6,20],[5,21,6,21],[5,11,6,11],[5,12,6,12],[5,13,6,13],[5,15,6,15],[5,16,6,16],[0,0,87,0],[0,19,0,20],[1,19,1,20],[3,1,4,6],[3,8,4,13],[3,15,4,22],[5,1,6,1],[5,2,6,2],[5,3,6,3],[5,4,6,4],[5,5,6,5],[5,6,6,6],[5,8,6,8],[5,9,6,9],[5,10,6,10],[5,22,6,22]]}
[{"$f":"CELL(\"filename\")","v":"C:\\Users\\dawsonmh\\Desktop\\[Survey_Project_Report_ver21.0.xlsm]SUMMARY"},null,null,null,null,null,null,null,null,null,null,null,null,null,null,null,null,"FED. RD. DIV. NO.","STATE","COUNTY",null,"PROJECT ID","ROAD/ROUTE NO.","SHEET NO."]
[null,null,null,null,null,null,null,null,null,null,null,null,null,null,null,null,null,3,"SC",null,null,null,null,"5B"]
[]
[null,"PROPERTY MONUMENTS FOUND",null,null,null,null,null,null,"PROPERTY MONUMENTS FOUND",null,null,null,null,null,null,"SURVEY CONTROL POINTS"]
[]
[null,"ALIGNMENT","STATION","OFFSET","NORTHING","EASTING","DESCRIPTION",null,"ALIGNMENT","STATION","OFFSET","NORTHING","EASTING","DESCRIPTION",null,"POINT ID","ALIGNMENT","STATION","OFFSET","NORTHING","EASTING","ELEV.","DESCRIPTION"]
[]
[]
[]
[]
[]
[]
[]
[]
[]
[]
[]
[]
[]
[]
[]
[]
[]
[]
[]
[]
[]
[]
[]
[]
[]
[]
[]
[]
[]
[]
[]
[]
[]
[]
[]
[]
[]
[]
[]
[]
[]
[]
[]
[]
[]
[]
[]
[]
[]
[]
[]
[]
[]
[]
[]
[]
[]
[]
[]
[]
[]
[]
[]
[]
[]
[null,null,null,null,null,null,null,null,"NOTES:",null,null,null,null,null,null,null,null,null,"SURVEY CONTROL DATA"]
[]
[null,null,null,null,null,null,null,null,"1. The alignment Station and Offset are referenced to the existing Survey Centerline."]
[null,null,null,null,null,null,null,null,"2. Date of Survey:",null,null,null,null,null,"PROJECT DESCRIPTION"]
[]
[]
[]
[null,null,null,null,null,null,null,null,null,null,null,null,null,null,"DATUM DESCRIPTION"]
[]
[]
[]
[null,null,null,null,null,null,null,null,"The Property Monuments Found listed on this sheet are assumed to be property corner monuments, field located"]
[null,null,null,null,null,null,null,null,"during the course of this survey.  The Department makes no claim that these located monuments are the true position"]
[null,null,null,null,null,null,null,null,"of any property and takes no responsibility for this information being used as such.  These monuments are tied to the"]
[null,null,null,null,null,null,null,null,"control of this project in an effort to document and preserve their location in the event they are disturbed or"]
[null,null,null,null,null,null,null,null,"destroyed during the construction of the project."]

{"sheet":"SCDS 5C Blank","index":22,"n_rows":87,"n_cols":24,"rows_kept":87,"cut":false,"hidden":false,"merged":[[84,8,84,13],[84,14,84,21],[85,8,85,13],[85,14,85,21],[86,8,86,13],[86,14,86,21],[81,8,81,13],[81,14,81,21],[82,8,82,13],[82,14,82,21],[83,8,83,13],[83,14,83,21],[78,8,78,13],[78,14,78,21],[79,8,79,13],[79,14,79,21],[80,8,80,13],[80,14,80,21],[74,8,74,13],[74,14,74,21],[75,8,75,13],[75,14,77,21],[76,8,76,13],[77,8,77,13],[5,20,6,20],[5,21,6,21],[5,22,6,22],[71,8,72,13],[71,14,73,17],[71,18,73,21],[73,8,73,13],[5,12,6,12],[5,13,6,13],[5,15,6,15],[5,16,6,16],[5,17,6,17],[5,18,6,18],[5,11,6,11],[0,0,87,0],[0,19,0,20],[1,19,1,20],[3,1,4,6],[3,8,4,13],[3,15,4,22],[5,1,6,1],[5,2,6,2],[5,3,6,3],[5,4,6,4],[5,5,6,5],[5,6,6,6],[5,8,6,8],[5,9,6,9],[5,10,6,10],[5,19,6,19]]}
[{"$f":"CELL(\"filename\")","v":"C:\\Users\\dawsonmh\\Desktop\\[Survey_Project_Report_ver21.0.xlsm]SUMMARY"},null,null,null,null,null,null,null,null,null,null,null,null,null,null,null,null,"FED. RD. DIV. NO.","STATE","COUNTY",null,"PROJECT ID","ROAD/ROUTE NO.","SHEET NO."]
[null,null,null,null,null,null,null,null,null,null,null,null,null,null,null,null,null,3,"SC",null,null,null,null,"5C"]
[]
[null,"PROPERTY MONUMENTS FOUND",null,null,null,null,null,null,"PROPERTY MONUMENTS FOUND",null,null,null,null,null,null,"SURVEY CONTROL POINTS"]
[]
[null,"ALIGNMENT","STATION","OFFSET","NORTHING","EASTING","DESCRIPTION",null,"ALIGNMENT","STATION","OFFSET","NORTHING","EASTING","DESCRIPTION",null,"POINT ID","ALIGNMENT","STATION","OFFSET","NORTHING","EASTING","ELEV.","DESCRIPTION"]
[]
[]
[]
[]
[]
[]
[]
[]
[]
[]
[]
[]
[]
[]
[]
[]
[]
[]
[]
[]
[]
[]
[]
[]
[]
[]
[]
[]
[]
[]
[]
[]
[]
[]
[]
[]
[]
[]
[]
[]
[]
[]
[]
[]
[]
[]
[]
[]
[]
[]
[]
[]
[]
[]
[]
[]
[]
[]
[]
[]
[]
[]
[]
[]
[]
[null,null,null,null,null,null,null,null,"NOTES:",null,null,null,null,null,null,null,null,null,"SURVEY CONTROL DATA"]
[]
[null,null,null,null,null,null,null,null,"1. The alignment Station and Offset are referenced to the existing Survey Centerline."]
[null,null,null,null,null,null,null,null,"2. Date of Survey:",null,null,null,null,null,"PROJECT DESCRIPTION"]
[]
[]
[]
[null,null,null,null,null,null,null,null,null,null,null,null,null,null,"DATUM DESCRIPTION"]
[]
[]
[]
[null,null,null,null,null,null,null,null,"The Property Monuments Found listed on this sheet are assumed to be property corner monuments, field located"]
[null,null,null,null,null,null,null,null,"during the course of this survey.  The Department makes no claim that these located monuments are the true position"]
[null,null,null,null,null,null,null,null,"of any property and takes no responsibility for this information being used as such.  These monuments are tied to the"]
[null,null,null,null,null,null,null,null,"control of this project in an effort to document and preserve their location in the event they are disturbed or"]
[null,null,null,null,null,null,null,null,"destroyed during the construction of the project."]

{"sheet":"SCDS 5D Blank","index":23,"n_rows":87,"n_cols":24,"rows_kept":87,"cut":false,"hidden":false,"merged":[[84,8,84,13],[84,14,84,21],[85,8,85,13],[85,14,85,21],[86,8,86,13],[86,14,86,21],[81,8,81,13],[81,14,81,21],[82,8,82,13],[82,14,82,21],[83,8,83,13],[83,14,83,21],[78,8,78,13],[78,14,78,21],[79,8,79,13],[79,14,79,21],[80,8,80,13],[80,14,80,21],[74,8,74,13],[74,14,74,21],[75,8,75,13],[75,14,77,21],[76,8,76,13],[77,8,77,13],[5,20,6,20],[5,21,6,21],[5,22,6,22],[71,8,72,13],[71,14,73,17],[71,18,73,21],[73,8,73,13],[5,12,6,12],[5,13,6,13],[5,15,6,15],[5,16,6,16],[5,17,6,17],[5,18,6,18],[5,11,6,11],[0,0,87,0],[0,19,0,20],[1,19,1,20],[3,1,4,6],[3,8,4,13],[3,15,4,22],[5,1,6,1],[5,2,6,2],[5,3,6,3],[5,4,6,4],[5,5,6,5],[5,6,6,6],[5,8,6,8],[5,9,6,9],[5,10,6,10],[5,19,6,19]]}
[{"$f":"CELL(\"filename\")","v":"C:\\Users\\dawsonmh\\Desktop\\[Survey_Project_Report_ver21.0.xlsm]SUMMARY"},null,null,null,null,null,null,null,null,null,null,null,null,null,null,null,null,"FED. RD. DIV. NO.","STATE","COUNTY",null,"PROJECT ID","ROAD/ROUTE NO.","SHEET NO."]
[null,null,null,null,null,null,null,null,null,null,null,null,null,null,null,null,null,3,"SC",null,null,null,null,"5D"]
[]
[null,"PROPERTY MONUMENTS FOUND",null,null,null,null,null,null,"PROPERTY MONUMENTS FOUND",null,null,null,null,null,null,"SURVEY CONTROL POINTS"]
[]
[null,"ALIGNMENT","STATION","OFFSET","NORTHING","EASTING","DESCRIPTION",null,"ALIGNMENT","STATION","OFFSET","NORTHING","EASTING","DESCRIPTION",null,"POINT ID","ALIGNMENT","STATION","OFFSET","NORTHING","EASTING","ELEV.","DESCRIPTION"]
[]
[]
[]
[]
[]
[]
[]
[]
[]
[]
[]
[]
[]
[]
[]
[]
[]
[]
[]
[]
[]
[]
[]
[]
[]
[]
[]
[]
[]
[]
[]
[]
[]
[]
[]
[]
[]
[]
[]
[]
[]
[]
[]
[]
[]
[]
[]
[]
[]
[]
[]
[]
[]
[]
[]
[]
[]
[]
[]
[]
[]
[]
[]
[]
[]
[null,null,null,null,null,null,null,null,"NOTES:",null,null,null,null,null,null,null,null,null,"SURVEY CONTROL DATA"]
[]
[null,null,null,null,null,null,null,null,"1. The alignment Station and Offset are referenced to the existing Survey Centerline."]
[null,null,null,null,null,null,null,null,"2. Date of Survey:",null,null,null,null,null,"PROJECT DESCRIPTION"]
[]
[]
[]
[null,null,null,null,null,null,null,null,null,null,null,null,null,null,"DATUM DESCRIPTION"]
[]
[]
[]
[null,null,null,null,null,null,null,null,"The Property Monuments Found listed on this sheet are assumed to be property corner monuments, field located"]
[null,null,null,null,null,null,null,null,"during the course of this survey.  The Department makes no claim that these located monuments are the true position"]
[null,null,null,null,null,null,null,null,"of any property and takes no responsibility for this information being used as such.  These monuments are tied to the"]
[null,null,null,null,null,null,null,null,"control of this project in an effort to document and preserve their location in the event they are disturbed or"]
[null,null,null,null,null,null,null,null,"destroyed during the construction of the project."]